BEGIN:VCALENDAR
VERSION:2.0
PRODID:-//Kirchen zu Putbus - ECPv6.15.20//NONSGML v1.0//EN
CALSCALE:GREGORIAN
METHOD:PUBLISH
X-ORIGINAL-URL:https://kirche-putbus.de
X-WR-CALDESC:Veranstaltungen für Kirchen zu Putbus
REFRESH-INTERVAL;VALUE=DURATION:PT1H
X-Robots-Tag:noindex
X-PUBLISHED-TTL:PT1H
BEGIN:VTIMEZONE
TZID:Europe/Berlin
BEGIN:DAYLIGHT
TZOFFSETFROM:+0100
TZOFFSETTO:+0200
TZNAME:CEST
DTSTART:20220327T010000
END:DAYLIGHT
BEGIN:STANDARD
TZOFFSETFROM:+0200
TZOFFSETTO:+0100
TZNAME:CET
DTSTART:20221030T010000
END:STANDARD
BEGIN:DAYLIGHT
TZOFFSETFROM:+0100
TZOFFSETTO:+0200
TZNAME:CEST
DTSTART:20230326T010000
END:DAYLIGHT
BEGIN:STANDARD
TZOFFSETFROM:+0200
TZOFFSETTO:+0100
TZNAME:CET
DTSTART:20231029T010000
END:STANDARD
BEGIN:DAYLIGHT
TZOFFSETFROM:+0100
TZOFFSETTO:+0200
TZNAME:CEST
DTSTART:20240331T010000
END:DAYLIGHT
BEGIN:STANDARD
TZOFFSETFROM:+0200
TZOFFSETTO:+0100
TZNAME:CET
DTSTART:20241027T010000
END:STANDARD
END:VTIMEZONE
BEGIN:VEVENT
DTSTART;TZID=Europe/Berlin:20230623T173000
DTEND;TZID=Europe/Berlin:20230623T203000
DTSTAMP:20260419T144201
CREATED:20230621T125923Z
LAST-MODIFIED:20230621T125923Z
UID:10000493-1687541400-1687552200@kirche-putbus.de
SUMMARY:Familien-Kino in Zirkow am 23.6.
DESCRIPTION:Familien-Kino am 23.6.\n\n\nfür Familien mit Kindern ab 4 Jahren \nvon 17.30-20.30 Uhr in der Kirche Zirkow \nAbendsegen + Picknick im Grünen + Film  \nfreier Eintritt \nBitte mitbringen: \n\nFamilien-Picknickkorb\, auch mit Getränken\nDecke und/oder Kissen zum Sitzen in der Kirchenbank\n\nIch bitte um Voranmeldung bis 21.6.! \nCaroline Walter
URL:https://kirche-putbus.de/veranstaltung/familien-kino-in-zirkow-am-23-6/
LOCATION:St. Johannes Zirkow\, Putbuser Str. 27\, Zirkow\, 18528\, Deutschland
CATEGORIES:Sonstige Veranstaltungen
ATTACH;FMTTYPE=image/jpeg:https://kirche-putbus.de/wp-content/uploads/2021/10/cinema-strip-gf0f3aee8d_1920-e1635275567813.jpg
END:VEVENT
END:VCALENDAR