BEGIN:VCALENDAR
VERSION:2.0
PRODID:-//Kirchen zu Putbus - ECPv6.15.20//NONSGML v1.0//EN
CALSCALE:GREGORIAN
METHOD:PUBLISH
X-WR-CALNAME:Kirchen zu Putbus
X-ORIGINAL-URL:https://kirche-putbus.de
X-WR-CALDESC:Veranstaltungen für Kirchen zu Putbus
REFRESH-INTERVAL;VALUE=DURATION:PT1H
X-Robots-Tag:noindex
X-PUBLISHED-TTL:PT1H
BEGIN:VTIMEZONE
TZID:Europe/Berlin
BEGIN:DAYLIGHT
TZOFFSETFROM:+0100
TZOFFSETTO:+0200
TZNAME:CEST
DTSTART:20240331T010000
END:DAYLIGHT
BEGIN:STANDARD
TZOFFSETFROM:+0200
TZOFFSETTO:+0100
TZNAME:CET
DTSTART:20241027T010000
END:STANDARD
BEGIN:DAYLIGHT
TZOFFSETFROM:+0100
TZOFFSETTO:+0200
TZNAME:CEST
DTSTART:20250330T010000
END:DAYLIGHT
BEGIN:STANDARD
TZOFFSETFROM:+0200
TZOFFSETTO:+0100
TZNAME:CET
DTSTART:20251026T010000
END:STANDARD
BEGIN:DAYLIGHT
TZOFFSETFROM:+0100
TZOFFSETTO:+0200
TZNAME:CEST
DTSTART:20260329T010000
END:DAYLIGHT
BEGIN:STANDARD
TZOFFSETFROM:+0200
TZOFFSETTO:+0100
TZNAME:CET
DTSTART:20261025T010000
END:STANDARD
END:VTIMEZONE
BEGIN:VEVENT
DTSTART;TZID=Europe/Berlin:20250929T153000
DTEND;TZID=Europe/Berlin:20250929T163000
DTSTAMP:20260420T060436
CREATED:20230915T163029Z
LAST-MODIFIED:20230915T163029Z
UID:10001168-1759159800-1759163400@kirche-putbus.de
SUMMARY:Kinderkreis
DESCRIPTION:Kinderkreis: 1.-6. Klasse: montags von 15.30-16.30 Uhr \n(Abholung vom Hort um 15 Uhr möglich)\, Pfarramt Putbus
URL:https://kirche-putbus.de/veranstaltung/kinderkreis/2025-09-29/
LOCATION:Schlosskirche Putbus\, Alleestraße 34\, Putbus\, M/V\, 18581\, Deutschland
CATEGORIES:Gruppen und Kreise
ATTACH;FMTTYPE=image/jpeg:https://kirche-putbus.de/wp-content/uploads/2019/03/Krabbelgruppe-GuppenbildGarten-600x300.jpg
END:VEVENT
BEGIN:VEVENT
DTSTART;TZID=Europe/Berlin:20250929T183000
DTEND;TZID=Europe/Berlin:20250929T200000
DTSTAMP:20260420T060436
CREATED:20250927T201419Z
LAST-MODIFIED:20250927T201419Z
UID:10000621-1759170600-1759176000@kirche-putbus.de
SUMMARY:Chor in Putbus
DESCRIPTION:Jeden zweiten Montag um 18:30 Uhr treffen wir uns zum fröhlichen Singen im Gemeindehaus Putbus. Dabei widmen wir uns Liedern aus aller Welt\, Gospels\, Spirituals\, moderner und klassischer Kirchenmusik. Jeder\, der Freude am Singen hat\, ist willkommen! \nMusikalische Grüße\,\nCaroline Walter\nDie Termine sind: montags 14-tägig 18.30-20.00 Uhr am 29.9./ 13.10./27.10./10.11./ 24.11./08.12.
URL:https://kirche-putbus.de/veranstaltung/chor-in-kasnevitz-2/2025-09-29/
LOCATION:Schlosskirche Putbus\, Alleestraße 34\, Putbus\, M/V\, 18581\, Deutschland
CATEGORIES:Gruppen und Kreise
ATTACH;FMTTYPE=image/jpeg:https://kirche-putbus.de/wp-content/uploads/2021/09/596724_original_R_by_Thomas-Fresia_pixelio.de_-scaled-e1631012965550.jpg
END:VEVENT
BEGIN:VEVENT
DTSTART;TZID=Europe/Berlin:20251005T103000
DTEND;TZID=Europe/Berlin:20251005T113000
DTSTAMP:20260420T060436
CREATED:20250927T193708Z
LAST-MODIFIED:20250927T193708Z
UID:10001570-1759660200-1759663800@kirche-putbus.de
SUMMARY:Erntedankgottesdienst in Vilmnitz: 16. Sonntag nach Trinitatis
DESCRIPTION: 05. Oktober\, Erntedank  \n10.30 Vilmnitz\, Abendmahlsgottesdienst  \n14.00 Kasnevitz\, Abendmahlsgottesdienst  \nanschließend Kirchenkaffee im Dorfhaus 
URL:https://kirche-putbus.de/veranstaltung/erntedankgottesdienst-in-vilmnitz-16-sonntag-nach-trinitatis/
LOCATION:St. Maria Magdalena Vilmnitz\, Alte Bäderstraße 2\, Putbus OT Vilmnitz\, M/V\, 18581\, Deutschland
CATEGORIES:Gottesdienste
ATTACH;FMTTYPE=image/jpeg:https://kirche-putbus.de/wp-content/uploads/2021/09/Gottesdienst-img-e1630923533347.jpg
END:VEVENT
BEGIN:VEVENT
DTSTART;TZID=Europe/Berlin:20251005T140000
DTEND;TZID=Europe/Berlin:20251005T150000
DTSTAMP:20260420T060436
CREATED:20250927T194436Z
LAST-MODIFIED:20250927T194436Z
UID:10001574-1759672800-1759676400@kirche-putbus.de
SUMMARY:Erntedankgottesdienst in Kasnevitz: 16. Sonntag nach Trinitatis
DESCRIPTION: 05. Oktober\, Erntedank  \n10.30 Vilmnitz\, Abendmahlsgottesdienst  \n14.00 Kasnevitz\, Abendmahlsgottesdienst  \nanschließend Kirchenkaffee im Dorfhaus 
URL:https://kirche-putbus.de/veranstaltung/erntedankgottesdienst-in-kasnevitz-16-sonntag-nach-trinitatis-2/
LOCATION:St. Jakob Kasnevitz\, Dorfstrasse\, Putbus OT Kasnevitz\, M/V\, 18581\, Deutschland
CATEGORIES:Gottesdienste
ATTACH;FMTTYPE=image/jpeg:https://kirche-putbus.de/wp-content/uploads/2021/09/Gottesdienst-img-e1630923533347.jpg
END:VEVENT
END:VCALENDAR