BEGIN:VCALENDAR
VERSION:2.0
PRODID:-//Kirchen zu Putbus - ECPv6.15.20//NONSGML v1.0//EN
CALSCALE:GREGORIAN
METHOD:PUBLISH
X-WR-CALNAME:Kirchen zu Putbus
X-ORIGINAL-URL:https://kirche-putbus.de
X-WR-CALDESC:Veranstaltungen für Kirchen zu Putbus
REFRESH-INTERVAL;VALUE=DURATION:PT1H
X-Robots-Tag:noindex
X-PUBLISHED-TTL:PT1H
BEGIN:VTIMEZONE
TZID:Europe/Berlin
BEGIN:DAYLIGHT
TZOFFSETFROM:+0100
TZOFFSETTO:+0200
TZNAME:CEST
DTSTART:20240331T010000
END:DAYLIGHT
BEGIN:STANDARD
TZOFFSETFROM:+0200
TZOFFSETTO:+0100
TZNAME:CET
DTSTART:20241027T010000
END:STANDARD
BEGIN:DAYLIGHT
TZOFFSETFROM:+0100
TZOFFSETTO:+0200
TZNAME:CEST
DTSTART:20250330T010000
END:DAYLIGHT
BEGIN:STANDARD
TZOFFSETFROM:+0200
TZOFFSETTO:+0100
TZNAME:CET
DTSTART:20251026T010000
END:STANDARD
BEGIN:DAYLIGHT
TZOFFSETFROM:+0100
TZOFFSETTO:+0200
TZNAME:CEST
DTSTART:20260329T010000
END:DAYLIGHT
BEGIN:STANDARD
TZOFFSETFROM:+0200
TZOFFSETTO:+0100
TZNAME:CET
DTSTART:20261025T010000
END:STANDARD
END:VTIMEZONE
BEGIN:VEVENT
DTSTART;TZID=Europe/Berlin:20250825T153000
DTEND;TZID=Europe/Berlin:20250825T163000
DTSTAMP:20260420T023706
CREATED:20230915T163029Z
LAST-MODIFIED:20230915T163029Z
UID:10001163-1756135800-1756139400@kirche-putbus.de
SUMMARY:Kinderkreis
DESCRIPTION:Kinderkreis: 1.-6. Klasse: montags von 15.30-16.30 Uhr \n(Abholung vom Hort um 15 Uhr möglich)\, Pfarramt Putbus
URL:https://kirche-putbus.de/veranstaltung/kinderkreis/2025-08-25/
LOCATION:Schlosskirche Putbus\, Alleestraße 34\, Putbus\, M/V\, 18581\, Deutschland
CATEGORIES:Gruppen und Kreise
ATTACH;FMTTYPE=image/jpeg:https://kirche-putbus.de/wp-content/uploads/2019/03/Krabbelgruppe-GuppenbildGarten-600x300.jpg
END:VEVENT
BEGIN:VEVENT
DTSTART;TZID=Europe/Berlin:20250826T143000
DTEND;TZID=Europe/Berlin:20250826T170000
DTSTAMP:20260420T023706
CREATED:20250722T193611Z
LAST-MODIFIED:20250722T194713Z
UID:10001563-1756218600-1756227600@kirche-putbus.de
SUMMARY:Sommeroase in Schlosskirche Putbus
DESCRIPTION:SOMMEROASE\n\n\nCafé und Begegnungsort im Schlosspark \njeden Dienstag \n14.30-17.00 Uhr \nJuni bis Mitte September \nan der Schlosskirche in Putbus
URL:https://kirche-putbus.de/veranstaltung/sommeroase-in-schlosskirche-putbus/2025-08-26/
LOCATION:Schlosskirche Putbus\, Alleestraße 34\, Putbus\, M/V\, 18581\, Deutschland
CATEGORIES:Sonstige Veranstaltungen
ATTACH;FMTTYPE=image/png:https://kirche-putbus.de/wp-content/uploads/2025/06/image.png
END:VEVENT
BEGIN:VEVENT
DTSTART;TZID=Europe/Berlin:20250827T190000
DTEND;TZID=Europe/Berlin:20250827T200000
DTSTAMP:20260420T023706
CREATED:20230707T042407Z
LAST-MODIFIED:20231107T185104Z
UID:10000616-1756321200-1756324800@kirche-putbus.de
SUMMARY:Chor in Kasnevitz
DESCRIPTION:Jeden Mittwoch um 19 Uhr treffen wir uns zum fröhlichen Singen im Dorfgemeinschaftshaus in Kasnevitz. Dabei widmen wir uns Liedern aus aller Welt\, Gospels\, Spirituals\, moderner und klassischer Kirchenmusik. Jeder\, der Freude am Singen hat\, ist willkommen! \nMusikalische Grüße\,\nKatja Wild\n 
URL:https://kirche-putbus.de/veranstaltung/chor-in-kasnevitz/2025-08-27/
LOCATION:Dorfgemeinschaftshaus Kasnevitz\, Dorfstrasse\, Putbus OT Kasnevitz\, 18581\, Deutschland
CATEGORIES:Gruppen und Kreise
ATTACH;FMTTYPE=image/jpeg:https://kirche-putbus.de/wp-content/uploads/2021/09/596724_original_R_by_Thomas-Fresia_pixelio.de_-scaled-e1631012965550.jpg
END:VEVENT
BEGIN:VEVENT
DTSTART;TZID=Europe/Berlin:20250828T193000
DTEND;TZID=Europe/Berlin:20250828T203000
DTSTAMP:20260420T023706
CREATED:20250627T120144Z
LAST-MODIFIED:20250627T120144Z
UID:10001525-1756409400-1756413000@kirche-putbus.de
SUMMARY:Sommerkonzert in Vilmnitz: Barocke Klänge
DESCRIPTION:28.08.25 Barocke Klänge – Konzert für Cembalo und Flöte\nReinhard Glende – Cembalo / Susanne Seiffert – Flöten
URL:https://kirche-putbus.de/veranstaltung/sommerkonzert-in-vilmnitz-barocke-klaenge-2/
LOCATION:St. Maria Magdalena Vilmnitz\, Alte Bäderstraße 2\, Putbus OT Vilmnitz\, M/V\, 18581\, Deutschland
CATEGORIES:Konzerte
ATTACH;FMTTYPE=image/jpeg:https://kirche-putbus.de/wp-content/uploads/2021/09/Kirche-Vilmnitz-2019-2500px-Foto-Burwitz-Pocha-68-e1630918624158.jpg
END:VEVENT
BEGIN:VEVENT
DTSTART;TZID=Europe/Berlin:20250829T193000
DTEND;TZID=Europe/Berlin:20250829T203000
DTSTAMP:20260420T023706
CREATED:20250627T115445Z
LAST-MODIFIED:20250627T115445Z
UID:10001518-1756495800-1756499400@kirche-putbus.de
SUMMARY:Sommerkonzert in Kasnevitz: ALTER EGO: Bach & Jazz
DESCRIPTION:Freitag\, 29. August | 19.30 Uhr\nBirgitta Flick\, Tenorsaxophon\nAnnekatrin Flick\, Violoncello\nALTER EGO: Bach & Jazz\nImprovisatorische Exkurse um Musik von Johann Sebastian Bach\, Michel Legrand\,\nRoland Kirk u.a.
URL:https://kirche-putbus.de/veranstaltung/sommerkonzert-in-kasnevitz-alter-ego-bach-jazz/
LOCATION:St. Jakob Kasnevitz\, Dorfstrasse\, Putbus OT Kasnevitz\, M/V\, 18581\, Deutschland
CATEGORIES:Konzerte
ATTACH;FMTTYPE=image/jpeg:https://kirche-putbus.de/wp-content/uploads/2021/09/Kirche-Vilmnitz-2019-2500px-Foto-Burwitz-Pocha-68-e1630918624158.jpg
END:VEVENT
BEGIN:VEVENT
DTSTART;TZID=Europe/Berlin:20250831T103000
DTEND;TZID=Europe/Berlin:20250831T113000
DTSTAMP:20260420T023706
CREATED:20250722T180406Z
LAST-MODIFIED:20250722T180406Z
UID:10001539-1756636200-1756639800@kirche-putbus.de
SUMMARY:Gottesdienst Vilmnitz: 11. Sonntag nach Trinitatis
DESCRIPTION:31. August\, 11. Sonntag nach Trinitatis \n10.30 Vilmnitz  \nKanzeltausch „Hoffnung“ und Abendmahl
URL:https://kirche-putbus.de/veranstaltung/gottesdienst-vilmnitz-11-sonntag-nach-trinitatis/
LOCATION:St. Maria Magdalena Vilmnitz\, Alte Bäderstraße 2\, Putbus OT Vilmnitz\, M/V\, 18581\, Deutschland
CATEGORIES:Gottesdienste
ATTACH;FMTTYPE=image/jpeg:https://kirche-putbus.de/wp-content/uploads/2021/09/Gottesdienst-img-e1630923533347.jpg
END:VEVENT
END:VCALENDAR