BEGIN:VCALENDAR
VERSION:2.0
PRODID:-//Kirchen zu Putbus - ECPv6.15.20//NONSGML v1.0//EN
CALSCALE:GREGORIAN
METHOD:PUBLISH
X-ORIGINAL-URL:https://kirche-putbus.de
X-WR-CALDESC:Veranstaltungen für Kirchen zu Putbus
REFRESH-INTERVAL;VALUE=DURATION:PT1H
X-Robots-Tag:noindex
X-PUBLISHED-TTL:PT1H
BEGIN:VTIMEZONE
TZID:Europe/Berlin
BEGIN:DAYLIGHT
TZOFFSETFROM:+0100
TZOFFSETTO:+0200
TZNAME:CEST
DTSTART:20240331T010000
END:DAYLIGHT
BEGIN:STANDARD
TZOFFSETFROM:+0200
TZOFFSETTO:+0100
TZNAME:CET
DTSTART:20241027T010000
END:STANDARD
BEGIN:DAYLIGHT
TZOFFSETFROM:+0100
TZOFFSETTO:+0200
TZNAME:CEST
DTSTART:20250330T010000
END:DAYLIGHT
BEGIN:STANDARD
TZOFFSETFROM:+0200
TZOFFSETTO:+0100
TZNAME:CET
DTSTART:20251026T010000
END:STANDARD
BEGIN:DAYLIGHT
TZOFFSETFROM:+0100
TZOFFSETTO:+0200
TZNAME:CEST
DTSTART:20260329T010000
END:DAYLIGHT
BEGIN:STANDARD
TZOFFSETFROM:+0200
TZOFFSETTO:+0100
TZNAME:CET
DTSTART:20261025T010000
END:STANDARD
END:VTIMEZONE
BEGIN:VEVENT
DTSTART;TZID=Europe/Berlin:20250714T153000
DTEND;TZID=Europe/Berlin:20250714T163000
DTSTAMP:20260420T023919
CREATED:20230915T163029Z
LAST-MODIFIED:20230915T163029Z
UID:10001157-1752507000-1752510600@kirche-putbus.de
SUMMARY:Kinderkreis
DESCRIPTION:Kinderkreis: 1.-6. Klasse: montags von 15.30-16.30 Uhr \n(Abholung vom Hort um 15 Uhr möglich)\, Pfarramt Putbus
URL:https://kirche-putbus.de/veranstaltung/kinderkreis/2025-07-14/
LOCATION:Schlosskirche Putbus\, Alleestraße 34\, Putbus\, M/V\, 18581\, Deutschland
CATEGORIES:Gruppen und Kreise
ATTACH;FMTTYPE=image/jpeg:https://kirche-putbus.de/wp-content/uploads/2019/03/Krabbelgruppe-GuppenbildGarten-600x300.jpg
END:VEVENT
BEGIN:VEVENT
DTSTART;TZID=Europe/Berlin:20250716T190000
DTEND;TZID=Europe/Berlin:20250716T200000
DTSTAMP:20260420T023919
CREATED:20230707T042407Z
LAST-MODIFIED:20231107T185104Z
UID:10000610-1752692400-1752696000@kirche-putbus.de
SUMMARY:Chor in Kasnevitz
DESCRIPTION:Jeden Mittwoch um 19 Uhr treffen wir uns zum fröhlichen Singen im Dorfgemeinschaftshaus in Kasnevitz. Dabei widmen wir uns Liedern aus aller Welt\, Gospels\, Spirituals\, moderner und klassischer Kirchenmusik. Jeder\, der Freude am Singen hat\, ist willkommen! \nMusikalische Grüße\,\nKatja Wild\n 
URL:https://kirche-putbus.de/veranstaltung/chor-in-kasnevitz/2025-07-16/
LOCATION:Dorfgemeinschaftshaus Kasnevitz\, Dorfstrasse\, Putbus OT Kasnevitz\, 18581\, Deutschland
CATEGORIES:Gruppen und Kreise
ATTACH;FMTTYPE=image/jpeg:https://kirche-putbus.de/wp-content/uploads/2021/09/596724_original_R_by_Thomas-Fresia_pixelio.de_-scaled-e1631012965550.jpg
END:VEVENT
BEGIN:VEVENT
DTSTART;TZID=Europe/Berlin:20250717T193000
DTEND;TZID=Europe/Berlin:20250717T203000
DTSTAMP:20260420T023919
CREATED:20250627T120356Z
LAST-MODIFIED:20250627T120356Z
UID:10001527-1752780600-1752784200@kirche-putbus.de
SUMMARY:Sommerkonzert in Vilmnitz: Virtuose Barockmusik
DESCRIPTION:17.07.25 Virtuose Barockmusik – Konzert für Flöte und Orgel\nSusanne Ehrhardt –Flöten / Martin Stephan – Orgel
URL:https://kirche-putbus.de/veranstaltung/sommerkonzert-in-vilmnitz-virtuose-barockmusik-3/
LOCATION:St. Maria Magdalena Vilmnitz\, Alte Bäderstraße 2\, Putbus OT Vilmnitz\, M/V\, 18581\, Deutschland
CATEGORIES:Konzerte
ATTACH;FMTTYPE=image/jpeg:https://kirche-putbus.de/wp-content/uploads/2021/09/Kirche-Vilmnitz-2019-2500px-Foto-Burwitz-Pocha-68-e1630918624158.jpg
END:VEVENT
BEGIN:VEVENT
DTSTART;TZID=Europe/Berlin:20250718T193000
DTEND;TZID=Europe/Berlin:20250718T203000
DTSTAMP:20260420T023919
CREATED:20250627T114907Z
LAST-MODIFIED:20250627T114907Z
UID:10001512-1752867000-1752870600@kirche-putbus.de
SUMMARY:Sommerkonzert in Kasnevitz: „From Jewish Life“
DESCRIPTION:Freitag\, 18. Juli | 19.30 Uhr\nFriederike Fechner\, Violoncello\nMatthias Pech\, Orgel und Klavier\n„From Jewish Life“\nWerke von Ernest Bloch\, Maurice Ravel\,\nMax Bruch u.a.
URL:https://kirche-putbus.de/veranstaltung/sommerkonzert-in-kasnevitz-from-jewish-life/
LOCATION:St. Jakob Kasnevitz\, Dorfstrasse\, Putbus OT Kasnevitz\, M/V\, 18581\, Deutschland
CATEGORIES:Konzerte
ATTACH;FMTTYPE=image/jpeg:https://kirche-putbus.de/wp-content/uploads/2021/09/Kirche-Vilmnitz-2019-2500px-Foto-Burwitz-Pocha-68-e1630918624158.jpg
END:VEVENT
BEGIN:VEVENT
DTSTART;TZID=Europe/Berlin:20250720T103000
DTEND;TZID=Europe/Berlin:20250720T113000
DTSTAMP:20260420T023919
CREATED:20250705T102255Z
LAST-MODIFIED:20250705T102436Z
UID:10001530-1753007400-1753011000@kirche-putbus.de
SUMMARY:Gottesdienst Vilmnitz: 5. Sonntag nach Trinitatis
DESCRIPTION: 20. Juli\, 5. Sonntag nach Trinitatis  \n10.30 Vilmnitz Kanzeltausch „Hoffnung“ 
URL:https://kirche-putbus.de/veranstaltung/gottesdienst-vilmnitz-5-sonntag-nach-trinitatis/
LOCATION:St. Maria Magdalena Vilmnitz\, Alte Bäderstraße 2\, Putbus OT Vilmnitz\, M/V\, 18581\, Deutschland
CATEGORIES:Gottesdienste
ATTACH;FMTTYPE=image/jpeg:https://kirche-putbus.de/wp-content/uploads/2021/09/Gottesdienst-img-e1630923533347.jpg
END:VEVENT
END:VCALENDAR