BEGIN:VCALENDAR
VERSION:2.0
PRODID:-//Kirchen zu Putbus - ECPv6.15.20//NONSGML v1.0//EN
CALSCALE:GREGORIAN
METHOD:PUBLISH
X-WR-CALNAME:Kirchen zu Putbus
X-ORIGINAL-URL:https://kirche-putbus.de
X-WR-CALDESC:Veranstaltungen für Kirchen zu Putbus
REFRESH-INTERVAL;VALUE=DURATION:PT1H
X-Robots-Tag:noindex
X-PUBLISHED-TTL:PT1H
BEGIN:VTIMEZONE
TZID:Europe/Berlin
BEGIN:DAYLIGHT
TZOFFSETFROM:+0100
TZOFFSETTO:+0200
TZNAME:CEST
DTSTART:20240331T010000
END:DAYLIGHT
BEGIN:STANDARD
TZOFFSETFROM:+0200
TZOFFSETTO:+0100
TZNAME:CET
DTSTART:20241027T010000
END:STANDARD
BEGIN:DAYLIGHT
TZOFFSETFROM:+0100
TZOFFSETTO:+0200
TZNAME:CEST
DTSTART:20250330T010000
END:DAYLIGHT
BEGIN:STANDARD
TZOFFSETFROM:+0200
TZOFFSETTO:+0100
TZNAME:CET
DTSTART:20251026T010000
END:STANDARD
BEGIN:DAYLIGHT
TZOFFSETFROM:+0100
TZOFFSETTO:+0200
TZNAME:CEST
DTSTART:20260329T010000
END:DAYLIGHT
BEGIN:STANDARD
TZOFFSETFROM:+0200
TZOFFSETTO:+0100
TZNAME:CET
DTSTART:20261025T010000
END:STANDARD
END:VTIMEZONE
BEGIN:VEVENT
DTSTART;TZID=Europe/Berlin:20250630T153000
DTEND;TZID=Europe/Berlin:20250630T163000
DTSTAMP:20260419T200620
CREATED:20230915T163029Z
LAST-MODIFIED:20230915T163029Z
UID:10001155-1751297400-1751301000@kirche-putbus.de
SUMMARY:Kinderkreis
DESCRIPTION:Kinderkreis: 1.-6. Klasse: montags von 15.30-16.30 Uhr \n(Abholung vom Hort um 15 Uhr möglich)\, Pfarramt Putbus
URL:https://kirche-putbus.de/veranstaltung/kinderkreis/2025-06-30/
LOCATION:Schlosskirche Putbus\, Alleestraße 34\, Putbus\, M/V\, 18581\, Deutschland
CATEGORIES:Gruppen und Kreise
ATTACH;FMTTYPE=image/jpeg:https://kirche-putbus.de/wp-content/uploads/2019/03/Krabbelgruppe-GuppenbildGarten-600x300.jpg
END:VEVENT
BEGIN:VEVENT
DTSTART;TZID=Europe/Berlin:20250702T190000
DTEND;TZID=Europe/Berlin:20250702T200000
DTSTAMP:20260419T200620
CREATED:20230707T042407Z
LAST-MODIFIED:20231107T185104Z
UID:10000608-1751482800-1751486400@kirche-putbus.de
SUMMARY:Chor in Kasnevitz
DESCRIPTION:Jeden Mittwoch um 19 Uhr treffen wir uns zum fröhlichen Singen im Dorfgemeinschaftshaus in Kasnevitz. Dabei widmen wir uns Liedern aus aller Welt\, Gospels\, Spirituals\, moderner und klassischer Kirchenmusik. Jeder\, der Freude am Singen hat\, ist willkommen! \nMusikalische Grüße\,\nKatja Wild\n 
URL:https://kirche-putbus.de/veranstaltung/chor-in-kasnevitz/2025-07-02/
LOCATION:Dorfgemeinschaftshaus Kasnevitz\, Dorfstrasse\, Putbus OT Kasnevitz\, 18581\, Deutschland
CATEGORIES:Gruppen und Kreise
ATTACH;FMTTYPE=image/jpeg:https://kirche-putbus.de/wp-content/uploads/2021/09/596724_original_R_by_Thomas-Fresia_pixelio.de_-scaled-e1631012965550.jpg
END:VEVENT
BEGIN:VEVENT
DTSTART;TZID=Europe/Berlin:20250703T193000
DTEND;TZID=Europe/Berlin:20250703T203000
DTSTAMP:20260419T200620
CREATED:20250627T115708Z
LAST-MODIFIED:20250627T115708Z
UID:10001519-1751571000-1751574600@kirche-putbus.de
SUMMARY:Sommerkonzert in Vilmnitz: „Zeitloses Barock“
DESCRIPTION:03.07.25 Konzert für Trompete und Orgel „Zeitloses Barock“\nHannes Maczey – Trompete / Andreas Kaiser – Orgel
URL:https://kirche-putbus.de/veranstaltung/sommerkonzert-in-vilmnitz-zeitloses-barock/
LOCATION:St. Maria Magdalena Vilmnitz\, Alte Bäderstraße 2\, Putbus OT Vilmnitz\, M/V\, 18581\, Deutschland
CATEGORIES:Konzerte
ATTACH;FMTTYPE=image/jpeg:https://kirche-putbus.de/wp-content/uploads/2021/09/Kirche-Vilmnitz-2019-2500px-Foto-Burwitz-Pocha-68-e1630918624158.jpg
END:VEVENT
BEGIN:VEVENT
DTSTART;TZID=Europe/Berlin:20250704T193000
DTEND;TZID=Europe/Berlin:20250704T203000
DTSTAMP:20260419T200620
CREATED:20250627T114736Z
LAST-MODIFIED:20250627T114736Z
UID:10001510-1751657400-1751661000@kirche-putbus.de
SUMMARY:Sommerkonzert in Kasnevitz: Epochen der Liebe
DESCRIPTION:Freitag\, 4. Juli | 19.30 Uhr\nGreta Behnke\, Gesang\nMaria Gvozdetskaya\, Violine\nDavid Behnke\, Klavier\nEpochen der Liebe: Eine musikalische Reise\nWerke von Dowland\, Monteverdi\, Fauré und Weill
URL:https://kirche-putbus.de/veranstaltung/sommerkonzert-in-kasnevitz-epochen-der-liebe/
LOCATION:St. Jakob Kasnevitz\, Dorfstrasse\, Putbus OT Kasnevitz\, M/V\, 18581\, Deutschland
CATEGORIES:Konzerte
ATTACH;FMTTYPE=image/jpeg:https://kirche-putbus.de/wp-content/uploads/2021/09/Kirche-Vilmnitz-2019-2500px-Foto-Burwitz-Pocha-68-e1630918624158.jpg
END:VEVENT
BEGIN:VEVENT
DTSTART;TZID=Europe/Berlin:20250706T103000
DTEND;TZID=Europe/Berlin:20250706T113000
DTSTAMP:20260419T200620
CREATED:20250705T102119Z
LAST-MODIFIED:20250705T102119Z
UID:10001528-1751797800-1751801400@kirche-putbus.de
SUMMARY:Gottesdienst Kasnevitz: 3. Sonntag nach Trinitatis
DESCRIPTION: 6. Juli\, 3. Sonntag nach Trinitatis  \n10.30 Kasnevitz 
URL:https://kirche-putbus.de/veranstaltung/gottesdienst-kasnevitz-3-sonntag-nach-trinitatis/
LOCATION:St. Jakob Kasnevitz\, Dorfstrasse\, Putbus OT Kasnevitz\, M/V\, 18581\, Deutschland
CATEGORIES:Gottesdienste
ATTACH;FMTTYPE=image/jpeg:https://kirche-putbus.de/wp-content/uploads/2021/09/Gottesdienst-img-e1630923533347.jpg
END:VEVENT
END:VCALENDAR