BEGIN:VCALENDAR
VERSION:2.0
PRODID:-//Kirchen zu Putbus - ECPv6.15.20//NONSGML v1.0//EN
CALSCALE:GREGORIAN
METHOD:PUBLISH
X-ORIGINAL-URL:https://kirche-putbus.de
X-WR-CALDESC:Veranstaltungen für Kirchen zu Putbus
REFRESH-INTERVAL;VALUE=DURATION:PT1H
X-Robots-Tag:noindex
X-PUBLISHED-TTL:PT1H
BEGIN:VTIMEZONE
TZID:Europe/Berlin
BEGIN:DAYLIGHT
TZOFFSETFROM:+0100
TZOFFSETTO:+0200
TZNAME:CEST
DTSTART:20230326T010000
END:DAYLIGHT
BEGIN:STANDARD
TZOFFSETFROM:+0200
TZOFFSETTO:+0100
TZNAME:CET
DTSTART:20231029T010000
END:STANDARD
BEGIN:DAYLIGHT
TZOFFSETFROM:+0100
TZOFFSETTO:+0200
TZNAME:CEST
DTSTART:20240331T010000
END:DAYLIGHT
BEGIN:STANDARD
TZOFFSETFROM:+0200
TZOFFSETTO:+0100
TZNAME:CET
DTSTART:20241027T010000
END:STANDARD
BEGIN:DAYLIGHT
TZOFFSETFROM:+0100
TZOFFSETTO:+0200
TZNAME:CEST
DTSTART:20250330T010000
END:DAYLIGHT
BEGIN:STANDARD
TZOFFSETFROM:+0200
TZOFFSETTO:+0100
TZNAME:CET
DTSTART:20251026T010000
END:STANDARD
END:VTIMEZONE
BEGIN:VEVENT
DTSTART;TZID=Europe/Berlin:20240715T153000
DTEND;TZID=Europe/Berlin:20240715T163000
DTSTAMP:20260421T022954
CREATED:20230915T163029Z
LAST-MODIFIED:20230915T163029Z
UID:10001105-1721057400-1721061000@kirche-putbus.de
SUMMARY:Kinderkreis
DESCRIPTION:Kinderkreis: 1.-6. Klasse: montags von 15.30-16.30 Uhr \n(Abholung vom Hort um 15 Uhr möglich)\, Pfarramt Putbus
URL:https://kirche-putbus.de/veranstaltung/kinderkreis/2024-07-15/
LOCATION:Schlosskirche Putbus\, Alleestraße 34\, Putbus\, M/V\, 18581\, Deutschland
CATEGORIES:Gruppen und Kreise
ATTACH;FMTTYPE=image/jpeg:https://kirche-putbus.de/wp-content/uploads/2019/03/Krabbelgruppe-GuppenbildGarten-600x300.jpg
END:VEVENT
BEGIN:VEVENT
DTSTART;TZID=Europe/Berlin:20240717T190000
DTEND;TZID=Europe/Berlin:20240717T200000
DTSTAMP:20260421T022954
CREATED:20230707T042407Z
LAST-MODIFIED:20231107T185104Z
UID:10000558-1721242800-1721246400@kirche-putbus.de
SUMMARY:Chor in Kasnevitz
DESCRIPTION:Jeden Mittwoch um 19 Uhr treffen wir uns zum fröhlichen Singen im Dorfgemeinschaftshaus in Kasnevitz. Dabei widmen wir uns Liedern aus aller Welt\, Gospels\, Spirituals\, moderner und klassischer Kirchenmusik. Jeder\, der Freude am Singen hat\, ist willkommen! \nMusikalische Grüße\,\nKatja Wild\n 
URL:https://kirche-putbus.de/veranstaltung/chor-in-kasnevitz/2024-07-17/
LOCATION:Dorfgemeinschaftshaus Kasnevitz\, Dorfstrasse\, Putbus OT Kasnevitz\, 18581\, Deutschland
CATEGORIES:Gruppen und Kreise
ATTACH;FMTTYPE=image/jpeg:https://kirche-putbus.de/wp-content/uploads/2021/09/596724_original_R_by_Thomas-Fresia_pixelio.de_-scaled-e1631012965550.jpg
END:VEVENT
BEGIN:VEVENT
DTSTART;TZID=Europe/Berlin:20240718T193000
DTEND;TZID=Europe/Berlin:20240718T203000
DTSTAMP:20260421T022954
CREATED:20240710T080119Z
LAST-MODIFIED:20240710T080119Z
UID:10001415-1721331000-1721334600@kirche-putbus.de
SUMMARY:Sommerkonzert in Vilmnitz: Cello – Solo
DESCRIPTION: 18. 07. Cello – Solo  \n“O Gott\, wer bist Du?“ Hildegard im Zeichen der Zeit  \nChristina Meißner – Weimar\, spielt  \nOriginalmelodien von Hildegard von Bingen und Kompositionen von John Palmer  \n  \n48 Jahre Vilmnitzer – Donnerstagabend -Konzerte 2024 \nMaria Magdalena Kirche zu Vilmnitz – Beginn 19.30 Uhr \nKarten an der Abendkasse
URL:https://kirche-putbus.de/veranstaltung/sommerkonzert-in-vilmnitz-cello-solo/
LOCATION:St. Maria Magdalena Vilmnitz\, Alte Bäderstraße 2\, Putbus OT Vilmnitz\, M/V\, 18581\, Deutschland
CATEGORIES:Konzerte
ATTACH;FMTTYPE=image/jpeg:https://kirche-putbus.de/wp-content/uploads/2021/09/Kirche-Vilmnitz-2019-2500px-Foto-Burwitz-Pocha-68-e1630918624158.jpg
END:VEVENT
BEGIN:VEVENT
DTSTART;TZID=Europe/Berlin:20240719T193000
DTEND;TZID=Europe/Berlin:20240719T203000
DTSTAMP:20260421T022954
CREATED:20240710T081501Z
LAST-MODIFIED:20240710T081501Z
UID:10001425-1721417400-1721421000@kirche-putbus.de
SUMMARY:Sommerkonzert in Kasnevitz: Cello und Saxophon
DESCRIPTION:Freitag\, 19. Juli | 19.30 Uhr  \nAnnekatrin Flick (Cello)  \nBirgitta Flick (Saxophon)  \nAlter ego – J. S. Bach im Dialog  \nmit Improvisation  \n  \nEs ist uns wichtig\, dass jede/jeder die Konzerte besuchen kann. Deshalb ist der Eintritt frei.  \nDennoch sind wir zur Finanzierung der Künstlerhonorare auf Ihre Spenden angewiesen. Vielen Dank! \n 
URL:https://kirche-putbus.de/veranstaltung/sommerkonzert-in-kasnevitz-cello-und-saxophon/
LOCATION:St. Jakob Kasnevitz\, Dorfstrasse\, Putbus OT Kasnevitz\, M/V\, 18581\, Deutschland
CATEGORIES:Konzerte
ATTACH;FMTTYPE=image/jpeg:https://kirche-putbus.de/wp-content/uploads/2021/09/Kirche-Vilmnitz-2019-2500px-Foto-Burwitz-Pocha-68-e1630918624158.jpg
END:VEVENT
BEGIN:VEVENT
DTSTART;TZID=Europe/Berlin:20240721T090000
DTEND;TZID=Europe/Berlin:20240721T100000
DTSTAMP:20260421T022954
CREATED:20240707T055244Z
LAST-MODIFIED:20240707T055244Z
UID:10001411-1721552400-1721556000@kirche-putbus.de
SUMMARY:Gottesdienst in Vilmnitz: 8. So. n. Trinitatis
DESCRIPTION: 21. Juli\, 8. Sonntag nach Trinitatis  \n9.00 Vilmnitz\, Gottesdienst  \n10.30 Putbus\, Gottesdienst 
URL:https://kirche-putbus.de/veranstaltung/gottesdienst-in-vilmnitz-8-so-n-trinitatis/
LOCATION:St. Maria Magdalena Vilmnitz\, Alte Bäderstraße 2\, Putbus OT Vilmnitz\, M/V\, 18581\, Deutschland
CATEGORIES:Gottesdienste
ATTACH;FMTTYPE=image/jpeg:https://kirche-putbus.de/wp-content/uploads/2021/09/Gottesdienst-img-e1630923533347.jpg
END:VEVENT
BEGIN:VEVENT
DTSTART;TZID=Europe/Berlin:20240721T103000
DTEND;TZID=Europe/Berlin:20240721T113000
DTSTAMP:20260421T022954
CREATED:20240707T055136Z
LAST-MODIFIED:20240707T055136Z
UID:10001410-1721557800-1721561400@kirche-putbus.de
SUMMARY:Gottesdienst in Putbus: 8. So. n. Trinitatis
DESCRIPTION: 21. Juli\, 8. Sonntag nach Trinitatis  \n9.00 Vilmnitz\, Gottesdienst  \n10.30 Putbus\, Gottesdienst 
URL:https://kirche-putbus.de/veranstaltung/gottesdienst-in-putbus-8-so-n-trinitatis/
LOCATION:Schlosskirche Putbus\, Alleestraße 34\, Putbus\, M/V\, 18581\, Deutschland
CATEGORIES:Gottesdienste
ATTACH;FMTTYPE=image/jpeg:https://kirche-putbus.de/wp-content/uploads/2021/09/Gottesdienst-img-e1630923533347.jpg
END:VEVENT
END:VCALENDAR