BEGIN:VCALENDAR
VERSION:2.0
PRODID:-//Kirchen zu Putbus - ECPv6.15.20//NONSGML v1.0//EN
CALSCALE:GREGORIAN
METHOD:PUBLISH
X-WR-CALNAME:Kirchen zu Putbus
X-ORIGINAL-URL:https://kirche-putbus.de
X-WR-CALDESC:Veranstaltungen für Kirchen zu Putbus
REFRESH-INTERVAL;VALUE=DURATION:PT1H
X-Robots-Tag:noindex
X-PUBLISHED-TTL:PT1H
BEGIN:VTIMEZONE
TZID:Europe/Berlin
BEGIN:DAYLIGHT
TZOFFSETFROM:+0100
TZOFFSETTO:+0200
TZNAME:CEST
DTSTART:20220327T010000
END:DAYLIGHT
BEGIN:STANDARD
TZOFFSETFROM:+0200
TZOFFSETTO:+0100
TZNAME:CET
DTSTART:20221030T010000
END:STANDARD
BEGIN:DAYLIGHT
TZOFFSETFROM:+0100
TZOFFSETTO:+0200
TZNAME:CEST
DTSTART:20230326T010000
END:DAYLIGHT
BEGIN:STANDARD
TZOFFSETFROM:+0200
TZOFFSETTO:+0100
TZNAME:CET
DTSTART:20231029T010000
END:STANDARD
BEGIN:DAYLIGHT
TZOFFSETFROM:+0100
TZOFFSETTO:+0200
TZNAME:CEST
DTSTART:20240331T010000
END:DAYLIGHT
BEGIN:STANDARD
TZOFFSETFROM:+0200
TZOFFSETTO:+0100
TZNAME:CET
DTSTART:20241027T010000
END:STANDARD
END:VTIMEZONE
BEGIN:VEVENT
DTSTART;TZID=Europe/Berlin:20231127T153000
DTEND;TZID=Europe/Berlin:20231127T163000
DTSTAMP:20260423T233021
CREATED:20230915T163029Z
LAST-MODIFIED:20230915T163029Z
UID:10001072-1701099000-1701102600@kirche-putbus.de
SUMMARY:Kinderkreis
DESCRIPTION:Kinderkreis: 1.-6. Klasse: montags von 15.30-16.30 Uhr \n(Abholung vom Hort um 15 Uhr möglich)\, Pfarramt Putbus
URL:https://kirche-putbus.de/veranstaltung/kinderkreis/2023-11-27/
LOCATION:Schlosskirche Putbus\, Alleestraße 34\, Putbus\, M/V\, 18581\, Deutschland
CATEGORIES:Gruppen und Kreise
ATTACH;FMTTYPE=image/jpeg:https://kirche-putbus.de/wp-content/uploads/2019/03/Krabbelgruppe-GuppenbildGarten-600x300.jpg
END:VEVENT
BEGIN:VEVENT
DTSTART;TZID=Europe/Berlin:20231129T190000
DTEND;TZID=Europe/Berlin:20231129T200000
DTSTAMP:20260423T233021
CREATED:20230707T042407Z
LAST-MODIFIED:20231107T185104Z
UID:10000525-1701284400-1701288000@kirche-putbus.de
SUMMARY:Chor in Kasnevitz
DESCRIPTION:Jeden Mittwoch um 19 Uhr treffen wir uns zum fröhlichen Singen im Dorfgemeinschaftshaus in Kasnevitz. Dabei widmen wir uns Liedern aus aller Welt\, Gospels\, Spirituals\, moderner und klassischer Kirchenmusik. Jeder\, der Freude am Singen hat\, ist willkommen! \nMusikalische Grüße\,\nKatja Wild\n 
URL:https://kirche-putbus.de/veranstaltung/chor-in-kasnevitz/2023-11-29/
LOCATION:Dorfgemeinschaftshaus Kasnevitz\, Dorfstrasse\, Putbus OT Kasnevitz\, 18581\, Deutschland
CATEGORIES:Gruppen und Kreise
ATTACH;FMTTYPE=image/jpeg:https://kirche-putbus.de/wp-content/uploads/2021/09/596724_original_R_by_Thomas-Fresia_pixelio.de_-scaled-e1631012965550.jpg
END:VEVENT
BEGIN:VEVENT
DTSTART;TZID=Europe/Berlin:20231202T133000
DTEND;TZID=Europe/Berlin:20231202T173000
DTSTAMP:20260423T233021
CREATED:20231107T184051Z
LAST-MODIFIED:20231107T184051Z
UID:10001331-1701523800-1701538200@kirche-putbus.de
SUMMARY:Adventsbasar am 2.12. in Putbus
DESCRIPTION:2. Dezember\, 13.30 Uhr Putbus\, Schlosskirche \n\nAm Vorabend des ersten Advents findet unser Adentsbasar in Putbus statt. \n13:30 Krippenspiel der Kita \n14:00 – 17:00 Marktstände mit vorweihnachtlicher Musik von M. Heidtmann\, Posaunenmusik und gemeinsamen Singen \n  \n 
URL:https://kirche-putbus.de/veranstaltung/adventsbasar-am-2-12-in-putbus/
LOCATION:Schlosskirche Putbus\, Alleestraße 34\, Putbus\, M/V\, 18581\, Deutschland
CATEGORIES:Sonstige Veranstaltungen
ATTACH;FMTTYPE=image/jpeg:https://kirche-putbus.de/wp-content/uploads/2023/11/cookies-2991174_1920-e1699382392774.jpg
END:VEVENT
BEGIN:VEVENT
DTSTART;TZID=Europe/Berlin:20231203T103000
DTEND;TZID=Europe/Berlin:20231203T113000
DTSTAMP:20260423T233021
CREATED:20231107T193351Z
LAST-MODIFIED:20231107T193351Z
UID:10001354-1701599400-1701603000@kirche-putbus.de
SUMMARY:Gottesdienst in Putbus: 1.Advent
DESCRIPTION:3. Dezember\, 1.Advent \n10.30 Uhr Putbus\, Gottesdienst  
URL:https://kirche-putbus.de/veranstaltung/gottesdienst-in-putbus-1-advent/
LOCATION:Schlosskirche Putbus\, Alleestraße 34\, Putbus\, M/V\, 18581\, Deutschland
CATEGORIES:Gottesdienste
ATTACH;FMTTYPE=image/jpeg:https://kirche-putbus.de/wp-content/uploads/2021/09/Gottesdienst-img-e1630923533347.jpg
END:VEVENT
END:VCALENDAR