BEGIN:VCALENDAR
VERSION:2.0
PRODID:-//Kirchen zu Putbus - ECPv6.15.20//NONSGML v1.0//EN
CALSCALE:GREGORIAN
METHOD:PUBLISH
X-ORIGINAL-URL:https://kirche-putbus.de
X-WR-CALDESC:Veranstaltungen für Kirchen zu Putbus
REFRESH-INTERVAL;VALUE=DURATION:PT1H
X-Robots-Tag:noindex
X-PUBLISHED-TTL:PT1H
BEGIN:VTIMEZONE
TZID:Europe/Berlin
BEGIN:DAYLIGHT
TZOFFSETFROM:+0100
TZOFFSETTO:+0200
TZNAME:CEST
DTSTART:20220327T010000
END:DAYLIGHT
BEGIN:STANDARD
TZOFFSETFROM:+0200
TZOFFSETTO:+0100
TZNAME:CET
DTSTART:20221030T010000
END:STANDARD
BEGIN:DAYLIGHT
TZOFFSETFROM:+0100
TZOFFSETTO:+0200
TZNAME:CEST
DTSTART:20230326T010000
END:DAYLIGHT
BEGIN:STANDARD
TZOFFSETFROM:+0200
TZOFFSETTO:+0100
TZNAME:CET
DTSTART:20231029T010000
END:STANDARD
BEGIN:DAYLIGHT
TZOFFSETFROM:+0100
TZOFFSETTO:+0200
TZNAME:CEST
DTSTART:20240331T010000
END:DAYLIGHT
BEGIN:STANDARD
TZOFFSETFROM:+0200
TZOFFSETTO:+0100
TZNAME:CET
DTSTART:20241027T010000
END:STANDARD
END:VTIMEZONE
BEGIN:VEVENT
DTSTART;TZID=Europe/Berlin:20231106T153000
DTEND;TZID=Europe/Berlin:20231106T163000
DTSTAMP:20260423T233014
CREATED:20230915T163029Z
LAST-MODIFIED:20230915T163029Z
UID:10001069-1699284600-1699288200@kirche-putbus.de
SUMMARY:Kinderkreis
DESCRIPTION:Kinderkreis: 1.-6. Klasse: montags von 15.30-16.30 Uhr \n(Abholung vom Hort um 15 Uhr möglich)\, Pfarramt Putbus
URL:https://kirche-putbus.de/veranstaltung/kinderkreis/2023-11-06/
LOCATION:Schlosskirche Putbus\, Alleestraße 34\, Putbus\, M/V\, 18581\, Deutschland
CATEGORIES:Gruppen und Kreise
ATTACH;FMTTYPE=image/jpeg:https://kirche-putbus.de/wp-content/uploads/2019/03/Krabbelgruppe-GuppenbildGarten-600x300.jpg
END:VEVENT
BEGIN:VEVENT
DTSTART;TZID=Europe/Berlin:20231108T190000
DTEND;TZID=Europe/Berlin:20231108T200000
DTSTAMP:20260423T233014
CREATED:20230707T042407Z
LAST-MODIFIED:20231107T185104Z
UID:10000522-1699470000-1699473600@kirche-putbus.de
SUMMARY:Chor in Kasnevitz
DESCRIPTION:Jeden Mittwoch um 19 Uhr treffen wir uns zum fröhlichen Singen im Dorfgemeinschaftshaus in Kasnevitz. Dabei widmen wir uns Liedern aus aller Welt\, Gospels\, Spirituals\, moderner und klassischer Kirchenmusik. Jeder\, der Freude am Singen hat\, ist willkommen! \nMusikalische Grüße\,\nKatja Wild\n 
URL:https://kirche-putbus.de/veranstaltung/chor-in-kasnevitz/2023-11-08/
LOCATION:Dorfgemeinschaftshaus Kasnevitz\, Dorfstrasse\, Putbus OT Kasnevitz\, 18581\, Deutschland
CATEGORIES:Gruppen und Kreise
ATTACH;FMTTYPE=image/jpeg:https://kirche-putbus.de/wp-content/uploads/2021/09/596724_original_R_by_Thomas-Fresia_pixelio.de_-scaled-e1631012965550.jpg
END:VEVENT
BEGIN:VEVENT
DTSTART;TZID=Europe/Berlin:20231111T170000
DTEND;TZID=Europe/Berlin:20231111T180000
DTSTAMP:20260423T233014
CREATED:20231107T182034Z
LAST-MODIFIED:20231107T182034Z
UID:10001330-1699722000-1699725600@kirche-putbus.de
SUMMARY:Martinsfest mit Laternenumzug in Putbus
DESCRIPTION:11. November\, 17.00 Uhr Putbus\, Schlosskirche \n\nWir treffen uns vor der Schlosskirche und hören die Legende und singen Lieder. \nDanach gehen wir zum Laternenumzug mit Musik und Reiter durch den Park. \nFür das leibliche Wohl wird gesorgt.
URL:https://kirche-putbus.de/veranstaltung/martinsfest-mit-laternenumzug-in-putbus/
LOCATION:Schlosskirche Putbus\, Alleestraße 34\, Putbus\, M/V\, 18581\, Deutschland
CATEGORIES:Sonstige Veranstaltungen
ATTACH;FMTTYPE=image/png:https://kirche-putbus.de/wp-content/uploads/2022/10/saint-martins-day-g6cb8617f5_1280-e1667207450968.png
END:VEVENT
BEGIN:VEVENT
DTSTART;TZID=Europe/Berlin:20231112T103000
DTEND;TZID=Europe/Berlin:20231112T113000
DTSTAMP:20260423T233014
CREATED:20231104T101320Z
LAST-MODIFIED:20231104T101320Z
UID:10001328-1699785000-1699788600@kirche-putbus.de
SUMMARY:Gottesdienst in Putbus: 23. Sonntag nach Trinitatis
DESCRIPTION:12. November\, 23. Sonntag nach Trinitatis \n10.30 Uhr Putbus\, Gottesdienst
URL:https://kirche-putbus.de/veranstaltung/gottesdienst-in-putbus-23-sonntag-nach-trinitatis/
LOCATION:Schlosskirche Putbus\, Alleestraße 34\, Putbus\, M/V\, 18581\, Deutschland
CATEGORIES:Gottesdienste
ATTACH;FMTTYPE=image/jpeg:https://kirche-putbus.de/wp-content/uploads/2021/09/Gottesdienst-img-e1630923533347.jpg
END:VEVENT
END:VCALENDAR