BEGIN:VCALENDAR
VERSION:2.0
PRODID:-//Kirchen zu Putbus - ECPv6.15.20//NONSGML v1.0//EN
CALSCALE:GREGORIAN
METHOD:PUBLISH
X-WR-CALNAME:Kirchen zu Putbus
X-ORIGINAL-URL:https://kirche-putbus.de
X-WR-CALDESC:Veranstaltungen für Kirchen zu Putbus
REFRESH-INTERVAL;VALUE=DURATION:PT1H
X-Robots-Tag:noindex
X-PUBLISHED-TTL:PT1H
BEGIN:VTIMEZONE
TZID:Europe/Berlin
BEGIN:DAYLIGHT
TZOFFSETFROM:+0100
TZOFFSETTO:+0200
TZNAME:CEST
DTSTART:20220327T010000
END:DAYLIGHT
BEGIN:STANDARD
TZOFFSETFROM:+0200
TZOFFSETTO:+0100
TZNAME:CET
DTSTART:20221030T010000
END:STANDARD
BEGIN:DAYLIGHT
TZOFFSETFROM:+0100
TZOFFSETTO:+0200
TZNAME:CEST
DTSTART:20230326T010000
END:DAYLIGHT
BEGIN:STANDARD
TZOFFSETFROM:+0200
TZOFFSETTO:+0100
TZNAME:CET
DTSTART:20231029T010000
END:STANDARD
BEGIN:DAYLIGHT
TZOFFSETFROM:+0100
TZOFFSETTO:+0200
TZNAME:CEST
DTSTART:20240331T010000
END:DAYLIGHT
BEGIN:STANDARD
TZOFFSETFROM:+0200
TZOFFSETTO:+0100
TZNAME:CET
DTSTART:20241027T010000
END:STANDARD
END:VTIMEZONE
BEGIN:VEVENT
DTSTART;TZID=Europe/Berlin:20230816T190000
DTEND;TZID=Europe/Berlin:20230816T200000
DTSTAMP:20260425T142835
CREATED:20230707T042407Z
LAST-MODIFIED:20231107T185104Z
UID:10000510-1692212400-1692216000@kirche-putbus.de
SUMMARY:Chor in Kasnevitz
DESCRIPTION:Jeden Mittwoch um 19 Uhr treffen wir uns zum fröhlichen Singen im Dorfgemeinschaftshaus in Kasnevitz. Dabei widmen wir uns Liedern aus aller Welt\, Gospels\, Spirituals\, moderner und klassischer Kirchenmusik. Jeder\, der Freude am Singen hat\, ist willkommen! \nMusikalische Grüße\,\nKatja Wild\n 
URL:https://kirche-putbus.de/veranstaltung/chor-in-kasnevitz/2023-08-16/
LOCATION:Dorfgemeinschaftshaus Kasnevitz\, Dorfstrasse\, Putbus OT Kasnevitz\, 18581\, Deutschland
CATEGORIES:Gruppen und Kreise
ATTACH;FMTTYPE=image/jpeg:https://kirche-putbus.de/wp-content/uploads/2021/09/596724_original_R_by_Thomas-Fresia_pixelio.de_-scaled-e1631012965550.jpg
END:VEVENT
BEGIN:VEVENT
DTSTART;TZID=Europe/Berlin:20230817T193000
DTEND;TZID=Europe/Berlin:20230817T210000
DTSTAMP:20260425T142835
CREATED:20230714T162016Z
LAST-MODIFIED:20230714T162016Z
UID:10000779-1692300600-1692306000@kirche-putbus.de
SUMMARY:Sommerkonzert Vilmnitz: “Sachsens Glanz mit Pauken und Trompeten“
DESCRIPTION:17. 08. “Sachsens Glanz mit Pauken und Trompeten“ \nKonzert für 2 Trompeten\, Orgel und Pauken mit dem Ensemble “TOP“ aus Leipzig \nEs erklingt festliche Barockmusik u. a. von Reger\, Bach\, Hertel und Gershwin.
URL:https://kirche-putbus.de/veranstaltung/sommerkonzert-vilmnitz-sachsens-glanz-mit-pauken-und-trompeten/
LOCATION:St. Maria Magdalena Vilmnitz\, Alte Bäderstraße 2\, Putbus OT Vilmnitz\, M/V\, 18581\, Deutschland
CATEGORIES:Konzerte
ATTACH;FMTTYPE=image/jpeg:https://kirche-putbus.de/wp-content/uploads/2021/09/Kirche-Vilmnitz-2019-2500px-Foto-Burwitz-Pocha-68-e1630918624158.jpg
END:VEVENT
BEGIN:VEVENT
DTSTART;TZID=Europe/Berlin:20230818T193000
DTEND;TZID=Europe/Berlin:20230818T210000
DTSTAMP:20260425T142835
CREATED:20230714T160451Z
LAST-MODIFIED:20230714T160451Z
UID:10000772-1692387000-1692392400@kirche-putbus.de
SUMMARY:Sommerkonzert Kasnevitz: Tango porteño - Spurensuche
DESCRIPTION:Freitag\, 18. August | 19.30 Uhr \nTango porteño – Spurensuche \nWerke von Astor Piazzolla\, Garciane Finzi\, Igor Strawinsky\, J.S. Bach u.a. \nTabea Höfer (Violine) \nMarek Stavniak (Akkordeon)
URL:https://kirche-putbus.de/veranstaltung/sommerkonzert-kasnevitz-tango-porteno-spurensuche/
LOCATION:St. Jakob Kasnevitz\, Dorfstrasse\, Putbus OT Kasnevitz\, M/V\, 18581\, Deutschland
CATEGORIES:Konzerte
ATTACH;FMTTYPE=image/jpeg:https://kirche-putbus.de/wp-content/uploads/2021/09/Kirche-Vilmnitz-2019-2500px-Foto-Burwitz-Pocha-68-e1630918624158.jpg
END:VEVENT
BEGIN:VEVENT
DTSTART;TZID=Europe/Berlin:20230820T090000
DTEND;TZID=Europe/Berlin:20230820T100000
DTSTAMP:20260425T142835
CREATED:20230805T082436Z
LAST-MODIFIED:20230805T082436Z
UID:10000788-1692522000-1692525600@kirche-putbus.de
SUMMARY:Gottesdienst in Vilmnitz: 11. Sonntag nach Trinitatis
DESCRIPTION:20. August\,  \n11. Sonntag nach Trinitatis \n9.00 Vilmnitz \n10.30 Putbus
URL:https://kirche-putbus.de/veranstaltung/gottesdienst-in-vilmnitz-11-sonntag-nach-trinitatis/
LOCATION:St. Maria Magdalena Vilmnitz\, Alte Bäderstraße 2\, Putbus OT Vilmnitz\, M/V\, 18581\, Deutschland
CATEGORIES:Gottesdienste
ATTACH;FMTTYPE=image/jpeg:https://kirche-putbus.de/wp-content/uploads/2021/09/Gottesdienst-img-e1630923533347.jpg
END:VEVENT
BEGIN:VEVENT
DTSTART;TZID=Europe/Berlin:20230820T103000
DTEND;TZID=Europe/Berlin:20230820T113000
DTSTAMP:20260425T142835
CREATED:20230805T082404Z
LAST-MODIFIED:20230805T082404Z
UID:10000787-1692527400-1692531000@kirche-putbus.de
SUMMARY:Gottesdienst in Putbus: 11. Sonntag nach Trinitatis
DESCRIPTION:20. August\,  \n11. Sonntag nach Trinitatis \n9.00 Vilmnitz \n10.30 Putbus
URL:https://kirche-putbus.de/veranstaltung/gottesdienst-in-putbus-11-sonntag-nach-trinitatis/
LOCATION:Schlosskirche Putbus\, Alleestraße 34\, Putbus\, M/V\, 18581\, Deutschland
CATEGORIES:Gottesdienste
ATTACH;FMTTYPE=image/jpeg:https://kirche-putbus.de/wp-content/uploads/2021/09/Gottesdienst-img-e1630923533347.jpg
END:VEVENT
END:VCALENDAR