BEGIN:VCALENDAR
VERSION:2.0
PRODID:-//Kirchen zu Putbus - ECPv6.15.20//NONSGML v1.0//EN
CALSCALE:GREGORIAN
METHOD:PUBLISH
X-ORIGINAL-URL:https://kirche-putbus.de
X-WR-CALDESC:Veranstaltungen für Kirchen zu Putbus
REFRESH-INTERVAL;VALUE=DURATION:PT1H
X-Robots-Tag:noindex
X-PUBLISHED-TTL:PT1H
BEGIN:VTIMEZONE
TZID:Europe/Berlin
BEGIN:DAYLIGHT
TZOFFSETFROM:+0100
TZOFFSETTO:+0200
TZNAME:CEST
DTSTART:20220327T010000
END:DAYLIGHT
BEGIN:STANDARD
TZOFFSETFROM:+0200
TZOFFSETTO:+0100
TZNAME:CET
DTSTART:20221030T010000
END:STANDARD
BEGIN:DAYLIGHT
TZOFFSETFROM:+0100
TZOFFSETTO:+0200
TZNAME:CEST
DTSTART:20230326T010000
END:DAYLIGHT
BEGIN:STANDARD
TZOFFSETFROM:+0200
TZOFFSETTO:+0100
TZNAME:CET
DTSTART:20231029T010000
END:STANDARD
BEGIN:DAYLIGHT
TZOFFSETFROM:+0100
TZOFFSETTO:+0200
TZNAME:CEST
DTSTART:20240331T010000
END:DAYLIGHT
BEGIN:STANDARD
TZOFFSETFROM:+0200
TZOFFSETTO:+0100
TZNAME:CET
DTSTART:20241027T010000
END:STANDARD
END:VTIMEZONE
BEGIN:VEVENT
DTSTART;TZID=Europe/Berlin:20230711T150000
DTEND;TZID=Europe/Berlin:20230711T163000
DTSTAMP:20260426T025013
CREATED:20230707T042922Z
LAST-MODIFIED:20230707T042922Z
UID:10000766-1689087600-1689093000@kirche-putbus.de
SUMMARY:Eltern-Kind-Singen am Strand Wreechen
DESCRIPTION:Eltern-Kind-Singen: \nDienstag\, 11.07.\, 15.00 – 16.30 Uhr\, am Strand Wreechen
URL:https://kirche-putbus.de/veranstaltung/eltern-kind-singen-am-strand-wreechen/
LOCATION:Strand Wreechen\, Strand Wreechen\, Putbus\, 18581\, Deutschland
CATEGORIES:Sonstige Veranstaltungen
ATTACH;FMTTYPE=image/jpeg:https://kirche-putbus.de/wp-content/uploads/2021/09/596724_original_R_by_Thomas-Fresia_pixelio.de_-scaled-e1631012965550.jpg
GEO:54.331069;13.467046
X-APPLE-STRUCTURED-LOCATION;VALUE=URI;X-ADDRESS=Strand Wreechen Strand Wreechen Putbus 18581 Deutschland;X-APPLE-RADIUS=500;X-TITLE=Strand Wreechen:geo:13.467046,54.331069
END:VEVENT
BEGIN:VEVENT
DTSTART;TZID=Europe/Berlin:20230712T190000
DTEND;TZID=Europe/Berlin:20230712T200000
DTSTAMP:20260426T025013
CREATED:20230707T042407Z
LAST-MODIFIED:20231107T185104Z
UID:10000505-1689188400-1689192000@kirche-putbus.de
SUMMARY:Chor in Kasnevitz
DESCRIPTION:Jeden Mittwoch um 19 Uhr treffen wir uns zum fröhlichen Singen im Dorfgemeinschaftshaus in Kasnevitz. Dabei widmen wir uns Liedern aus aller Welt\, Gospels\, Spirituals\, moderner und klassischer Kirchenmusik. Jeder\, der Freude am Singen hat\, ist willkommen! \nMusikalische Grüße\,\nKatja Wild\n 
URL:https://kirche-putbus.de/veranstaltung/chor-in-kasnevitz/2023-07-12/
LOCATION:Dorfgemeinschaftshaus Kasnevitz\, Dorfstrasse\, Putbus OT Kasnevitz\, 18581\, Deutschland
CATEGORIES:Gruppen und Kreise
ATTACH;FMTTYPE=image/jpeg:https://kirche-putbus.de/wp-content/uploads/2021/09/596724_original_R_by_Thomas-Fresia_pixelio.de_-scaled-e1631012965550.jpg
END:VEVENT
BEGIN:VEVENT
DTSTART;TZID=Europe/Berlin:20230713T193000
DTEND;TZID=Europe/Berlin:20230713T210000
DTSTAMP:20260426T025013
CREATED:20230714T161531Z
LAST-MODIFIED:20230714T161531Z
UID:10000774-1689276600-1689282000@kirche-putbus.de
SUMMARY:Sommerkonzert Vilmnitz: “Barocke Leichtigkeit“
DESCRIPTION:13. 07. Konzert für Trompete und Orgel \n“Barocke Leichtigkeit“ \nHannes Maczey – Piccolo- und F-Trompete und \nAndreas Kaiser – Orgel\, spielen u. a. Werke von Händel\, \nBach\, Walter\, Corelle und Purcell
URL:https://kirche-putbus.de/veranstaltung/sommerkonzert-vilmnitz-barocke-leichtigkeit/
LOCATION:St. Maria Magdalena Vilmnitz\, Alte Bäderstraße 2\, Putbus OT Vilmnitz\, M/V\, 18581\, Deutschland
CATEGORIES:Konzerte
ATTACH;FMTTYPE=image/jpeg:https://kirche-putbus.de/wp-content/uploads/2021/09/Kirche-Vilmnitz-2019-2500px-Foto-Burwitz-Pocha-68-e1630918624158.jpg
END:VEVENT
BEGIN:VEVENT
DTSTART;TZID=Europe/Berlin:20230714T193000
DTEND;TZID=Europe/Berlin:20230714T210000
DTSTAMP:20260426T025013
CREATED:20230714T155937Z
LAST-MODIFIED:20230714T155937Z
UID:10000767-1689363000-1689368400@kirche-putbus.de
SUMMARY:Sommerkonzert Kasnevitz: Adumá Saxophonquartett
DESCRIPTION:Freitag\, 14. Juli | 19.30 Uhr \nVoices of Winds \namerikanische Saxophonmusik der letzten 150 Jahre Choräle und Tanzsätze wechseln sich mit Anklängen an Heavy Metal und Jazz ab\, romantische Kompositionskunst trifft auf die Musiksprache des mittleren Orients. \nMusik von Alfred Reed\, David Maslanka\, Chris Evan Hass\, Caryl Florio und Jennifer Higdon \n  \nAdumá Saxophonquartett \nIrina Yudaeva (Sopransaxophon) \nChristian Schilf (Altsaxophon) \nYunxi Cheng (Tenorsaxophon) \nKathrin von Kieseritzky (Baritonsaxophon)
URL:https://kirche-putbus.de/veranstaltung/sommerkonzert-kasnevitz-aduma-saxophonquartett/
LOCATION:St. Jakob Kasnevitz\, Dorfstrasse\, Putbus OT Kasnevitz\, M/V\, 18581\, Deutschland
CATEGORIES:Konzerte
ATTACH;FMTTYPE=image/jpeg:https://kirche-putbus.de/wp-content/uploads/2021/09/Kirche-Vilmnitz-2019-2500px-Foto-Burwitz-Pocha-68-e1630918624158.jpg
END:VEVENT
BEGIN:VEVENT
DTSTART;TZID=Europe/Berlin:20230716T090000
DTEND;TZID=Europe/Berlin:20230716T100000
DTSTAMP:20260426T025013
CREATED:20230707T041513Z
LAST-MODIFIED:20230707T041513Z
UID:10000500-1689498000-1689501600@kirche-putbus.de
SUMMARY:Gottesdienst in Kasnevitz: 6. Sonntag nach Trinitatis
DESCRIPTION:16.07. \n6. Sonntag nach Trinitatis \n09.00 Uhr Kasnevitz \n10.30 Uhr Putbus
URL:https://kirche-putbus.de/veranstaltung/gottesdienst-in-kasnevitz-6-sonntag-nach-trinitatis/
LOCATION:St. Jakob Kasnevitz\, Dorfstrasse\, Putbus OT Kasnevitz\, M/V\, 18581\, Deutschland
CATEGORIES:Gottesdienste
ATTACH;FMTTYPE=image/jpeg:https://kirche-putbus.de/wp-content/uploads/2021/09/Gottesdienst-img-e1630923533347.jpg
END:VEVENT
BEGIN:VEVENT
DTSTART;TZID=Europe/Berlin:20230716T103000
DTEND;TZID=Europe/Berlin:20230716T113000
DTSTAMP:20260426T025013
CREATED:20230707T041555Z
LAST-MODIFIED:20230707T041555Z
UID:10000501-1689503400-1689507000@kirche-putbus.de
SUMMARY:Gottesdienst in Putbus: 6. Sonntag nach Trinitatis
DESCRIPTION:16.07. \n6. Sonntag nach Trinitatis \n09.00 Uhr Kasnevitz \n10.30 Uhr Putbus
URL:https://kirche-putbus.de/veranstaltung/gottesdienst-in-putbus-6-sonntag-nach-trinitatis/
LOCATION:Schlosskirche Putbus\, Alleestraße 34\, Putbus\, M/V\, 18581\, Deutschland
CATEGORIES:Gottesdienste
ATTACH;FMTTYPE=image/jpeg:https://kirche-putbus.de/wp-content/uploads/2021/09/Gottesdienst-img-e1630923533347.jpg
END:VEVENT
END:VCALENDAR