BEGIN:VCALENDAR
VERSION:2.0
PRODID:-//Kirchen zu Putbus - ECPv6.15.20//NONSGML v1.0//EN
CALSCALE:GREGORIAN
METHOD:PUBLISH
X-ORIGINAL-URL:https://kirche-putbus.de
X-WR-CALDESC:Veranstaltungen für Kirchen zu Putbus
REFRESH-INTERVAL;VALUE=DURATION:PT1H
X-Robots-Tag:noindex
X-PUBLISHED-TTL:PT1H
BEGIN:VTIMEZONE
TZID:Europe/Berlin
BEGIN:DAYLIGHT
TZOFFSETFROM:+0100
TZOFFSETTO:+0200
TZNAME:CEST
DTSTART:20220327T010000
END:DAYLIGHT
BEGIN:STANDARD
TZOFFSETFROM:+0200
TZOFFSETTO:+0100
TZNAME:CET
DTSTART:20221030T010000
END:STANDARD
BEGIN:DAYLIGHT
TZOFFSETFROM:+0100
TZOFFSETTO:+0200
TZNAME:CEST
DTSTART:20230326T010000
END:DAYLIGHT
BEGIN:STANDARD
TZOFFSETFROM:+0200
TZOFFSETTO:+0100
TZNAME:CET
DTSTART:20231029T010000
END:STANDARD
BEGIN:DAYLIGHT
TZOFFSETFROM:+0100
TZOFFSETTO:+0200
TZNAME:CEST
DTSTART:20240331T010000
END:DAYLIGHT
BEGIN:STANDARD
TZOFFSETFROM:+0200
TZOFFSETTO:+0100
TZNAME:CET
DTSTART:20241027T010000
END:STANDARD
END:VTIMEZONE
BEGIN:VEVENT
DTSTART;TZID=Europe/Berlin:20230706T193000
DTEND;TZID=Europe/Berlin:20230706T210000
DTSTAMP:20260426T011418
CREATED:20230704T162854Z
LAST-MODIFIED:20230704T162854Z
UID:10000497-1688671800-1688677200@kirche-putbus.de
SUMMARY:Sommerkonzert Vilmnitz: Cello Solo
DESCRIPTION:Cello – Solo – “Von Licht und Schatten“ \nChristina Meißner – Weimar\, spielt Werke von Bach\, \nHildegard von Bingen\, Jonathan Harvey u. John Palmer.
URL:https://kirche-putbus.de/veranstaltung/sommerkonzert-vilmnitz-cello-solo/
LOCATION:St. Maria Magdalena Vilmnitz\, Alte Bäderstraße 2\, Putbus OT Vilmnitz\, M/V\, 18581\, Deutschland
CATEGORIES:Konzerte
ATTACH;FMTTYPE=image/jpeg:https://kirche-putbus.de/wp-content/uploads/2021/09/Kirche-Vilmnitz-2019-2500px-Foto-Burwitz-Pocha-68-e1630918624158.jpg
END:VEVENT
BEGIN:VEVENT
DTSTART;TZID=Europe/Berlin:20230707T193000
DTEND;TZID=Europe/Berlin:20230707T210000
DTSTAMP:20260426T011418
CREATED:20230704T162636Z
LAST-MODIFIED:20230704T162636Z
UID:10000496-1688758200-1688763600@kirche-putbus.de
SUMMARY:Sommerkonzert Kasnevitz: Duo Agile
DESCRIPTION:Freitag\, 7. Juli | 19.30 Uhr \nRéunion \nfranzösische\, italienische und deutsche Musik des 17. Jahrhundert \nDuo Agile \nPaulina Kilarska (Cembalo \nWibke Oppermann (Traverso und Blockflöte)
URL:https://kirche-putbus.de/veranstaltung/sommerkonzert-kasnevitz-duo-agile/
LOCATION:St. Jakob Kasnevitz\, Dorfstrasse\, Putbus OT Kasnevitz\, M/V\, 18581\, Deutschland
CATEGORIES:Konzerte
ATTACH;FMTTYPE=image/jpeg:https://kirche-putbus.de/wp-content/uploads/2021/09/Kirche-Vilmnitz-2019-2500px-Foto-Burwitz-Pocha-68-e1630918624158.jpg
END:VEVENT
BEGIN:VEVENT
DTSTART;TZID=Europe/Berlin:20230709T090000
DTEND;TZID=Europe/Berlin:20230709T100000
DTSTAMP:20260426T011418
CREATED:20230707T041404Z
LAST-MODIFIED:20230707T041404Z
UID:10000499-1688893200-1688896800@kirche-putbus.de
SUMMARY:Gottesdienst in Vilmnitz: 5. Sonntag nach Trinitatis
DESCRIPTION:09.07. \n5. Sonntag nach Trinitatis \n09.00 Uhr Vilmnitz \n10.30 Uhr Putbus
URL:https://kirche-putbus.de/veranstaltung/gottesdienst-in-vilmnitz-5-sonntag-nach-trinitatis/
LOCATION:St. Maria Magdalena Vilmnitz\, Alte Bäderstraße 2\, Putbus OT Vilmnitz\, M/V\, 18581\, Deutschland
CATEGORIES:Gottesdienste
ATTACH;FMTTYPE=image/jpeg:https://kirche-putbus.de/wp-content/uploads/2021/09/Gottesdienst-img-e1630923533347.jpg
END:VEVENT
BEGIN:VEVENT
DTSTART;TZID=Europe/Berlin:20230709T103000
DTEND;TZID=Europe/Berlin:20230709T113000
DTSTAMP:20260426T011418
CREATED:20230707T041325Z
LAST-MODIFIED:20230707T041325Z
UID:10000498-1688898600-1688902200@kirche-putbus.de
SUMMARY:Gottesdienst in Putbus: 5. Sonntag nach Trinitatis
DESCRIPTION:09.07. \n5. Sonntag nach Trinitatis \n09.00 Uhr Vilmnitz \n10.30 Uhr Putbus
URL:https://kirche-putbus.de/veranstaltung/gottesdienst-in-putbus-5-sonntag-nach-trinitatis/
LOCATION:Schlosskirche Putbus\, Alleestraße 34\, Putbus\, M/V\, 18581\, Deutschland
CATEGORIES:Gottesdienste
ATTACH;FMTTYPE=image/jpeg:https://kirche-putbus.de/wp-content/uploads/2021/09/Gottesdienst-img-e1630923533347.jpg
END:VEVENT
END:VCALENDAR