BEGIN:VCALENDAR
VERSION:2.0
PRODID:-//Kirchen zu Putbus - ECPv6.15.20//NONSGML v1.0//EN
CALSCALE:GREGORIAN
METHOD:PUBLISH
X-ORIGINAL-URL:https://kirche-putbus.de
X-WR-CALDESC:Veranstaltungen für Kirchen zu Putbus
REFRESH-INTERVAL;VALUE=DURATION:PT1H
X-Robots-Tag:noindex
X-PUBLISHED-TTL:PT1H
BEGIN:VTIMEZONE
TZID:Europe/Berlin
BEGIN:DAYLIGHT
TZOFFSETFROM:+0100
TZOFFSETTO:+0200
TZNAME:CEST
DTSTART:20240331T010000
END:DAYLIGHT
BEGIN:STANDARD
TZOFFSETFROM:+0200
TZOFFSETTO:+0100
TZNAME:CET
DTSTART:20241027T010000
END:STANDARD
BEGIN:DAYLIGHT
TZOFFSETFROM:+0100
TZOFFSETTO:+0200
TZNAME:CEST
DTSTART:20250330T010000
END:DAYLIGHT
BEGIN:STANDARD
TZOFFSETFROM:+0200
TZOFFSETTO:+0100
TZNAME:CET
DTSTART:20251026T010000
END:STANDARD
BEGIN:DAYLIGHT
TZOFFSETFROM:+0100
TZOFFSETTO:+0200
TZNAME:CEST
DTSTART:20260329T010000
END:DAYLIGHT
BEGIN:STANDARD
TZOFFSETFROM:+0200
TZOFFSETTO:+0100
TZNAME:CET
DTSTART:20261025T010000
END:STANDARD
END:VTIMEZONE
BEGIN:VEVENT
DTSTART;TZID=Europe/Berlin:20251201T153000
DTEND;TZID=Europe/Berlin:20251201T163000
DTSTAMP:20260420T092034
CREATED:20230915T163029Z
LAST-MODIFIED:20230915T163029Z
UID:10001177-1764603000-1764606600@kirche-putbus.de
SUMMARY:Kinderkreis
DESCRIPTION:Kinderkreis: 1.-6. Klasse: montags von 15.30-16.30 Uhr \n(Abholung vom Hort um 15 Uhr möglich)\, Pfarramt Putbus
URL:https://kirche-putbus.de/veranstaltung/kinderkreis/2025-12-01/
LOCATION:Schlosskirche Putbus\, Alleestraße 34\, Putbus\, M/V\, 18581\, Deutschland
CATEGORIES:Gruppen und Kreise
ATTACH;FMTTYPE=image/jpeg:https://kirche-putbus.de/wp-content/uploads/2019/03/Krabbelgruppe-GuppenbildGarten-600x300.jpg
END:VEVENT
BEGIN:VEVENT
DTSTART;TZID=Europe/Berlin:20251207T103000
DTEND;TZID=Europe/Berlin:20251207T113000
DTSTAMP:20260420T092034
CREATED:20251126T212416Z
LAST-MODIFIED:20251126T212416Z
UID:10001584-1765103400-1765107000@kirche-putbus.de
SUMMARY:Gottesdienst in Kasnevitz: 2. Advent 
DESCRIPTION: 07. Dezember\, 2. Advent  \n10.30 Dorfhaus Kasnevitz 
URL:https://kirche-putbus.de/veranstaltung/gottesdienst-in-kasnevitz-2-advent-2/
LOCATION:Dorfgemeinschaftshaus Kasnevitz\, Dorfstrasse\, Putbus OT Kasnevitz\, 18581\, Deutschland
CATEGORIES:Gottesdienste
ATTACH;FMTTYPE=image/jpeg:https://kirche-putbus.de/wp-content/uploads/2021/09/Gottesdienst-img-e1630923533347.jpg
END:VEVENT
BEGIN:VEVENT
DTSTART;TZID=Europe/Berlin:20251208T153000
DTEND;TZID=Europe/Berlin:20251208T163000
DTSTAMP:20260420T092034
CREATED:20230915T163029Z
LAST-MODIFIED:20230915T163029Z
UID:10001178-1765207800-1765211400@kirche-putbus.de
SUMMARY:Kinderkreis
DESCRIPTION:Kinderkreis: 1.-6. Klasse: montags von 15.30-16.30 Uhr \n(Abholung vom Hort um 15 Uhr möglich)\, Pfarramt Putbus
URL:https://kirche-putbus.de/veranstaltung/kinderkreis/2025-12-08/
LOCATION:Schlosskirche Putbus\, Alleestraße 34\, Putbus\, M/V\, 18581\, Deutschland
CATEGORIES:Gruppen und Kreise
ATTACH;FMTTYPE=image/jpeg:https://kirche-putbus.de/wp-content/uploads/2019/03/Krabbelgruppe-GuppenbildGarten-600x300.jpg
END:VEVENT
BEGIN:VEVENT
DTSTART;TZID=Europe/Berlin:20251208T183000
DTEND;TZID=Europe/Berlin:20251208T200000
DTSTAMP:20260420T092034
CREATED:20250927T201419Z
LAST-MODIFIED:20250927T201419Z
UID:10001579-1765218600-1765224000@kirche-putbus.de
SUMMARY:Chor in Putbus
DESCRIPTION:Jeden zweiten Montag um 18:30 Uhr treffen wir uns zum fröhlichen Singen im Gemeindehaus Putbus. Dabei widmen wir uns Liedern aus aller Welt\, Gospels\, Spirituals\, moderner und klassischer Kirchenmusik. Jeder\, der Freude am Singen hat\, ist willkommen! \nMusikalische Grüße\,\nCaroline Walter\nDie Termine sind: montags 14-tägig 18.30-20.00 Uhr am 29.9./ 13.10./27.10./10.11./ 24.11./08.12.
URL:https://kirche-putbus.de/veranstaltung/chor-in-kasnevitz-2/2025-12-08/
LOCATION:Schlosskirche Putbus\, Alleestraße 34\, Putbus\, M/V\, 18581\, Deutschland
CATEGORIES:Gruppen und Kreise
ATTACH;FMTTYPE=image/jpeg:https://kirche-putbus.de/wp-content/uploads/2021/09/596724_original_R_by_Thomas-Fresia_pixelio.de_-scaled-e1631012965550.jpg
END:VEVENT
BEGIN:VEVENT
DTSTART;TZID=Europe/Berlin:20251214T103000
DTEND;TZID=Europe/Berlin:20251214T113000
DTSTAMP:20260420T092034
CREATED:20251126T212633Z
LAST-MODIFIED:20251126T212633Z
UID:10001585-1765708200-1765711800@kirche-putbus.de
SUMMARY:Andacht „Musik und Poesie“ in Putbus: 3. Advent 
DESCRIPTION: 14. Dezember\, 3. Advent  \n10.30 Kapelle Putbus Andacht „Musik und Poesie“ 
URL:https://kirche-putbus.de/veranstaltung/andacht-musik-und-poesie-in-putbus-3-advent/
LOCATION:Schlosskirche Putbus\, Alleestraße 34\, Putbus\, M/V\, 18581\, Deutschland
CATEGORIES:Gottesdienste
ATTACH;FMTTYPE=image/jpeg:https://kirche-putbus.de/wp-content/uploads/2021/09/Gottesdienst-img-e1630923533347.jpg
END:VEVENT
BEGIN:VEVENT
DTSTART;TZID=Europe/Berlin:20251215T153000
DTEND;TZID=Europe/Berlin:20251215T163000
DTSTAMP:20260420T092034
CREATED:20230915T163029Z
LAST-MODIFIED:20230915T163029Z
UID:10001179-1765812600-1765816200@kirche-putbus.de
SUMMARY:Kinderkreis
DESCRIPTION:Kinderkreis: 1.-6. Klasse: montags von 15.30-16.30 Uhr \n(Abholung vom Hort um 15 Uhr möglich)\, Pfarramt Putbus
URL:https://kirche-putbus.de/veranstaltung/kinderkreis/2025-12-15/
LOCATION:Schlosskirche Putbus\, Alleestraße 34\, Putbus\, M/V\, 18581\, Deutschland
CATEGORIES:Gruppen und Kreise
ATTACH;FMTTYPE=image/jpeg:https://kirche-putbus.de/wp-content/uploads/2019/03/Krabbelgruppe-GuppenbildGarten-600x300.jpg
END:VEVENT
BEGIN:VEVENT
DTSTART;TZID=Europe/Berlin:20251221T103000
DTEND;TZID=Europe/Berlin:20251221T113000
DTSTAMP:20260420T092034
CREATED:20251126T212854Z
LAST-MODIFIED:20251126T212854Z
UID:10001586-1766313000-1766316600@kirche-putbus.de
SUMMARY:Regionalgottesdienst in Göhren: 4. Advent 
DESCRIPTION: 21. Dezember\, 4. Advent  \n10.30 Kirche Göhren Regionalgottesdienst  \nmit dem Friedenslicht aus Bethlehem  \n15.30 Kapelle Putbus Adventskaffee  \n17.00 Kirche Putbus Bläsermusik im Kerzenschein 
URL:https://kirche-putbus.de/veranstaltung/regionalgottesdienst-in-goehren-4-advent/
LOCATION:Dorfkirche Göhren\, Neue Kirchstrasse\, Göhren\, 18586\, Deutschland
CATEGORIES:Gottesdienste
ATTACH;FMTTYPE=image/jpeg:https://kirche-putbus.de/wp-content/uploads/2021/09/Gottesdienst-img-e1630923533347.jpg
GEO:54°20'25.3"N;13°44'11.7"E
X-APPLE-STRUCTURED-LOCATION;VALUE=URI;X-ADDRESS=Dorfkirche Göhren Neue Kirchstrasse Göhren 18586 Deutschland;X-APPLE-RADIUS=500;X-TITLE=Neue Kirchstrasse:geo:13°44'11.7"E,54°20'25.3"N
END:VEVENT
BEGIN:VEVENT
DTSTART;TZID=Europe/Berlin:20251221T153000
DTEND;TZID=Europe/Berlin:20251221T183000
DTSTAMP:20260420T092034
CREATED:20251220T213236Z
LAST-MODIFIED:20251220T215345Z
UID:10001595-1766331000-1766341800@kirche-putbus.de
SUMMARY:Adventskaffee und Bläsermusik im Kerzenschein in Putbus: 4. Advent
DESCRIPTION:Liebe Menschen aus unseren Kirchengemeinden\,\nAm Nachmittag setzen wir unsere adventliche Begegnung mit einem gemütlichen Adventskaffee um 15:30 Uhr in der Michaelskapelle in Putbus fort. Wenn Sie mögen – Kuchen und Plätzchen sind immer gerne gesehen. 😉\nZum Abschluss des Tages erwartet Sie um 17:00 Uhr in der Schlosskirche stimmungsvolle Bläsermusik im Kerzenschein mit dem Posaunenwerk MV und Landesposaunenwart Martin Huss. \nSo kann es Weihnachten werden! \nIch freue mich sehr auf Ihr Kommen und darauf\, diese besondere Zeit gemeinsam mit Ihnen zu verbringen. \nHerzliche Grüße\nIhre Pastorin Marie-Luise Marlow
URL:https://kirche-putbus.de/veranstaltung/adventskaffee-und-blaesermusik-im-kerzenschein-in-putbus-4-advent/
LOCATION:Schlosskirche Putbus\, Alleestraße 34\, Putbus\, M/V\, 18581\, Deutschland
CATEGORIES:Konzerte,Sonstige Veranstaltungen
ATTACH;FMTTYPE=image/png:https://kirche-putbus.de/wp-content/uploads/2025/12/Adventskaffee-Blaeser-e1766267577508.png
END:VEVENT
BEGIN:VEVENT
DTSTART;TZID=Europe/Berlin:20251222T153000
DTEND;TZID=Europe/Berlin:20251222T163000
DTSTAMP:20260420T092034
CREATED:20230915T163029Z
LAST-MODIFIED:20230915T163029Z
UID:10001180-1766417400-1766421000@kirche-putbus.de
SUMMARY:Kinderkreis
DESCRIPTION:Kinderkreis: 1.-6. Klasse: montags von 15.30-16.30 Uhr \n(Abholung vom Hort um 15 Uhr möglich)\, Pfarramt Putbus
URL:https://kirche-putbus.de/veranstaltung/kinderkreis/2025-12-22/
LOCATION:Schlosskirche Putbus\, Alleestraße 34\, Putbus\, M/V\, 18581\, Deutschland
CATEGORIES:Gruppen und Kreise
ATTACH;FMTTYPE=image/jpeg:https://kirche-putbus.de/wp-content/uploads/2019/03/Krabbelgruppe-GuppenbildGarten-600x300.jpg
END:VEVENT
BEGIN:VEVENT
DTSTART;TZID=Europe/Berlin:20251224T143000
DTEND;TZID=Europe/Berlin:20251224T153000
DTSTAMP:20260420T092034
CREATED:20251126T213131Z
LAST-MODIFIED:20251126T213131Z
UID:10001587-1766586600-1766590200@kirche-putbus.de
SUMMARY:Familiengottesdienst mit Krippenspiel in Putbus: Heiligabend
DESCRIPTION: 24. Dezember\, Heiligabend  \n14.30 Kirche Putbus Familiengottesdienst mit Krippenspiel  \n16.00 Kirche Vilmnitz Christvesper mit Krippenspiel  \n17.30 Kirche Kasnevitz Christvesper mit Krippenspiel  \n22.00 Kirche Putbus Christnacht im Kerzenschein 
URL:https://kirche-putbus.de/veranstaltung/familiengottesdienst-mit-krippenspiel-in-putbus-heiligabend-2/
LOCATION:Schlosskirche Putbus\, Alleestraße 34\, Putbus\, M/V\, 18581\, Deutschland
CATEGORIES:Gottesdienste
ATTACH;FMTTYPE=image/jpeg:https://kirche-putbus.de/wp-content/uploads/2021/09/Gottesdienst-img-e1630923533347.jpg
END:VEVENT
BEGIN:VEVENT
DTSTART;TZID=Europe/Berlin:20251224T160000
DTEND;TZID=Europe/Berlin:20251224T170000
DTSTAMP:20260420T092034
CREATED:20251126T213239Z
LAST-MODIFIED:20251126T213239Z
UID:10001588-1766592000-1766595600@kirche-putbus.de
SUMMARY:Christvesper mit Krippenspiel in Vilmnitz: Heiligabend
DESCRIPTION: 24. Dezember\, Heiligabend  \n14.30 Kirche Putbus Familiengottesdienst mit Krippenspiel  \n16.00 Kirche Vilmnitz Christvesper mit Krippenspiel  \n17.30 Kirche Kasnevitz Christvesper mit Krippenspiel  \n22.00 Kirche Putbus Christnacht im Kerzenschein 
URL:https://kirche-putbus.de/veranstaltung/christvesper-mit-krippenspiel-in-vilmnitz-heiligabend-3/
LOCATION:St. Maria Magdalena Vilmnitz\, Alte Bäderstraße 2\, Putbus OT Vilmnitz\, M/V\, 18581\, Deutschland
CATEGORIES:Gottesdienste
ATTACH;FMTTYPE=image/jpeg:https://kirche-putbus.de/wp-content/uploads/2021/09/Gottesdienst-img-e1630923533347.jpg
END:VEVENT
BEGIN:VEVENT
DTSTART;TZID=Europe/Berlin:20251224T173000
DTEND;TZID=Europe/Berlin:20251224T183000
DTSTAMP:20260420T092034
CREATED:20251126T213339Z
LAST-MODIFIED:20251126T213339Z
UID:10001589-1766597400-1766601000@kirche-putbus.de
SUMMARY:Christvesper mit Krippenspiel in Kasnevitz: Heiligabend
DESCRIPTION: 24. Dezember\, Heiligabend  \n14.30 Kirche Putbus Familiengottesdienst mit Krippenspiel  \n16.00 Kirche Vilmnitz Christvesper mit Krippenspiel  \n17.30 Kirche Kasnevitz Christvesper mit Krippenspiel  \n22.00 Kirche Putbus Christnacht im Kerzenschein 
URL:https://kirche-putbus.de/veranstaltung/christvesper-mit-krippenspiel-in-kasnevitz-heiligabend-4/
LOCATION:St. Jakob Kasnevitz\, Dorfstrasse\, Putbus OT Kasnevitz\, M/V\, 18581\, Deutschland
CATEGORIES:Gottesdienste
ATTACH;FMTTYPE=image/jpeg:https://kirche-putbus.de/wp-content/uploads/2021/09/Gottesdienst-img-e1630923533347.jpg
END:VEVENT
BEGIN:VEVENT
DTSTART;TZID=Europe/Berlin:20251224T220000
DTEND;TZID=Europe/Berlin:20251224T223000
DTSTAMP:20260420T092034
CREATED:20251126T213502Z
LAST-MODIFIED:20251126T213502Z
UID:10001590-1766613600-1766615400@kirche-putbus.de
SUMMARY:Christnacht im Kerzenschein in Putbus: Heiligabend
DESCRIPTION: 24. Dezember\, Heiligabend  \n14.30 Kirche Putbus Familiengottesdienst mit Krippenspiel  \n16.00 Kirche Vilmnitz Christvesper mit Krippenspiel  \n17.30 Kirche Kasnevitz Christvesper mit Krippenspiel  \n22.00 Kirche Putbus Christnacht im Kerzenschein 
URL:https://kirche-putbus.de/veranstaltung/christnacht-im-kerzenschein-in-putbus-heiligabend/
LOCATION:Schlosskirche Putbus\, Alleestraße 34\, Putbus\, M/V\, 18581\, Deutschland
CATEGORIES:Gottesdienste
ATTACH;FMTTYPE=image/jpeg:https://kirche-putbus.de/wp-content/uploads/2021/09/Gottesdienst-img-e1630923533347.jpg
END:VEVENT
BEGIN:VEVENT
DTSTART;TZID=Europe/Berlin:20251226T090000
DTEND;TZID=Europe/Berlin:20251226T100000
DTSTAMP:20260420T092034
CREATED:20251126T213644Z
LAST-MODIFIED:20251126T213644Z
UID:10001591-1766739600-1766743200@kirche-putbus.de
SUMMARY:Gottesdienst in Vilmnitz: 2. Weihnachtsfeiertag 
DESCRIPTION: 26. Dezember\, 2. Weihnachtsfeiertag  \n9.00 Kirche Vilmnitz  \n10.30 Kirche Kasnevitz 
URL:https://kirche-putbus.de/veranstaltung/gottesdienst-in-vilmnitz-2-weihnachtsfeiertag/
LOCATION:St. Maria Magdalena Vilmnitz\, Alte Bäderstraße 2\, Putbus OT Vilmnitz\, M/V\, 18581\, Deutschland
CATEGORIES:Gottesdienste
ATTACH;FMTTYPE=image/jpeg:https://kirche-putbus.de/wp-content/uploads/2021/09/Gottesdienst-img-e1630923533347.jpg
END:VEVENT
BEGIN:VEVENT
DTSTART;TZID=Europe/Berlin:20251226T103000
DTEND;TZID=Europe/Berlin:20251226T113000
DTSTAMP:20260420T092034
CREATED:20251126T213739Z
LAST-MODIFIED:20251126T213739Z
UID:10001592-1766745000-1766748600@kirche-putbus.de
SUMMARY:Gottesdienst in Kasnevitz: 2. Weihnachtsfeiertag 
DESCRIPTION: 26. Dezember\, 2. Weihnachtsfeiertag  \n9.00 Kirche Vilmnitz  \n10.30 Kirche Kasnevitz 
URL:https://kirche-putbus.de/veranstaltung/gottesdienst-in-kasnevitz-2-weihnachtsfeiertag/
LOCATION:St. Jakob Kasnevitz\, Dorfstrasse\, Putbus OT Kasnevitz\, M/V\, 18581\, Deutschland
CATEGORIES:Gottesdienste
ATTACH;FMTTYPE=image/jpeg:https://kirche-putbus.de/wp-content/uploads/2021/09/Gottesdienst-img-e1630923533347.jpg
END:VEVENT
BEGIN:VEVENT
DTSTART;TZID=Europe/Berlin:20251229T153000
DTEND;TZID=Europe/Berlin:20251229T163000
DTSTAMP:20260420T092034
CREATED:20230915T163029Z
LAST-MODIFIED:20230915T163029Z
UID:10001181-1767022200-1767025800@kirche-putbus.de
SUMMARY:Kinderkreis
DESCRIPTION:Kinderkreis: 1.-6. Klasse: montags von 15.30-16.30 Uhr \n(Abholung vom Hort um 15 Uhr möglich)\, Pfarramt Putbus
URL:https://kirche-putbus.de/veranstaltung/kinderkreis/2025-12-29/
LOCATION:Schlosskirche Putbus\, Alleestraße 34\, Putbus\, M/V\, 18581\, Deutschland
CATEGORIES:Gruppen und Kreise
ATTACH;FMTTYPE=image/jpeg:https://kirche-putbus.de/wp-content/uploads/2019/03/Krabbelgruppe-GuppenbildGarten-600x300.jpg
END:VEVENT
BEGIN:VEVENT
DTSTART;TZID=Europe/Berlin:20251231T143000
DTEND;TZID=Europe/Berlin:20251231T153000
DTSTAMP:20260420T092034
CREATED:20251220T220132Z
LAST-MODIFIED:20251220T220132Z
UID:10001596-1767191400-1767195000@kirche-putbus.de
SUMMARY:Jahresschlussandacht mit Abendmahl in Putbus: Altjahresabend
DESCRIPTION: 31. Dezember\, Altjahresabend  \n14.30 Kapelle Putbus  \n16.00 Dorfhaus Kasnevitz  \n17.30 Kirche Vilmnitz  \nJeweils Jahresschlussandacht mit Abendmahl 
URL:https://kirche-putbus.de/veranstaltung/jahresschlussandacht-mit-abendmahl-in-putbus-altjahresabend/
LOCATION:Schlosskirche Putbus\, Alleestraße 34\, Putbus\, M/V\, 18581\, Deutschland
CATEGORIES:Gottesdienste
ATTACH;FMTTYPE=image/jpeg:https://kirche-putbus.de/wp-content/uploads/2021/09/Gottesdienst-img-e1630923533347.jpg
END:VEVENT
BEGIN:VEVENT
DTSTART;TZID=Europe/Berlin:20251231T160000
DTEND;TZID=Europe/Berlin:20251231T170000
DTSTAMP:20260420T092034
CREATED:20251220T220226Z
LAST-MODIFIED:20251220T220226Z
UID:10001597-1767196800-1767200400@kirche-putbus.de
SUMMARY:Jahresschlussandacht mit Abendmahl in Kasnevitz: Altjahresabend
DESCRIPTION: 31. Dezember\, Altjahresabend  \n14.30 Kapelle Putbus  \n16.00 Dorfhaus Kasnevitz  \n17.30 Kirche Vilmnitz  \nJeweils Jahresschlussandacht mit Abendmahl 
URL:https://kirche-putbus.de/veranstaltung/jahresschlussandacht-mit-abendmahl-in-kasnevitz-altjahresabend/
LOCATION:Dorfgemeinschaftshaus Kasnevitz\, Dorfstrasse\, Putbus OT Kasnevitz\, 18581\, Deutschland
CATEGORIES:Gottesdienste
ATTACH;FMTTYPE=image/jpeg:https://kirche-putbus.de/wp-content/uploads/2021/09/Gottesdienst-img-e1630923533347.jpg
END:VEVENT
BEGIN:VEVENT
DTSTART;TZID=Europe/Berlin:20251231T173000
DTEND;TZID=Europe/Berlin:20251231T183000
DTSTAMP:20260420T092034
CREATED:20251220T220314Z
LAST-MODIFIED:20251220T220314Z
UID:10001598-1767202200-1767205800@kirche-putbus.de
SUMMARY:Jahresschlussandacht mit Abendmahl in Vilmnitz: Altjahresabend
DESCRIPTION: 31. Dezember\, Altjahresabend  \n14.30 Kapelle Putbus  \n16.00 Dorfhaus Kasnevitz  \n17.30 Kirche Vilmnitz  \nJeweils Jahresschlussandacht mit Abendmahl 
URL:https://kirche-putbus.de/veranstaltung/jahresschlussandacht-mit-abendmahl-in-vilmnitz-altjahresabend/
LOCATION:St. Maria Magdalena Vilmnitz\, Alte Bäderstraße 2\, Putbus OT Vilmnitz\, M/V\, 18581\, Deutschland
CATEGORIES:Gottesdienste
ATTACH;FMTTYPE=image/jpeg:https://kirche-putbus.de/wp-content/uploads/2021/09/Gottesdienst-img-e1630923533347.jpg
END:VEVENT
END:VCALENDAR