BEGIN:VCALENDAR
VERSION:2.0
PRODID:-//Kirchen zu Putbus - ECPv6.15.20//NONSGML v1.0//EN
CALSCALE:GREGORIAN
METHOD:PUBLISH
X-ORIGINAL-URL:https://kirche-putbus.de
X-WR-CALDESC:Veranstaltungen für Kirchen zu Putbus
REFRESH-INTERVAL;VALUE=DURATION:PT1H
X-Robots-Tag:noindex
X-PUBLISHED-TTL:PT1H
BEGIN:VTIMEZONE
TZID:Europe/Berlin
BEGIN:DAYLIGHT
TZOFFSETFROM:+0100
TZOFFSETTO:+0200
TZNAME:CEST
DTSTART:20240331T010000
END:DAYLIGHT
BEGIN:STANDARD
TZOFFSETFROM:+0200
TZOFFSETTO:+0100
TZNAME:CET
DTSTART:20241027T010000
END:STANDARD
BEGIN:DAYLIGHT
TZOFFSETFROM:+0100
TZOFFSETTO:+0200
TZNAME:CEST
DTSTART:20250330T010000
END:DAYLIGHT
BEGIN:STANDARD
TZOFFSETFROM:+0200
TZOFFSETTO:+0100
TZNAME:CET
DTSTART:20251026T010000
END:STANDARD
BEGIN:DAYLIGHT
TZOFFSETFROM:+0100
TZOFFSETTO:+0200
TZNAME:CEST
DTSTART:20260329T010000
END:DAYLIGHT
BEGIN:STANDARD
TZOFFSETFROM:+0200
TZOFFSETTO:+0100
TZNAME:CET
DTSTART:20261025T010000
END:STANDARD
END:VTIMEZONE
BEGIN:VEVENT
DTSTART;TZID=Europe/Berlin:20250801T193000
DTEND;TZID=Europe/Berlin:20250801T203000
DTSTAMP:20260419T201503
CREATED:20250627T115148Z
LAST-MODIFIED:20250627T115148Z
UID:10001514-1754076600-1754080200@kirche-putbus.de
SUMMARY:Sommerkonzert in Kasnevitz: Saxophonquartett
DESCRIPTION:Freitag\, 1. August | 19.30 Uhr\nAduma Saxophonquartett\nIrina Yudaeva\, Sopransaxophon\nChristian Schilf\, Altsaxophon\nYunxi Cheng\, Tenorsaxophon\nKathrin von Kieseritzky\, Baritonsaxophon\nThe Sound of North\nMusik aus Dänemark\, Schweden und Norwegen\nWerke von Edward Grieg\, Erland von Koch\, Kjell Roikjer\, Anders Nilsson und Matthew Peterson
URL:https://kirche-putbus.de/veranstaltung/sommerkonzert-in-kasnevitz-saxophonquartett/
LOCATION:St. Jakob Kasnevitz\, Dorfstrasse\, Putbus OT Kasnevitz\, M/V\, 18581\, Deutschland
CATEGORIES:Konzerte
ATTACH;FMTTYPE=image/jpeg:https://kirche-putbus.de/wp-content/uploads/2021/09/Kirche-Vilmnitz-2019-2500px-Foto-Burwitz-Pocha-68-e1630918624158.jpg
END:VEVENT
BEGIN:VEVENT
DTSTART;TZID=Europe/Berlin:20250803T103000
DTEND;TZID=Europe/Berlin:20250803T113000
DTSTAMP:20260419T201503
CREATED:20250722T174956Z
LAST-MODIFIED:20250722T174956Z
UID:10001533-1754217000-1754220600@kirche-putbus.de
SUMMARY:Gottesdienst Kasnevitz: 7. Sonntag nach Trinitatis
DESCRIPTION: 3. August\, 7. Sonntag nach Trinitatis \n10.30 Kasnevitz 
URL:https://kirche-putbus.de/veranstaltung/gottesdienst-kasnevitz-7-sonntag-nach-trinitatis/
LOCATION:St. Jakob Kasnevitz\, Dorfstrasse\, Putbus OT Kasnevitz\, M/V\, 18581\, Deutschland
CATEGORIES:Gottesdienste
ATTACH;FMTTYPE=image/jpeg:https://kirche-putbus.de/wp-content/uploads/2021/09/Gottesdienst-img-e1630923533347.jpg
END:VEVENT
BEGIN:VEVENT
DTSTART;TZID=Europe/Berlin:20250804T153000
DTEND;TZID=Europe/Berlin:20250804T163000
DTSTAMP:20260419T201503
CREATED:20230915T163029Z
LAST-MODIFIED:20230915T163029Z
UID:10001160-1754321400-1754325000@kirche-putbus.de
SUMMARY:Kinderkreis
DESCRIPTION:Kinderkreis: 1.-6. Klasse: montags von 15.30-16.30 Uhr \n(Abholung vom Hort um 15 Uhr möglich)\, Pfarramt Putbus
URL:https://kirche-putbus.de/veranstaltung/kinderkreis/2025-08-04/
LOCATION:Schlosskirche Putbus\, Alleestraße 34\, Putbus\, M/V\, 18581\, Deutschland
CATEGORIES:Gruppen und Kreise
ATTACH;FMTTYPE=image/jpeg:https://kirche-putbus.de/wp-content/uploads/2019/03/Krabbelgruppe-GuppenbildGarten-600x300.jpg
END:VEVENT
BEGIN:VEVENT
DTSTART;TZID=Europe/Berlin:20250805T143000
DTEND;TZID=Europe/Berlin:20250805T170000
DTSTAMP:20260419T201503
CREATED:20250722T193611Z
LAST-MODIFIED:20250722T194713Z
UID:10001560-1754404200-1754413200@kirche-putbus.de
SUMMARY:Sommeroase in Schlosskirche Putbus
DESCRIPTION:SOMMEROASE\n\n\nCafé und Begegnungsort im Schlosspark \njeden Dienstag \n14.30-17.00 Uhr \nJuni bis Mitte September \nan der Schlosskirche in Putbus
URL:https://kirche-putbus.de/veranstaltung/sommeroase-in-schlosskirche-putbus/2025-08-05/
LOCATION:Schlosskirche Putbus\, Alleestraße 34\, Putbus\, M/V\, 18581\, Deutschland
CATEGORIES:Sonstige Veranstaltungen
ATTACH;FMTTYPE=image/png:https://kirche-putbus.de/wp-content/uploads/2025/06/image.png
END:VEVENT
BEGIN:VEVENT
DTSTART;TZID=Europe/Berlin:20250806T190000
DTEND;TZID=Europe/Berlin:20250806T200000
DTSTAMP:20260419T201503
CREATED:20230707T042407Z
LAST-MODIFIED:20231107T185104Z
UID:10000613-1754506800-1754510400@kirche-putbus.de
SUMMARY:Chor in Kasnevitz
DESCRIPTION:Jeden Mittwoch um 19 Uhr treffen wir uns zum fröhlichen Singen im Dorfgemeinschaftshaus in Kasnevitz. Dabei widmen wir uns Liedern aus aller Welt\, Gospels\, Spirituals\, moderner und klassischer Kirchenmusik. Jeder\, der Freude am Singen hat\, ist willkommen! \nMusikalische Grüße\,\nKatja Wild\n 
URL:https://kirche-putbus.de/veranstaltung/chor-in-kasnevitz/2025-08-06/
LOCATION:Dorfgemeinschaftshaus Kasnevitz\, Dorfstrasse\, Putbus OT Kasnevitz\, 18581\, Deutschland
CATEGORIES:Gruppen und Kreise
ATTACH;FMTTYPE=image/jpeg:https://kirche-putbus.de/wp-content/uploads/2021/09/596724_original_R_by_Thomas-Fresia_pixelio.de_-scaled-e1631012965550.jpg
END:VEVENT
BEGIN:VEVENT
DTSTART;TZID=Europe/Berlin:20250806T190000
DTEND;TZID=Europe/Berlin:20250806T200000
DTSTAMP:20260419T201503
CREATED:20250722T175233Z
LAST-MODIFIED:20250722T175233Z
UID:10001534-1754506800-1754510400@kirche-putbus.de
SUMMARY:Taizé-Andacht in Putbus
DESCRIPTION:6. August\, „Still &Chill“ \n19.00 Putbus Taizé-Andacht
URL:https://kirche-putbus.de/veranstaltung/taize-andacht-in-putbus/
LOCATION:Schlosskirche Putbus\, Alleestraße 34\, Putbus\, M/V\, 18581\, Deutschland
CATEGORIES:Sonstige Veranstaltungen
ATTACH;FMTTYPE=image/jpeg:https://kirche-putbus.de/wp-content/uploads/2021/09/candlelight-3612508_1280-e1631177117760.jpg
END:VEVENT
BEGIN:VEVENT
DTSTART;TZID=Europe/Berlin:20250807T193000
DTEND;TZID=Europe/Berlin:20250807T203000
DTSTAMP:20260419T201503
CREATED:20250627T120300Z
LAST-MODIFIED:20250627T120300Z
UID:10001526-1754595000-1754598600@kirche-putbus.de
SUMMARY:Sommerkonzert in Vilmnitz: Konzert für Oboe und Orgel
DESCRIPTION:07.08.25 Konzert für Oboe und Orgel\nAndreas Wenske – Oboe / Stephan Kircheis – Orgel
URL:https://kirche-putbus.de/veranstaltung/sommerkonzert-in-vilmnitz-konzert-fuer-oboe-und-orgel-2/
LOCATION:St. Maria Magdalena Vilmnitz\, Alte Bäderstraße 2\, Putbus OT Vilmnitz\, M/V\, 18581\, Deutschland
CATEGORIES:Konzerte
ATTACH;FMTTYPE=image/jpeg:https://kirche-putbus.de/wp-content/uploads/2021/09/Kirche-Vilmnitz-2019-2500px-Foto-Burwitz-Pocha-68-e1630918624158.jpg
END:VEVENT
BEGIN:VEVENT
DTSTART;TZID=Europe/Berlin:20250808T193000
DTEND;TZID=Europe/Berlin:20250808T203000
DTSTAMP:20260419T201503
CREATED:20250627T115222Z
LAST-MODIFIED:20250627T115222Z
UID:10001515-1754681400-1754685000@kirche-putbus.de
SUMMARY:Sommerkonzert in Kasnevitz: Duo-Recital für Violine und Violoncello
DESCRIPTION:Freitag\, 8. August | 19.30 Uhr\nRosa Hagendorf\, Violine\nFranz Hofereiter\, Violoncello\nDuo-Recital für Violine und Violoncello\nWerke von J. Halvorson\, D´all Abaco\,\nJ. S. Bach\, Z. Kodály
URL:https://kirche-putbus.de/veranstaltung/sommerkonzert-in-kasnevitz-duo-recital-fuer-violine-und-violoncello/
LOCATION:St. Jakob Kasnevitz\, Dorfstrasse\, Putbus OT Kasnevitz\, M/V\, 18581\, Deutschland
CATEGORIES:Konzerte
ATTACH;FMTTYPE=image/jpeg:https://kirche-putbus.de/wp-content/uploads/2021/09/Kirche-Vilmnitz-2019-2500px-Foto-Burwitz-Pocha-68-e1630918624158.jpg
END:VEVENT
BEGIN:VEVENT
DTSTART;TZID=Europe/Berlin:20250810T103000
DTEND;TZID=Europe/Berlin:20250810T113000
DTSTAMP:20260419T201503
CREATED:20250722T175507Z
LAST-MODIFIED:20250722T175507Z
UID:10001535-1754821800-1754825400@kirche-putbus.de
SUMMARY:Gottesdienst Putbus: 8. Sonntag nach Trinitatis
DESCRIPTION:10. August\, 8. Sonntag nach Trinitatis  \n10.30 Putbus „Liebe ist alles“ mit dem Vokalquintett „Schall & Rauch“
URL:https://kirche-putbus.de/veranstaltung/gottesdienst-putbus-8-sonntag-nach-trinitatis/
LOCATION:Schlosskirche Putbus\, Alleestraße 34\, Putbus\, M/V\, 18581\, Deutschland
CATEGORIES:Gottesdienste
ATTACH;FMTTYPE=image/jpeg:https://kirche-putbus.de/wp-content/uploads/2021/09/Gottesdienst-img-e1630923533347.jpg
END:VEVENT
BEGIN:VEVENT
DTSTART;TZID=Europe/Berlin:20250811T153000
DTEND;TZID=Europe/Berlin:20250811T163000
DTSTAMP:20260419T201503
CREATED:20230915T163029Z
LAST-MODIFIED:20230915T163029Z
UID:10001161-1754926200-1754929800@kirche-putbus.de
SUMMARY:Kinderkreis
DESCRIPTION:Kinderkreis: 1.-6. Klasse: montags von 15.30-16.30 Uhr \n(Abholung vom Hort um 15 Uhr möglich)\, Pfarramt Putbus
URL:https://kirche-putbus.de/veranstaltung/kinderkreis/2025-08-11/
LOCATION:Schlosskirche Putbus\, Alleestraße 34\, Putbus\, M/V\, 18581\, Deutschland
CATEGORIES:Gruppen und Kreise
ATTACH;FMTTYPE=image/jpeg:https://kirche-putbus.de/wp-content/uploads/2019/03/Krabbelgruppe-GuppenbildGarten-600x300.jpg
END:VEVENT
BEGIN:VEVENT
DTSTART;TZID=Europe/Berlin:20250812T143000
DTEND;TZID=Europe/Berlin:20250812T170000
DTSTAMP:20260419T201503
CREATED:20250722T193611Z
LAST-MODIFIED:20250722T194713Z
UID:10001561-1755009000-1755018000@kirche-putbus.de
SUMMARY:Sommeroase in Schlosskirche Putbus
DESCRIPTION:SOMMEROASE\n\n\nCafé und Begegnungsort im Schlosspark \njeden Dienstag \n14.30-17.00 Uhr \nJuni bis Mitte September \nan der Schlosskirche in Putbus
URL:https://kirche-putbus.de/veranstaltung/sommeroase-in-schlosskirche-putbus/2025-08-12/
LOCATION:Schlosskirche Putbus\, Alleestraße 34\, Putbus\, M/V\, 18581\, Deutschland
CATEGORIES:Sonstige Veranstaltungen
ATTACH;FMTTYPE=image/png:https://kirche-putbus.de/wp-content/uploads/2025/06/image.png
END:VEVENT
BEGIN:VEVENT
DTSTART;TZID=Europe/Berlin:20250813T190000
DTEND;TZID=Europe/Berlin:20250813T200000
DTSTAMP:20260419T201503
CREATED:20230707T042407Z
LAST-MODIFIED:20231107T185104Z
UID:10000614-1755111600-1755115200@kirche-putbus.de
SUMMARY:Chor in Kasnevitz
DESCRIPTION:Jeden Mittwoch um 19 Uhr treffen wir uns zum fröhlichen Singen im Dorfgemeinschaftshaus in Kasnevitz. Dabei widmen wir uns Liedern aus aller Welt\, Gospels\, Spirituals\, moderner und klassischer Kirchenmusik. Jeder\, der Freude am Singen hat\, ist willkommen! \nMusikalische Grüße\,\nKatja Wild\n 
URL:https://kirche-putbus.de/veranstaltung/chor-in-kasnevitz/2025-08-13/
LOCATION:Dorfgemeinschaftshaus Kasnevitz\, Dorfstrasse\, Putbus OT Kasnevitz\, 18581\, Deutschland
CATEGORIES:Gruppen und Kreise
ATTACH;FMTTYPE=image/jpeg:https://kirche-putbus.de/wp-content/uploads/2021/09/596724_original_R_by_Thomas-Fresia_pixelio.de_-scaled-e1631012965550.jpg
END:VEVENT
BEGIN:VEVENT
DTSTART;TZID=Europe/Berlin:20250814T193000
DTEND;TZID=Europe/Berlin:20250814T203000
DTSTAMP:20260419T201503
CREATED:20250627T115934Z
LAST-MODIFIED:20250627T120000Z
UID:10001523-1755199800-1755203400@kirche-putbus.de
SUMMARY:Sommerkonzert in Vilmnitz: Konzert für Trompete und Orgel
DESCRIPTION:14.08.25 Konzert für Trompete und Orgel\nAlexander Pfeifer – Trompete / Frank Zimpel – Orgel
URL:https://kirche-putbus.de/veranstaltung/sommerkonzert-in-vilmnitz-konzert-fuer-oboe-und-orgel/
LOCATION:St. Maria Magdalena Vilmnitz\, Alte Bäderstraße 2\, Putbus OT Vilmnitz\, M/V\, 18581\, Deutschland
CATEGORIES:Konzerte
ATTACH;FMTTYPE=image/jpeg:https://kirche-putbus.de/wp-content/uploads/2021/09/Kirche-Vilmnitz-2019-2500px-Foto-Burwitz-Pocha-68-e1630918624158.jpg
END:VEVENT
BEGIN:VEVENT
DTSTART;TZID=Europe/Berlin:20250815T193000
DTEND;TZID=Europe/Berlin:20250815T203000
DTSTAMP:20260419T201503
CREATED:20250627T115302Z
LAST-MODIFIED:20250627T115302Z
UID:10001516-1755286200-1755289800@kirche-putbus.de
SUMMARY:Sommerkonzert in Kasnevitz: BachConsort Leipzig
DESCRIPTION:Freitag\, 15. August | 19.30 Uhr\nBachConsort Leipzig\nMessias von Georg Friedrich Händel\nDie von Händel selbst dirigierte Uraufführung\nerfolgte 1742 in kleiner Besetzung.\nDas BachConsort Leipzig orientiert sich an dieser historischen Aufführungspraxis und musiziert mit acht Sängern und zehn\nInstrumentalisten.\nAufführungsdauer: 125 Min. ohne Pause
URL:https://kirche-putbus.de/veranstaltung/sommerkonzert-in-kasnevitz-bachconsort-leipzig/
LOCATION:St. Jakob Kasnevitz\, Dorfstrasse\, Putbus OT Kasnevitz\, M/V\, 18581\, Deutschland
CATEGORIES:Konzerte
ATTACH;FMTTYPE=image/jpeg:https://kirche-putbus.de/wp-content/uploads/2021/09/Kirche-Vilmnitz-2019-2500px-Foto-Burwitz-Pocha-68-e1630918624158.jpg
END:VEVENT
BEGIN:VEVENT
DTSTART;TZID=Europe/Berlin:20250817T103000
DTEND;TZID=Europe/Berlin:20250817T113000
DTSTAMP:20260419T201503
CREATED:20250722T175908Z
LAST-MODIFIED:20250722T175908Z
UID:10001536-1755426600-1755430200@kirche-putbus.de
SUMMARY:Gottesdienst Hafen Lauterbach: 9. Sonntag nach Trinitatis
DESCRIPTION:17. August\, 9. Sonntag nach Trinitatis \n10.30 Hafen Lauterbach  \n„Segel setzen“
URL:https://kirche-putbus.de/veranstaltung/gottesdienst-hafen-lauterbach-9-sonntag-nach-trinitatis/
LOCATION:Hafen Lauterbach\, Am Eichendamm 2\, Putbus\, 18581\, Deutschland
CATEGORIES:Gottesdienste
ATTACH;FMTTYPE=image/jpeg:https://kirche-putbus.de/wp-content/uploads/2021/09/Gottesdienst-img-e1630923533347.jpg
END:VEVENT
BEGIN:VEVENT
DTSTART;TZID=Europe/Berlin:20250818T153000
DTEND;TZID=Europe/Berlin:20250818T163000
DTSTAMP:20260419T201503
CREATED:20230915T163029Z
LAST-MODIFIED:20230915T163029Z
UID:10001162-1755531000-1755534600@kirche-putbus.de
SUMMARY:Kinderkreis
DESCRIPTION:Kinderkreis: 1.-6. Klasse: montags von 15.30-16.30 Uhr \n(Abholung vom Hort um 15 Uhr möglich)\, Pfarramt Putbus
URL:https://kirche-putbus.de/veranstaltung/kinderkreis/2025-08-18/
LOCATION:Schlosskirche Putbus\, Alleestraße 34\, Putbus\, M/V\, 18581\, Deutschland
CATEGORIES:Gruppen und Kreise
ATTACH;FMTTYPE=image/jpeg:https://kirche-putbus.de/wp-content/uploads/2019/03/Krabbelgruppe-GuppenbildGarten-600x300.jpg
END:VEVENT
BEGIN:VEVENT
DTSTART;TZID=Europe/Berlin:20250819T143000
DTEND;TZID=Europe/Berlin:20250819T170000
DTSTAMP:20260419T201503
CREATED:20250722T193611Z
LAST-MODIFIED:20250722T194713Z
UID:10001562-1755613800-1755622800@kirche-putbus.de
SUMMARY:Sommeroase in Schlosskirche Putbus
DESCRIPTION:SOMMEROASE\n\n\nCafé und Begegnungsort im Schlosspark \njeden Dienstag \n14.30-17.00 Uhr \nJuni bis Mitte September \nan der Schlosskirche in Putbus
URL:https://kirche-putbus.de/veranstaltung/sommeroase-in-schlosskirche-putbus/2025-08-19/
LOCATION:Schlosskirche Putbus\, Alleestraße 34\, Putbus\, M/V\, 18581\, Deutschland
CATEGORIES:Sonstige Veranstaltungen
ATTACH;FMTTYPE=image/png:https://kirche-putbus.de/wp-content/uploads/2025/06/image.png
END:VEVENT
BEGIN:VEVENT
DTSTART;TZID=Europe/Berlin:20250820T190000
DTEND;TZID=Europe/Berlin:20250820T200000
DTSTAMP:20260419T201503
CREATED:20230707T042407Z
LAST-MODIFIED:20231107T185104Z
UID:10000615-1755716400-1755720000@kirche-putbus.de
SUMMARY:Chor in Kasnevitz
DESCRIPTION:Jeden Mittwoch um 19 Uhr treffen wir uns zum fröhlichen Singen im Dorfgemeinschaftshaus in Kasnevitz. Dabei widmen wir uns Liedern aus aller Welt\, Gospels\, Spirituals\, moderner und klassischer Kirchenmusik. Jeder\, der Freude am Singen hat\, ist willkommen! \nMusikalische Grüße\,\nKatja Wild\n 
URL:https://kirche-putbus.de/veranstaltung/chor-in-kasnevitz/2025-08-20/
LOCATION:Dorfgemeinschaftshaus Kasnevitz\, Dorfstrasse\, Putbus OT Kasnevitz\, 18581\, Deutschland
CATEGORIES:Gruppen und Kreise
ATTACH;FMTTYPE=image/jpeg:https://kirche-putbus.de/wp-content/uploads/2021/09/596724_original_R_by_Thomas-Fresia_pixelio.de_-scaled-e1631012965550.jpg
END:VEVENT
BEGIN:VEVENT
DTSTART;TZID=Europe/Berlin:20250821T193000
DTEND;TZID=Europe/Berlin:20250821T203000
DTSTAMP:20260419T201503
CREATED:20250627T120113Z
LAST-MODIFIED:20250627T120113Z
UID:10001524-1755804600-1755808200@kirche-putbus.de
SUMMARY:Sommerkonzert in Vilmnitz: Orgelkonzert
DESCRIPTION:21.08.25 Orgelkonzert mit Juliane Felsch-Grunow
URL:https://kirche-putbus.de/veranstaltung/sommerkonzert-in-vilmnitz-orgelkonzert-3/
LOCATION:St. Maria Magdalena Vilmnitz\, Alte Bäderstraße 2\, Putbus OT Vilmnitz\, M/V\, 18581\, Deutschland
CATEGORIES:Konzerte
ATTACH;FMTTYPE=image/jpeg:https://kirche-putbus.de/wp-content/uploads/2021/09/Kirche-Vilmnitz-2019-2500px-Foto-Burwitz-Pocha-68-e1630918624158.jpg
END:VEVENT
BEGIN:VEVENT
DTSTART;TZID=Europe/Berlin:20250822T193000
DTEND;TZID=Europe/Berlin:20250822T203000
DTSTAMP:20260419T201503
CREATED:20250627T115339Z
LAST-MODIFIED:20250627T115339Z
UID:10001517-1755891000-1755894600@kirche-putbus.de
SUMMARY:Sommerkonzert in Kasnevitz: Liederabend
DESCRIPTION:Freitag\, 22. August | 19.30 Uhr\nFranziska Dillner-Koch\, Gesang\nFabian Klentzke\, Klavier\nEs ruft mich aus der Ferne\nLiederabend\nWerke von Fauré\, Berlioz\, Debussy\, Brahms\,\nBritten und Piazzolla
URL:https://kirche-putbus.de/veranstaltung/sommerkonzert-in-kasnevitz-liederabend/
LOCATION:St. Jakob Kasnevitz\, Dorfstrasse\, Putbus OT Kasnevitz\, M/V\, 18581\, Deutschland
CATEGORIES:Konzerte
ATTACH;FMTTYPE=image/jpeg:https://kirche-putbus.de/wp-content/uploads/2021/09/Kirche-Vilmnitz-2019-2500px-Foto-Burwitz-Pocha-68-e1630918624158.jpg
END:VEVENT
BEGIN:VEVENT
DTSTART;TZID=Europe/Berlin:20250824T103000
DTEND;TZID=Europe/Berlin:20250824T113000
DTSTAMP:20260419T201503
CREATED:20250722T180222Z
LAST-MODIFIED:20250722T180222Z
UID:10001537-1756031400-1756035000@kirche-putbus.de
SUMMARY:Gottesdienst Beuchow Obstwiese: 10. Sonntag nach Trinitatis
DESCRIPTION:24. August\, 10. Sonntag nach Trinitatis \n10.30 Beuchow Obstwiese  \n„Geschichten vom Anfang“
URL:https://kirche-putbus.de/veranstaltung/gottesdienst-beuchow-obstwiese-10-sonntag-nach-trinitatis/
LOCATION:Beuchow Obstwiese\, Beuchow 2-6\, Putbus\, 18581\, Deutschland
CATEGORIES:Gottesdienste
ATTACH;FMTTYPE=image/jpeg:https://kirche-putbus.de/wp-content/uploads/2021/09/Gottesdienst-img-e1630923533347.jpg
END:VEVENT
BEGIN:VEVENT
DTSTART;TZID=Europe/Berlin:20250825T153000
DTEND;TZID=Europe/Berlin:20250825T163000
DTSTAMP:20260419T201503
CREATED:20230915T163029Z
LAST-MODIFIED:20230915T163029Z
UID:10001163-1756135800-1756139400@kirche-putbus.de
SUMMARY:Kinderkreis
DESCRIPTION:Kinderkreis: 1.-6. Klasse: montags von 15.30-16.30 Uhr \n(Abholung vom Hort um 15 Uhr möglich)\, Pfarramt Putbus
URL:https://kirche-putbus.de/veranstaltung/kinderkreis/2025-08-25/
LOCATION:Schlosskirche Putbus\, Alleestraße 34\, Putbus\, M/V\, 18581\, Deutschland
CATEGORIES:Gruppen und Kreise
ATTACH;FMTTYPE=image/jpeg:https://kirche-putbus.de/wp-content/uploads/2019/03/Krabbelgruppe-GuppenbildGarten-600x300.jpg
END:VEVENT
BEGIN:VEVENT
DTSTART;TZID=Europe/Berlin:20250826T143000
DTEND;TZID=Europe/Berlin:20250826T170000
DTSTAMP:20260419T201503
CREATED:20250722T193611Z
LAST-MODIFIED:20250722T194713Z
UID:10001563-1756218600-1756227600@kirche-putbus.de
SUMMARY:Sommeroase in Schlosskirche Putbus
DESCRIPTION:SOMMEROASE\n\n\nCafé und Begegnungsort im Schlosspark \njeden Dienstag \n14.30-17.00 Uhr \nJuni bis Mitte September \nan der Schlosskirche in Putbus
URL:https://kirche-putbus.de/veranstaltung/sommeroase-in-schlosskirche-putbus/2025-08-26/
LOCATION:Schlosskirche Putbus\, Alleestraße 34\, Putbus\, M/V\, 18581\, Deutschland
CATEGORIES:Sonstige Veranstaltungen
ATTACH;FMTTYPE=image/png:https://kirche-putbus.de/wp-content/uploads/2025/06/image.png
END:VEVENT
BEGIN:VEVENT
DTSTART;TZID=Europe/Berlin:20250827T190000
DTEND;TZID=Europe/Berlin:20250827T200000
DTSTAMP:20260419T201503
CREATED:20230707T042407Z
LAST-MODIFIED:20231107T185104Z
UID:10000616-1756321200-1756324800@kirche-putbus.de
SUMMARY:Chor in Kasnevitz
DESCRIPTION:Jeden Mittwoch um 19 Uhr treffen wir uns zum fröhlichen Singen im Dorfgemeinschaftshaus in Kasnevitz. Dabei widmen wir uns Liedern aus aller Welt\, Gospels\, Spirituals\, moderner und klassischer Kirchenmusik. Jeder\, der Freude am Singen hat\, ist willkommen! \nMusikalische Grüße\,\nKatja Wild\n 
URL:https://kirche-putbus.de/veranstaltung/chor-in-kasnevitz/2025-08-27/
LOCATION:Dorfgemeinschaftshaus Kasnevitz\, Dorfstrasse\, Putbus OT Kasnevitz\, 18581\, Deutschland
CATEGORIES:Gruppen und Kreise
ATTACH;FMTTYPE=image/jpeg:https://kirche-putbus.de/wp-content/uploads/2021/09/596724_original_R_by_Thomas-Fresia_pixelio.de_-scaled-e1631012965550.jpg
END:VEVENT
BEGIN:VEVENT
DTSTART;TZID=Europe/Berlin:20250828T193000
DTEND;TZID=Europe/Berlin:20250828T203000
DTSTAMP:20260419T201503
CREATED:20250627T120144Z
LAST-MODIFIED:20250627T120144Z
UID:10001525-1756409400-1756413000@kirche-putbus.de
SUMMARY:Sommerkonzert in Vilmnitz: Barocke Klänge
DESCRIPTION:28.08.25 Barocke Klänge – Konzert für Cembalo und Flöte\nReinhard Glende – Cembalo / Susanne Seiffert – Flöten
URL:https://kirche-putbus.de/veranstaltung/sommerkonzert-in-vilmnitz-barocke-klaenge-2/
LOCATION:St. Maria Magdalena Vilmnitz\, Alte Bäderstraße 2\, Putbus OT Vilmnitz\, M/V\, 18581\, Deutschland
CATEGORIES:Konzerte
ATTACH;FMTTYPE=image/jpeg:https://kirche-putbus.de/wp-content/uploads/2021/09/Kirche-Vilmnitz-2019-2500px-Foto-Burwitz-Pocha-68-e1630918624158.jpg
END:VEVENT
BEGIN:VEVENT
DTSTART;TZID=Europe/Berlin:20250829T193000
DTEND;TZID=Europe/Berlin:20250829T203000
DTSTAMP:20260419T201503
CREATED:20250627T115445Z
LAST-MODIFIED:20250627T115445Z
UID:10001518-1756495800-1756499400@kirche-putbus.de
SUMMARY:Sommerkonzert in Kasnevitz: ALTER EGO: Bach & Jazz
DESCRIPTION:Freitag\, 29. August | 19.30 Uhr\nBirgitta Flick\, Tenorsaxophon\nAnnekatrin Flick\, Violoncello\nALTER EGO: Bach & Jazz\nImprovisatorische Exkurse um Musik von Johann Sebastian Bach\, Michel Legrand\,\nRoland Kirk u.a.
URL:https://kirche-putbus.de/veranstaltung/sommerkonzert-in-kasnevitz-alter-ego-bach-jazz/
LOCATION:St. Jakob Kasnevitz\, Dorfstrasse\, Putbus OT Kasnevitz\, M/V\, 18581\, Deutschland
CATEGORIES:Konzerte
ATTACH;FMTTYPE=image/jpeg:https://kirche-putbus.de/wp-content/uploads/2021/09/Kirche-Vilmnitz-2019-2500px-Foto-Burwitz-Pocha-68-e1630918624158.jpg
END:VEVENT
BEGIN:VEVENT
DTSTART;TZID=Europe/Berlin:20250831T103000
DTEND;TZID=Europe/Berlin:20250831T113000
DTSTAMP:20260419T201503
CREATED:20250722T180406Z
LAST-MODIFIED:20250722T180406Z
UID:10001539-1756636200-1756639800@kirche-putbus.de
SUMMARY:Gottesdienst Vilmnitz: 11. Sonntag nach Trinitatis
DESCRIPTION:31. August\, 11. Sonntag nach Trinitatis \n10.30 Vilmnitz  \nKanzeltausch „Hoffnung“ und Abendmahl
URL:https://kirche-putbus.de/veranstaltung/gottesdienst-vilmnitz-11-sonntag-nach-trinitatis/
LOCATION:St. Maria Magdalena Vilmnitz\, Alte Bäderstraße 2\, Putbus OT Vilmnitz\, M/V\, 18581\, Deutschland
CATEGORIES:Gottesdienste
ATTACH;FMTTYPE=image/jpeg:https://kirche-putbus.de/wp-content/uploads/2021/09/Gottesdienst-img-e1630923533347.jpg
END:VEVENT
END:VCALENDAR