BEGIN:VCALENDAR
VERSION:2.0
PRODID:-//Kirchen zu Putbus - ECPv6.15.20//NONSGML v1.0//EN
CALSCALE:GREGORIAN
METHOD:PUBLISH
X-ORIGINAL-URL:https://kirche-putbus.de
X-WR-CALDESC:Veranstaltungen für Kirchen zu Putbus
REFRESH-INTERVAL;VALUE=DURATION:PT1H
X-Robots-Tag:noindex
X-PUBLISHED-TTL:PT1H
BEGIN:VTIMEZONE
TZID:Europe/Berlin
BEGIN:DAYLIGHT
TZOFFSETFROM:+0100
TZOFFSETTO:+0200
TZNAME:CEST
DTSTART:20240331T010000
END:DAYLIGHT
BEGIN:STANDARD
TZOFFSETFROM:+0200
TZOFFSETTO:+0100
TZNAME:CET
DTSTART:20241027T010000
END:STANDARD
BEGIN:DAYLIGHT
TZOFFSETFROM:+0100
TZOFFSETTO:+0200
TZNAME:CEST
DTSTART:20250330T010000
END:DAYLIGHT
BEGIN:STANDARD
TZOFFSETFROM:+0200
TZOFFSETTO:+0100
TZNAME:CET
DTSTART:20251026T010000
END:STANDARD
BEGIN:DAYLIGHT
TZOFFSETFROM:+0100
TZOFFSETTO:+0200
TZNAME:CEST
DTSTART:20260329T010000
END:DAYLIGHT
BEGIN:STANDARD
TZOFFSETFROM:+0200
TZOFFSETTO:+0100
TZNAME:CET
DTSTART:20261025T010000
END:STANDARD
END:VTIMEZONE
BEGIN:VEVENT
DTSTART;TZID=Europe/Berlin:20250504T103000
DTEND;TZID=Europe/Berlin:20250504T113000
DTSTAMP:20260419T151631
CREATED:20250429T174330Z
LAST-MODIFIED:20250429T174330Z
UID:10001496-1746354600-1746358200@kirche-putbus.de
SUMMARY:Gottesdienst in Kasnevitz: Miserikordias Domini
DESCRIPTION:4. Mai\, Miserikordias Domini \n10.30 Kasnevitz Gottesdienst 
URL:https://kirche-putbus.de/veranstaltung/gottesdienst-in-kasnevitz-miserikordias-domini/
LOCATION:St. Jakob Kasnevitz\, Dorfstrasse\, Putbus OT Kasnevitz\, M/V\, 18581\, Deutschland
CATEGORIES:Gottesdienste
ATTACH;FMTTYPE=image/jpeg:https://kirche-putbus.de/wp-content/uploads/2021/09/Gottesdienst-img-e1630923533347.jpg
END:VEVENT
BEGIN:VEVENT
DTSTART;TZID=Europe/Berlin:20250505T153000
DTEND;TZID=Europe/Berlin:20250505T163000
DTSTAMP:20260419T151631
CREATED:20230915T163029Z
LAST-MODIFIED:20230915T163029Z
UID:10001147-1746459000-1746462600@kirche-putbus.de
SUMMARY:Kinderkreis
DESCRIPTION:Kinderkreis: 1.-6. Klasse: montags von 15.30-16.30 Uhr \n(Abholung vom Hort um 15 Uhr möglich)\, Pfarramt Putbus
URL:https://kirche-putbus.de/veranstaltung/kinderkreis/2025-05-05/
LOCATION:Schlosskirche Putbus\, Alleestraße 34\, Putbus\, M/V\, 18581\, Deutschland
CATEGORIES:Gruppen und Kreise
ATTACH;FMTTYPE=image/jpeg:https://kirche-putbus.de/wp-content/uploads/2019/03/Krabbelgruppe-GuppenbildGarten-600x300.jpg
END:VEVENT
BEGIN:VEVENT
DTSTART;TZID=Europe/Berlin:20250507T190000
DTEND;TZID=Europe/Berlin:20250507T200000
DTSTAMP:20260419T151631
CREATED:20230707T042407Z
LAST-MODIFIED:20231107T185104Z
UID:10000600-1746644400-1746648000@kirche-putbus.de
SUMMARY:Chor in Kasnevitz
DESCRIPTION:Jeden Mittwoch um 19 Uhr treffen wir uns zum fröhlichen Singen im Dorfgemeinschaftshaus in Kasnevitz. Dabei widmen wir uns Liedern aus aller Welt\, Gospels\, Spirituals\, moderner und klassischer Kirchenmusik. Jeder\, der Freude am Singen hat\, ist willkommen! \nMusikalische Grüße\,\nKatja Wild\n 
URL:https://kirche-putbus.de/veranstaltung/chor-in-kasnevitz/2025-05-07/
LOCATION:Dorfgemeinschaftshaus Kasnevitz\, Dorfstrasse\, Putbus OT Kasnevitz\, 18581\, Deutschland
CATEGORIES:Gruppen und Kreise
ATTACH;FMTTYPE=image/jpeg:https://kirche-putbus.de/wp-content/uploads/2021/09/596724_original_R_by_Thomas-Fresia_pixelio.de_-scaled-e1631012965550.jpg
END:VEVENT
BEGIN:VEVENT
DTSTART;TZID=Europe/Berlin:20250510T180000
DTEND;TZID=Europe/Berlin:20250510T200000
DTSTAMP:20260419T151631
CREATED:20250429T051722Z
LAST-MODIFIED:20250429T051722Z
UID:10001494-1746900000-1746907200@kirche-putbus.de
SUMMARY:Ehrenamtsfest im Pfarramt Putbus
DESCRIPTION:10.05. 18.00 Uhr Ehrenamtsfest im Pfarramt Putbus
URL:https://kirche-putbus.de/veranstaltung/ehrenamtsfest-im-pfarramt-putbus/
LOCATION:Schlosskirche Putbus\, Alleestraße 34\, Putbus\, M/V\, 18581\, Deutschland
CATEGORIES:Sonstige Veranstaltungen
END:VEVENT
BEGIN:VEVENT
DTSTART;TZID=Europe/Berlin:20250511T103000
DTEND;TZID=Europe/Berlin:20250511T113000
DTSTAMP:20260419T151631
CREATED:20250429T175352Z
LAST-MODIFIED:20250429T175352Z
UID:10001497-1746959400-1746963000@kirche-putbus.de
SUMMARY:Gottesdienst in Vilmnitz: Jubilate
DESCRIPTION:11. Mai\, Jubilate \n10.30 Vilmnitz Kanzeltausch „Hoffnung“
URL:https://kirche-putbus.de/veranstaltung/gottesdienst-in-vilmnitz-jubilate/
LOCATION:St. Maria Magdalena Vilmnitz\, Alte Bäderstraße 2\, Putbus OT Vilmnitz\, M/V\, 18581\, Deutschland
CATEGORIES:Gottesdienste
ATTACH;FMTTYPE=image/jpeg:https://kirche-putbus.de/wp-content/uploads/2021/09/Gottesdienst-img-e1630923533347.jpg
END:VEVENT
BEGIN:VEVENT
DTSTART;TZID=Europe/Berlin:20250512T153000
DTEND;TZID=Europe/Berlin:20250512T163000
DTSTAMP:20260419T151631
CREATED:20230915T163029Z
LAST-MODIFIED:20230915T163029Z
UID:10001148-1747063800-1747067400@kirche-putbus.de
SUMMARY:Kinderkreis
DESCRIPTION:Kinderkreis: 1.-6. Klasse: montags von 15.30-16.30 Uhr \n(Abholung vom Hort um 15 Uhr möglich)\, Pfarramt Putbus
URL:https://kirche-putbus.de/veranstaltung/kinderkreis/2025-05-12/
LOCATION:Schlosskirche Putbus\, Alleestraße 34\, Putbus\, M/V\, 18581\, Deutschland
CATEGORIES:Gruppen und Kreise
ATTACH;FMTTYPE=image/jpeg:https://kirche-putbus.de/wp-content/uploads/2019/03/Krabbelgruppe-GuppenbildGarten-600x300.jpg
END:VEVENT
BEGIN:VEVENT
DTSTART;TZID=Europe/Berlin:20250514T190000
DTEND;TZID=Europe/Berlin:20250514T200000
DTSTAMP:20260419T151631
CREATED:20230707T042407Z
LAST-MODIFIED:20231107T185104Z
UID:10000601-1747249200-1747252800@kirche-putbus.de
SUMMARY:Chor in Kasnevitz
DESCRIPTION:Jeden Mittwoch um 19 Uhr treffen wir uns zum fröhlichen Singen im Dorfgemeinschaftshaus in Kasnevitz. Dabei widmen wir uns Liedern aus aller Welt\, Gospels\, Spirituals\, moderner und klassischer Kirchenmusik. Jeder\, der Freude am Singen hat\, ist willkommen! \nMusikalische Grüße\,\nKatja Wild\n 
URL:https://kirche-putbus.de/veranstaltung/chor-in-kasnevitz/2025-05-14/
LOCATION:Dorfgemeinschaftshaus Kasnevitz\, Dorfstrasse\, Putbus OT Kasnevitz\, 18581\, Deutschland
CATEGORIES:Gruppen und Kreise
ATTACH;FMTTYPE=image/jpeg:https://kirche-putbus.de/wp-content/uploads/2021/09/596724_original_R_by_Thomas-Fresia_pixelio.de_-scaled-e1631012965550.jpg
END:VEVENT
BEGIN:VEVENT
DTSTART;TZID=Europe/Berlin:20250517T100000
DTEND;TZID=Europe/Berlin:20250517T160000
DTSTAMP:20260419T151631
CREATED:20250429T172705Z
LAST-MODIFIED:20250429T173743Z
UID:10001495-1747476000-1747497600@kirche-putbus.de
SUMMARY:Kinderpilgertag
DESCRIPTION:17.05. 10.00 Uhr Kinderpilgertag \n(Start Parkplatz Feuersteinfelder) \nAnmeldung bis 10.05. bei Caroline Walter
URL:https://kirche-putbus.de/veranstaltung/kinderpilgertag/
LOCATION:Feuersteinfelder Mukran\, Parkplatz Feuersteinfelder\, Binz\, 18546\, Deutschland
CATEGORIES:Sonstige Veranstaltungen
GEO:54.4774161299;13.5713569473
X-APPLE-STRUCTURED-LOCATION;VALUE=URI;X-ADDRESS=Feuersteinfelder Mukran Parkplatz Feuersteinfelder Binz 18546 Deutschland;X-APPLE-RADIUS=500;X-TITLE=Parkplatz Feuersteinfelder:geo:13.5713569473,54.4774161299
END:VEVENT
BEGIN:VEVENT
DTSTART;TZID=Europe/Berlin:20250518T103000
DTEND;TZID=Europe/Berlin:20250518T113000
DTSTAMP:20260419T151631
CREATED:20250429T175457Z
LAST-MODIFIED:20250429T175457Z
UID:10001498-1747564200-1747567800@kirche-putbus.de
SUMMARY:Inselgottesdienst in Bergen: Kantate
DESCRIPTION:18. Mai\, Kantate \n10.30 Bergen Inselgottesdienst
URL:https://kirche-putbus.de/veranstaltung/inselgottesdienst-in-bergen-kantate-2/
LOCATION:St. Marienkirche Bergen\, Kirchplatz 2-1\, Bergen auf Rügen\, 18528\, Deutschland
CATEGORIES:Gottesdienste
ATTACH;FMTTYPE=image/jpeg:https://kirche-putbus.de/wp-content/uploads/2021/09/Gottesdienst-img-e1630923533347.jpg
END:VEVENT
BEGIN:VEVENT
DTSTART;TZID=Europe/Berlin:20250519T153000
DTEND;TZID=Europe/Berlin:20250519T163000
DTSTAMP:20260419T151631
CREATED:20230915T163029Z
LAST-MODIFIED:20230915T163029Z
UID:10001149-1747668600-1747672200@kirche-putbus.de
SUMMARY:Kinderkreis
DESCRIPTION:Kinderkreis: 1.-6. Klasse: montags von 15.30-16.30 Uhr \n(Abholung vom Hort um 15 Uhr möglich)\, Pfarramt Putbus
URL:https://kirche-putbus.de/veranstaltung/kinderkreis/2025-05-19/
LOCATION:Schlosskirche Putbus\, Alleestraße 34\, Putbus\, M/V\, 18581\, Deutschland
CATEGORIES:Gruppen und Kreise
ATTACH;FMTTYPE=image/jpeg:https://kirche-putbus.de/wp-content/uploads/2019/03/Krabbelgruppe-GuppenbildGarten-600x300.jpg
END:VEVENT
BEGIN:VEVENT
DTSTART;TZID=Europe/Berlin:20250521T190000
DTEND;TZID=Europe/Berlin:20250521T200000
DTSTAMP:20260419T151631
CREATED:20230707T042407Z
LAST-MODIFIED:20231107T185104Z
UID:10000602-1747854000-1747857600@kirche-putbus.de
SUMMARY:Chor in Kasnevitz
DESCRIPTION:Jeden Mittwoch um 19 Uhr treffen wir uns zum fröhlichen Singen im Dorfgemeinschaftshaus in Kasnevitz. Dabei widmen wir uns Liedern aus aller Welt\, Gospels\, Spirituals\, moderner und klassischer Kirchenmusik. Jeder\, der Freude am Singen hat\, ist willkommen! \nMusikalische Grüße\,\nKatja Wild\n 
URL:https://kirche-putbus.de/veranstaltung/chor-in-kasnevitz/2025-05-21/
LOCATION:Dorfgemeinschaftshaus Kasnevitz\, Dorfstrasse\, Putbus OT Kasnevitz\, 18581\, Deutschland
CATEGORIES:Gruppen und Kreise
ATTACH;FMTTYPE=image/jpeg:https://kirche-putbus.de/wp-content/uploads/2021/09/596724_original_R_by_Thomas-Fresia_pixelio.de_-scaled-e1631012965550.jpg
END:VEVENT
BEGIN:VEVENT
DTSTART;TZID=Europe/Berlin:20250525T103000
DTEND;TZID=Europe/Berlin:20250525T113000
DTSTAMP:20260419T151631
CREATED:20250429T175620Z
LAST-MODIFIED:20250429T175620Z
UID:10001499-1748169000-1748172600@kirche-putbus.de
SUMMARY:Abendmahlsgottesdienst in Putbus: Rogate
DESCRIPTION:25. Mai\, Rogate \n10.30 Putbus Abendmahlsgottesdienst
URL:https://kirche-putbus.de/veranstaltung/abendmahlsgottesdienst-in-putbus-rogate/
LOCATION:Schlosskirche Putbus\, Alleestraße 34\, Putbus\, M/V\, 18581\, Deutschland
CATEGORIES:Gottesdienste
ATTACH;FMTTYPE=image/jpeg:https://kirche-putbus.de/wp-content/uploads/2021/09/Gottesdienst-img-e1630923533347.jpg
END:VEVENT
BEGIN:VEVENT
DTSTART;TZID=Europe/Berlin:20250526T153000
DTEND;TZID=Europe/Berlin:20250526T163000
DTSTAMP:20260419T151631
CREATED:20230915T163029Z
LAST-MODIFIED:20230915T163029Z
UID:10001150-1748273400-1748277000@kirche-putbus.de
SUMMARY:Kinderkreis
DESCRIPTION:Kinderkreis: 1.-6. Klasse: montags von 15.30-16.30 Uhr \n(Abholung vom Hort um 15 Uhr möglich)\, Pfarramt Putbus
URL:https://kirche-putbus.de/veranstaltung/kinderkreis/2025-05-26/
LOCATION:Schlosskirche Putbus\, Alleestraße 34\, Putbus\, M/V\, 18581\, Deutschland
CATEGORIES:Gruppen und Kreise
ATTACH;FMTTYPE=image/jpeg:https://kirche-putbus.de/wp-content/uploads/2019/03/Krabbelgruppe-GuppenbildGarten-600x300.jpg
END:VEVENT
BEGIN:VEVENT
DTSTART;TZID=Europe/Berlin:20250528T190000
DTEND;TZID=Europe/Berlin:20250528T200000
DTSTAMP:20260419T151631
CREATED:20230707T042407Z
LAST-MODIFIED:20231107T185104Z
UID:10000603-1748458800-1748462400@kirche-putbus.de
SUMMARY:Chor in Kasnevitz
DESCRIPTION:Jeden Mittwoch um 19 Uhr treffen wir uns zum fröhlichen Singen im Dorfgemeinschaftshaus in Kasnevitz. Dabei widmen wir uns Liedern aus aller Welt\, Gospels\, Spirituals\, moderner und klassischer Kirchenmusik. Jeder\, der Freude am Singen hat\, ist willkommen! \nMusikalische Grüße\,\nKatja Wild\n 
URL:https://kirche-putbus.de/veranstaltung/chor-in-kasnevitz/2025-05-28/
LOCATION:Dorfgemeinschaftshaus Kasnevitz\, Dorfstrasse\, Putbus OT Kasnevitz\, 18581\, Deutschland
CATEGORIES:Gruppen und Kreise
ATTACH;FMTTYPE=image/jpeg:https://kirche-putbus.de/wp-content/uploads/2021/09/596724_original_R_by_Thomas-Fresia_pixelio.de_-scaled-e1631012965550.jpg
END:VEVENT
BEGIN:VEVENT
DTSTART;TZID=Europe/Berlin:20250530T100000
DTEND;TZID=Europe/Berlin:20250530T110000
DTSTAMP:20260419T151631
CREATED:20250429T175920Z
LAST-MODIFIED:20250429T175920Z
UID:10001500-1748599200-1748602800@kirche-putbus.de
SUMMARY:Regionalgottesdienst am Bakenberg: Christi Himmelfahrt
DESCRIPTION:29. Mai\, Christi Himmelfahrt  \n10.00 Bakenberg\, Groß Zicker  \nRegionalgottesdienst für Groß und Klein
URL:https://kirche-putbus.de/veranstaltung/regionalgottesdienst-am-bakenberg-christi-himmelfahrt/
LOCATION:Bakenberg – Zickersche Berge\, 54°18'07.0"N 13°41'28.0"E\, Deutschland
CATEGORIES:Gottesdienste
ATTACH;FMTTYPE=image/jpeg:https://kirche-putbus.de/wp-content/uploads/2021/09/Gottesdienst-img-e1630923533347.jpg
END:VEVENT
BEGIN:VEVENT
DTSTART;TZID=Europe/Berlin:20250531T193000
DTEND;TZID=Europe/Berlin:20250531T203000
DTSTAMP:20260419T151631
CREATED:20250513T140408Z
LAST-MODIFIED:20250513T140408Z
UID:10001505-1748719800-1748723400@kirche-putbus.de
SUMMARY:Chormusik in Kasnevitz: Christi Himmelfahrt
DESCRIPTION:Chormusik zu Christi Himmelfahrt in Kasnevitz \nFröhlich in Hoffnung \nCapella Laurentia \n31.Mai 19:30 in der Kirche Kasnevitz
URL:https://kirche-putbus.de/veranstaltung/chormusik-in-kasnevitz-christi-himmelfahrt/
LOCATION:St. Jakob Kasnevitz\, Dorfstrasse\, Putbus OT Kasnevitz\, M/V\, 18581\, Deutschland
CATEGORIES:Konzerte
ATTACH;FMTTYPE=application/pdf:https://kirche-putbus.de/wp-content/uploads/2025/05/Plakat_Kasnevitz_Anker-1-1.pdf
END:VEVENT
END:VCALENDAR