BEGIN:VCALENDAR
VERSION:2.0
PRODID:-//Kirchen zu Putbus - ECPv6.15.20//NONSGML v1.0//EN
CALSCALE:GREGORIAN
METHOD:PUBLISH
X-ORIGINAL-URL:https://kirche-putbus.de
X-WR-CALDESC:Veranstaltungen für Kirchen zu Putbus
REFRESH-INTERVAL;VALUE=DURATION:PT1H
X-Robots-Tag:noindex
X-PUBLISHED-TTL:PT1H
BEGIN:VTIMEZONE
TZID:Europe/Berlin
BEGIN:DAYLIGHT
TZOFFSETFROM:+0100
TZOFFSETTO:+0200
TZNAME:CEST
DTSTART:20230326T010000
END:DAYLIGHT
BEGIN:STANDARD
TZOFFSETFROM:+0200
TZOFFSETTO:+0100
TZNAME:CET
DTSTART:20231029T010000
END:STANDARD
BEGIN:DAYLIGHT
TZOFFSETFROM:+0100
TZOFFSETTO:+0200
TZNAME:CEST
DTSTART:20240331T010000
END:DAYLIGHT
BEGIN:STANDARD
TZOFFSETFROM:+0200
TZOFFSETTO:+0100
TZNAME:CET
DTSTART:20241027T010000
END:STANDARD
BEGIN:DAYLIGHT
TZOFFSETFROM:+0100
TZOFFSETTO:+0200
TZNAME:CEST
DTSTART:20250330T010000
END:DAYLIGHT
BEGIN:STANDARD
TZOFFSETFROM:+0200
TZOFFSETTO:+0100
TZNAME:CET
DTSTART:20251026T010000
END:STANDARD
END:VTIMEZONE
BEGIN:VEVENT
DTSTART;TZID=Europe/Berlin:20240901T103000
DTEND;TZID=Europe/Berlin:20240901T113000
DTSTAMP:20260425T143843
CREATED:20240830T122517Z
LAST-MODIFIED:20240830T122517Z
UID:10001435-1725186600-1725190200@kirche-putbus.de
SUMMARY:Gottesdienst und Gemeindefest in Putbus: 14. So. n. Trinitatis
DESCRIPTION:01. September\, 14. Sonntag nach Trinitatis \n10.30 Putbus\, Familiengottesdienst im Zirkuszelt \nmit anschließendem Gemeindefest  \nan der Schlosskirche
URL:https://kirche-putbus.de/veranstaltung/gottesdienst-und-gemeindefest-in-putbus-14-so-n-trinitatis/
LOCATION:Schlosskirche Putbus\, Alleestraße 34\, Putbus\, M/V\, 18581\, Deutschland
CATEGORIES:Gottesdienste
ATTACH;FMTTYPE=image/jpeg:https://kirche-putbus.de/wp-content/uploads/2021/09/Gottesdienst-img-e1630923533347.jpg
END:VEVENT
BEGIN:VEVENT
DTSTART;TZID=Europe/Berlin:20240901T103000
DTEND;TZID=Europe/Berlin:20240901T163000
DTSTAMP:20260425T143843
CREATED:20240830T095124Z
LAST-MODIFIED:20240830T095124Z
UID:10001434-1725186600-1725208200@kirche-putbus.de
SUMMARY:Gemeindefest in Putbus am 1.9.
DESCRIPTION:Herzliche Einladung zu unserem Gemeindefest  \nAm 01. September 2024 um 10.30 Uhr  \nmit einem Gottesdienst im Zirkuszelt für Klein und Groß in unserem Putbusser Pfarrgarten hinter der Schlosskirche \nIm Anschluss gibt es ein buntes Grillbuffet sowie genügend Zeit\, um beim gemeinsamen Mittagessen ins Gespräch zu kommen. Ein Schmink- und Tattoostand der Kita\, eine Tombola sowie eine kleine Kreativstation laden zum Verweilen ein. \nUm 14.00 Uhr heißen Sie Kinder im Alter von 6-12 Jahren zu einer Zirkusaufführung willkommen und präsentieren damit das Ergebnis der diesjährigen Kinderaktionswoche “Wir machen Zirkus!”
URL:https://kirche-putbus.de/veranstaltung/gemeindefest-in-putbus-am-1-9/
LOCATION:Schlosskirche Putbus\, Alleestraße 34\, Putbus\, M/V\, 18581\, Deutschland
CATEGORIES:Gottesdienste,Sonstige Veranstaltungen
ATTACH;FMTTYPE=image/jpeg:https://kirche-putbus.de/wp-content/uploads/2024/07/bunting-642066_1280-e1725011457746.jpg
END:VEVENT
BEGIN:VEVENT
DTSTART;TZID=Europe/Berlin:20240902T153000
DTEND;TZID=Europe/Berlin:20240902T163000
DTSTAMP:20260425T143843
CREATED:20230915T163029Z
LAST-MODIFIED:20230915T163029Z
UID:10001112-1725291000-1725294600@kirche-putbus.de
SUMMARY:Kinderkreis
DESCRIPTION:Kinderkreis: 1.-6. Klasse: montags von 15.30-16.30 Uhr \n(Abholung vom Hort um 15 Uhr möglich)\, Pfarramt Putbus
URL:https://kirche-putbus.de/veranstaltung/kinderkreis/2024-09-02/
LOCATION:Schlosskirche Putbus\, Alleestraße 34\, Putbus\, M/V\, 18581\, Deutschland
CATEGORIES:Gruppen und Kreise
ATTACH;FMTTYPE=image/jpeg:https://kirche-putbus.de/wp-content/uploads/2019/03/Krabbelgruppe-GuppenbildGarten-600x300.jpg
END:VEVENT
BEGIN:VEVENT
DTSTART;TZID=Europe/Berlin:20240904T190000
DTEND;TZID=Europe/Berlin:20240904T200000
DTSTAMP:20260425T143843
CREATED:20230707T042407Z
LAST-MODIFIED:20231107T185104Z
UID:10000565-1725476400-1725480000@kirche-putbus.de
SUMMARY:Chor in Kasnevitz
DESCRIPTION:Jeden Mittwoch um 19 Uhr treffen wir uns zum fröhlichen Singen im Dorfgemeinschaftshaus in Kasnevitz. Dabei widmen wir uns Liedern aus aller Welt\, Gospels\, Spirituals\, moderner und klassischer Kirchenmusik. Jeder\, der Freude am Singen hat\, ist willkommen! \nMusikalische Grüße\,\nKatja Wild\n 
URL:https://kirche-putbus.de/veranstaltung/chor-in-kasnevitz/2024-09-04/
LOCATION:Dorfgemeinschaftshaus Kasnevitz\, Dorfstrasse\, Putbus OT Kasnevitz\, 18581\, Deutschland
CATEGORIES:Gruppen und Kreise
ATTACH;FMTTYPE=image/jpeg:https://kirche-putbus.de/wp-content/uploads/2021/09/596724_original_R_by_Thomas-Fresia_pixelio.de_-scaled-e1631012965550.jpg
END:VEVENT
BEGIN:VEVENT
DTSTART;TZID=Europe/Berlin:20240908T090000
DTEND;TZID=Europe/Berlin:20240908T100000
DTSTAMP:20260425T143843
CREATED:20240830T122733Z
LAST-MODIFIED:20240830T122733Z
UID:10001437-1725786000-1725789600@kirche-putbus.de
SUMMARY:Gottesdienst in Vilmnitz: 15. So. n. Trinitatis
DESCRIPTION:08. September\, 15. Sonntag nach Trinitatis \n9.00 Vilmnitz\, Gottesdienst \n10.30 Putbus\, Gottesdienst 
URL:https://kirche-putbus.de/veranstaltung/gottesdienst-in-vilmnitz-15-so-n-trinitatis/
LOCATION:St. Maria Magdalena Vilmnitz\, Alte Bäderstraße 2\, Putbus OT Vilmnitz\, M/V\, 18581\, Deutschland
CATEGORIES:Gottesdienste
ATTACH;FMTTYPE=image/jpeg:https://kirche-putbus.de/wp-content/uploads/2021/09/Gottesdienst-img-e1630923533347.jpg
END:VEVENT
BEGIN:VEVENT
DTSTART;TZID=Europe/Berlin:20240908T100000
DTEND;TZID=Europe/Berlin:20240908T180000
DTSTAMP:20260425T143843
CREATED:20240830T094108Z
LAST-MODIFIED:20240830T094108Z
UID:10001433-1725789600-1725818400@kirche-putbus.de
SUMMARY:Tag des offenen Denkmals in Vilmnitz
DESCRIPTION:Einblicke in die Fürstengruft \nJedes Jahr am zweiten Sonntag im September findet unter der Schirmherrschaft der Deutschen Stiftung Denkmalschutz der Tag des offenen Denkmals statt. Das ist die Gelegenheit in unserer St. Maria-Magdalena-Kirche zu Vilmnitz einen Blick in die Fürstengruft zu werfen! \nAm Sonntag\, dem 08. September 2024\, steht Diplom-Restaurator Carlo Wloch von 10:00 bis 18:00 Uhr für Fragen und Antworten zur Verfügung!
URL:https://kirche-putbus.de/veranstaltung/tag-des-offenen-denkmals-in-vilmnitz/
LOCATION:St. Maria Magdalena Vilmnitz\, Alte Bäderstraße 2\, Putbus OT Vilmnitz\, M/V\, 18581\, Deutschland
CATEGORIES:Sonstige Veranstaltungen
ATTACH;FMTTYPE=image/jpeg:https://kirche-putbus.de/wp-content/uploads/2021/09/Kirche-Vilmnitz-2019-2500px-Foto-Burwitz-Pocha-56-e1630924985911.jpg
END:VEVENT
BEGIN:VEVENT
DTSTART;TZID=Europe/Berlin:20240908T103000
DTEND;TZID=Europe/Berlin:20240908T113000
DTSTAMP:20260425T143843
CREATED:20240830T122636Z
LAST-MODIFIED:20240830T122636Z
UID:10001436-1725791400-1725795000@kirche-putbus.de
SUMMARY:Gottesdienst in Putbus: 15. So. n. Trinitatis
DESCRIPTION:08. September\, 15. Sonntag nach Trinitatis \n9.00 Vilmnitz\, Gottesdienst \n10.30 Putbus\, Gottesdienst 
URL:https://kirche-putbus.de/veranstaltung/gottesdienst-in-putbus-15-so-n-trinitatis/
LOCATION:Schlosskirche Putbus\, Alleestraße 34\, Putbus\, M/V\, 18581\, Deutschland
CATEGORIES:Gottesdienste
ATTACH;FMTTYPE=image/jpeg:https://kirche-putbus.de/wp-content/uploads/2021/09/Gottesdienst-img-e1630923533347.jpg
END:VEVENT
BEGIN:VEVENT
DTSTART;TZID=Europe/Berlin:20240909T153000
DTEND;TZID=Europe/Berlin:20240909T163000
DTSTAMP:20260425T143843
CREATED:20230915T163029Z
LAST-MODIFIED:20230915T163029Z
UID:10001113-1725895800-1725899400@kirche-putbus.de
SUMMARY:Kinderkreis
DESCRIPTION:Kinderkreis: 1.-6. Klasse: montags von 15.30-16.30 Uhr \n(Abholung vom Hort um 15 Uhr möglich)\, Pfarramt Putbus
URL:https://kirche-putbus.de/veranstaltung/kinderkreis/2024-09-09/
LOCATION:Schlosskirche Putbus\, Alleestraße 34\, Putbus\, M/V\, 18581\, Deutschland
CATEGORIES:Gruppen und Kreise
ATTACH;FMTTYPE=image/jpeg:https://kirche-putbus.de/wp-content/uploads/2019/03/Krabbelgruppe-GuppenbildGarten-600x300.jpg
END:VEVENT
BEGIN:VEVENT
DTSTART;TZID=Europe/Berlin:20240911T190000
DTEND;TZID=Europe/Berlin:20240911T200000
DTSTAMP:20260425T143843
CREATED:20230707T042407Z
LAST-MODIFIED:20231107T185104Z
UID:10000566-1726081200-1726084800@kirche-putbus.de
SUMMARY:Chor in Kasnevitz
DESCRIPTION:Jeden Mittwoch um 19 Uhr treffen wir uns zum fröhlichen Singen im Dorfgemeinschaftshaus in Kasnevitz. Dabei widmen wir uns Liedern aus aller Welt\, Gospels\, Spirituals\, moderner und klassischer Kirchenmusik. Jeder\, der Freude am Singen hat\, ist willkommen! \nMusikalische Grüße\,\nKatja Wild\n 
URL:https://kirche-putbus.de/veranstaltung/chor-in-kasnevitz/2024-09-11/
LOCATION:Dorfgemeinschaftshaus Kasnevitz\, Dorfstrasse\, Putbus OT Kasnevitz\, 18581\, Deutschland
CATEGORIES:Gruppen und Kreise
ATTACH;FMTTYPE=image/jpeg:https://kirche-putbus.de/wp-content/uploads/2021/09/596724_original_R_by_Thomas-Fresia_pixelio.de_-scaled-e1631012965550.jpg
END:VEVENT
BEGIN:VEVENT
DTSTART;TZID=Europe/Berlin:20240915T090000
DTEND;TZID=Europe/Berlin:20240915T100000
DTSTAMP:20260425T143843
CREATED:20240830T122845Z
LAST-MODIFIED:20240830T122845Z
UID:10001438-1726390800-1726394400@kirche-putbus.de
SUMMARY:Gottesdienst in Kasnevitz: 16. So. n. Trinitatis
DESCRIPTION:15. September\, 16. Sonntag nach Trinitatis \n9.00 Kasnevitz\, Gottesdienst \n10.30 Putbus\, Gottesdienst
URL:https://kirche-putbus.de/veranstaltung/gottesdienst-in-kasnevitz-16-so-n-trinitatis/
LOCATION:St. Jakob Kasnevitz\, Dorfstrasse\, Putbus OT Kasnevitz\, M/V\, 18581\, Deutschland
CATEGORIES:Gottesdienste
ATTACH;FMTTYPE=image/jpeg:https://kirche-putbus.de/wp-content/uploads/2021/09/Gottesdienst-img-e1630923533347.jpg
END:VEVENT
BEGIN:VEVENT
DTSTART;TZID=Europe/Berlin:20240915T103000
DTEND;TZID=Europe/Berlin:20240915T113000
DTSTAMP:20260425T143843
CREATED:20240830T122929Z
LAST-MODIFIED:20240830T122929Z
UID:10001439-1726396200-1726399800@kirche-putbus.de
SUMMARY:Gottesdienst in Putbus: 16. So. n. Trinitatis
DESCRIPTION:15. September\, 16. Sonntag nach Trinitatis \n9.00 Kasnevitz\, Gottesdienst \n10.30 Putbus\, Gottesdienst
URL:https://kirche-putbus.de/veranstaltung/gottesdienst-in-putbus-16-so-n-trinitatis/
LOCATION:Schlosskirche Putbus\, Alleestraße 34\, Putbus\, M/V\, 18581\, Deutschland
CATEGORIES:Gottesdienste
ATTACH;FMTTYPE=image/jpeg:https://kirche-putbus.de/wp-content/uploads/2021/09/Gottesdienst-img-e1630923533347.jpg
END:VEVENT
BEGIN:VEVENT
DTSTART;TZID=Europe/Berlin:20240916T153000
DTEND;TZID=Europe/Berlin:20240916T163000
DTSTAMP:20260425T143843
CREATED:20230915T163029Z
LAST-MODIFIED:20230915T163029Z
UID:10001114-1726500600-1726504200@kirche-putbus.de
SUMMARY:Kinderkreis
DESCRIPTION:Kinderkreis: 1.-6. Klasse: montags von 15.30-16.30 Uhr \n(Abholung vom Hort um 15 Uhr möglich)\, Pfarramt Putbus
URL:https://kirche-putbus.de/veranstaltung/kinderkreis/2024-09-16/
LOCATION:Schlosskirche Putbus\, Alleestraße 34\, Putbus\, M/V\, 18581\, Deutschland
CATEGORIES:Gruppen und Kreise
ATTACH;FMTTYPE=image/jpeg:https://kirche-putbus.de/wp-content/uploads/2019/03/Krabbelgruppe-GuppenbildGarten-600x300.jpg
END:VEVENT
BEGIN:VEVENT
DTSTART;TZID=Europe/Berlin:20240918T190000
DTEND;TZID=Europe/Berlin:20240918T200000
DTSTAMP:20260425T143843
CREATED:20230707T042407Z
LAST-MODIFIED:20231107T185104Z
UID:10000567-1726686000-1726689600@kirche-putbus.de
SUMMARY:Chor in Kasnevitz
DESCRIPTION:Jeden Mittwoch um 19 Uhr treffen wir uns zum fröhlichen Singen im Dorfgemeinschaftshaus in Kasnevitz. Dabei widmen wir uns Liedern aus aller Welt\, Gospels\, Spirituals\, moderner und klassischer Kirchenmusik. Jeder\, der Freude am Singen hat\, ist willkommen! \nMusikalische Grüße\,\nKatja Wild\n 
URL:https://kirche-putbus.de/veranstaltung/chor-in-kasnevitz/2024-09-18/
LOCATION:Dorfgemeinschaftshaus Kasnevitz\, Dorfstrasse\, Putbus OT Kasnevitz\, 18581\, Deutschland
CATEGORIES:Gruppen und Kreise
ATTACH;FMTTYPE=image/jpeg:https://kirche-putbus.de/wp-content/uploads/2021/09/596724_original_R_by_Thomas-Fresia_pixelio.de_-scaled-e1631012965550.jpg
END:VEVENT
BEGIN:VEVENT
DTSTART;TZID=Europe/Berlin:20240922T103000
DTEND;TZID=Europe/Berlin:20240922T113000
DTSTAMP:20260425T143843
CREATED:20240830T123041Z
LAST-MODIFIED:20240830T123041Z
UID:10001440-1727001000-1727004600@kirche-putbus.de
SUMMARY:Gemeindeausflug nach Wustrow und Ahrenshoop: 17. So. n. Trinitatis
DESCRIPTION:22. September\, 17. Sonntag nach Trinitatis \nGemeindeausflug nach Wustrow und Ahrenshoop
URL:https://kirche-putbus.de/veranstaltung/gemeindeausflug-nach-wustrow-und-ahrenshoop-17-so-n-trinitatis/
LOCATION:Schlosskirche Putbus\, Alleestraße 34\, Putbus\, M/V\, 18581\, Deutschland
CATEGORIES:Gottesdienste,Sonstige Veranstaltungen
ATTACH;FMTTYPE=image/jpeg:https://kirche-putbus.de/wp-content/uploads/2021/09/Gottesdienst-img-e1630923533347.jpg
END:VEVENT
BEGIN:VEVENT
DTSTART;TZID=Europe/Berlin:20240923T153000
DTEND;TZID=Europe/Berlin:20240923T163000
DTSTAMP:20260425T143843
CREATED:20230915T163029Z
LAST-MODIFIED:20230915T163029Z
UID:10001115-1727105400-1727109000@kirche-putbus.de
SUMMARY:Kinderkreis
DESCRIPTION:Kinderkreis: 1.-6. Klasse: montags von 15.30-16.30 Uhr \n(Abholung vom Hort um 15 Uhr möglich)\, Pfarramt Putbus
URL:https://kirche-putbus.de/veranstaltung/kinderkreis/2024-09-23/
LOCATION:Schlosskirche Putbus\, Alleestraße 34\, Putbus\, M/V\, 18581\, Deutschland
CATEGORIES:Gruppen und Kreise
ATTACH;FMTTYPE=image/jpeg:https://kirche-putbus.de/wp-content/uploads/2019/03/Krabbelgruppe-GuppenbildGarten-600x300.jpg
END:VEVENT
BEGIN:VEVENT
DTSTART;TZID=Europe/Berlin:20240925T190000
DTEND;TZID=Europe/Berlin:20240925T200000
DTSTAMP:20260425T143843
CREATED:20230707T042407Z
LAST-MODIFIED:20231107T185104Z
UID:10000568-1727290800-1727294400@kirche-putbus.de
SUMMARY:Chor in Kasnevitz
DESCRIPTION:Jeden Mittwoch um 19 Uhr treffen wir uns zum fröhlichen Singen im Dorfgemeinschaftshaus in Kasnevitz. Dabei widmen wir uns Liedern aus aller Welt\, Gospels\, Spirituals\, moderner und klassischer Kirchenmusik. Jeder\, der Freude am Singen hat\, ist willkommen! \nMusikalische Grüße\,\nKatja Wild\n 
URL:https://kirche-putbus.de/veranstaltung/chor-in-kasnevitz/2024-09-25/
LOCATION:Dorfgemeinschaftshaus Kasnevitz\, Dorfstrasse\, Putbus OT Kasnevitz\, 18581\, Deutschland
CATEGORIES:Gruppen und Kreise
ATTACH;FMTTYPE=image/jpeg:https://kirche-putbus.de/wp-content/uploads/2021/09/596724_original_R_by_Thomas-Fresia_pixelio.de_-scaled-e1631012965550.jpg
END:VEVENT
BEGIN:VEVENT
DTSTART;TZID=Europe/Berlin:20240929T103000
DTEND;TZID=Europe/Berlin:20240929T113000
DTSTAMP:20260425T143843
CREATED:20240830T123202Z
LAST-MODIFIED:20240830T123202Z
UID:10001441-1727605800-1727609400@kirche-putbus.de
SUMMARY:Familiengottesdienst zu Erntedank in Putbus: Michaelis
DESCRIPTION:29. September\, Michaelis \n10.30 Putbus\, Familiengottesdienst zu Erntedank 
URL:https://kirche-putbus.de/veranstaltung/familiengottesdienst-zu-erntedank-in-putbus-michaelis/
LOCATION:Schlosskirche Putbus\, Alleestraße 34\, Putbus\, M/V\, 18581\, Deutschland
CATEGORIES:Gottesdienste
ATTACH;FMTTYPE=image/jpeg:https://kirche-putbus.de/wp-content/uploads/2021/09/Gottesdienst-img-e1630923533347.jpg
END:VEVENT
BEGIN:VEVENT
DTSTART;TZID=Europe/Berlin:20240930T153000
DTEND;TZID=Europe/Berlin:20240930T163000
DTSTAMP:20260425T143843
CREATED:20230915T163029Z
LAST-MODIFIED:20230915T163029Z
UID:10001116-1727710200-1727713800@kirche-putbus.de
SUMMARY:Kinderkreis
DESCRIPTION:Kinderkreis: 1.-6. Klasse: montags von 15.30-16.30 Uhr \n(Abholung vom Hort um 15 Uhr möglich)\, Pfarramt Putbus
URL:https://kirche-putbus.de/veranstaltung/kinderkreis/2024-09-30/
LOCATION:Schlosskirche Putbus\, Alleestraße 34\, Putbus\, M/V\, 18581\, Deutschland
CATEGORIES:Gruppen und Kreise
ATTACH;FMTTYPE=image/jpeg:https://kirche-putbus.de/wp-content/uploads/2019/03/Krabbelgruppe-GuppenbildGarten-600x300.jpg
END:VEVENT
END:VCALENDAR