BEGIN:VCALENDAR
VERSION:2.0
PRODID:-//Kirchen zu Putbus - ECPv6.15.20//NONSGML v1.0//EN
CALSCALE:GREGORIAN
METHOD:PUBLISH
X-WR-CALNAME:Kirchen zu Putbus
X-ORIGINAL-URL:https://kirche-putbus.de
X-WR-CALDESC:Veranstaltungen für Kirchen zu Putbus
REFRESH-INTERVAL;VALUE=DURATION:PT1H
X-Robots-Tag:noindex
X-PUBLISHED-TTL:PT1H
BEGIN:VTIMEZONE
TZID:Europe/Berlin
BEGIN:DAYLIGHT
TZOFFSETFROM:+0100
TZOFFSETTO:+0200
TZNAME:CEST
DTSTART:20230326T010000
END:DAYLIGHT
BEGIN:STANDARD
TZOFFSETFROM:+0200
TZOFFSETTO:+0100
TZNAME:CET
DTSTART:20231029T010000
END:STANDARD
BEGIN:DAYLIGHT
TZOFFSETFROM:+0100
TZOFFSETTO:+0200
TZNAME:CEST
DTSTART:20240331T010000
END:DAYLIGHT
BEGIN:STANDARD
TZOFFSETFROM:+0200
TZOFFSETTO:+0100
TZNAME:CET
DTSTART:20241027T010000
END:STANDARD
BEGIN:DAYLIGHT
TZOFFSETFROM:+0100
TZOFFSETTO:+0200
TZNAME:CEST
DTSTART:20250330T010000
END:DAYLIGHT
BEGIN:STANDARD
TZOFFSETFROM:+0200
TZOFFSETTO:+0100
TZNAME:CET
DTSTART:20251026T010000
END:STANDARD
END:VTIMEZONE
BEGIN:VEVENT
DTSTART;TZID=Europe/Berlin:20240602T160000
DTEND;TZID=Europe/Berlin:20240602T170000
DTSTAMP:20260421T004739
CREATED:20240506T144336Z
LAST-MODIFIED:20240515T084930Z
UID:10001397-1717344000-1717347600@kirche-putbus.de
SUMMARY:Orgelfahrt Rügen - Kasnevitz: 1. Sonntag nach Trinitatis
DESCRIPTION:2. Juni\, 1. Sonntag nach Trinitatis\, Orgelfahrt Rügen mit dem Kantor der Dresdner Frauenkirche\, Matthias Grünert \n16.00 Uhr\, Kasnevitz / 18.00 Uhr\, Vilmnitz / 20.00 Uhr\, Putbus
URL:https://kirche-putbus.de/veranstaltung/orgelfahrt-ruegen-1-sonntag-nach-trinitatis/
LOCATION:St. Jakob Kasnevitz\, Dorfstrasse\, Putbus OT Kasnevitz\, M/V\, 18581\, Deutschland
CATEGORIES:Gottesdienste,Konzerte
ATTACH;FMTTYPE=image/png:https://kirche-putbus.de/wp-content/uploads/2024/05/Orgelfahrt-Ruegen-2024-1-e1715762939733.png
END:VEVENT
BEGIN:VEVENT
DTSTART;TZID=Europe/Berlin:20240602T180000
DTEND;TZID=Europe/Berlin:20240602T190000
DTSTAMP:20260421T004739
CREATED:20240506T144413Z
LAST-MODIFIED:20240515T085205Z
UID:10001398-1717351200-1717354800@kirche-putbus.de
SUMMARY:Orgelfahrt Rügen - Vilmnitz: 1. Sonntag nach Trinitatis
DESCRIPTION:2. Juni\, 1. Sonntag nach Trinitatis\, Orgelfahrt Rügen mit dem Kantor der Dresdner Frauenkirche\, Matthias Grünert \n16.00 Uhr\, Kasnevitz / 18.00 Uhr\, Vilmnitz / 20.00 Uhr\, Putbus
URL:https://kirche-putbus.de/veranstaltung/orgelfahrt-ruegen-vilmnitz-1-sonntag-nach-trinitatis/
LOCATION:St. Maria Magdalena Vilmnitz\, Alte Bäderstraße 2\, Putbus OT Vilmnitz\, M/V\, 18581\, Deutschland
CATEGORIES:Gottesdienste,Konzerte
ATTACH;FMTTYPE=image/png:https://kirche-putbus.de/wp-content/uploads/2024/05/Orgelfahrt-Ruegen-2024-1-e1715762939733.png
END:VEVENT
BEGIN:VEVENT
DTSTART;TZID=Europe/Berlin:20240602T200000
DTEND;TZID=Europe/Berlin:20240602T210000
DTSTAMP:20260421T004739
CREATED:20240506T144540Z
LAST-MODIFIED:20240515T085112Z
UID:10001399-1717358400-1717362000@kirche-putbus.de
SUMMARY:Orgelfahrt Rügen - Putbus: 1. Sonntag nach Trinitatis
DESCRIPTION:2. Juni\, 1. Sonntag nach Trinitatis\, Orgelfahrt Rügen mit dem Kantor der Dresdner Frauenkirche\, Matthias Grünert \n16.00 Uhr\, Kasnevitz / 18.00 Uhr\, Vilmnitz / 20.00 Uhr\, Putbus
URL:https://kirche-putbus.de/veranstaltung/orgelfahrt-ruegen-putbus-1-sonntag-nach-trinitatis/
LOCATION:Schlosskirche Putbus\, Alleestraße 34\, Putbus\, M/V\, 18581\, Deutschland
CATEGORIES:Gottesdienste,Konzerte
ATTACH;FMTTYPE=image/png:https://kirche-putbus.de/wp-content/uploads/2024/05/Orgelfahrt-Ruegen-2024-1-e1715762939733.png
END:VEVENT
BEGIN:VEVENT
DTSTART;TZID=Europe/Berlin:20240603T153000
DTEND;TZID=Europe/Berlin:20240603T163000
DTSTAMP:20260421T004739
CREATED:20230915T163029Z
LAST-MODIFIED:20230915T163029Z
UID:10001099-1717428600-1717432200@kirche-putbus.de
SUMMARY:Kinderkreis
DESCRIPTION:Kinderkreis: 1.-6. Klasse: montags von 15.30-16.30 Uhr \n(Abholung vom Hort um 15 Uhr möglich)\, Pfarramt Putbus
URL:https://kirche-putbus.de/veranstaltung/kinderkreis/2024-06-03/
LOCATION:Schlosskirche Putbus\, Alleestraße 34\, Putbus\, M/V\, 18581\, Deutschland
CATEGORIES:Gruppen und Kreise
ATTACH;FMTTYPE=image/jpeg:https://kirche-putbus.de/wp-content/uploads/2019/03/Krabbelgruppe-GuppenbildGarten-600x300.jpg
END:VEVENT
BEGIN:VEVENT
DTSTART;TZID=Europe/Berlin:20240605T190000
DTEND;TZID=Europe/Berlin:20240605T200000
DTSTAMP:20260421T004739
CREATED:20230707T042407Z
LAST-MODIFIED:20231107T185104Z
UID:10000552-1717614000-1717617600@kirche-putbus.de
SUMMARY:Chor in Kasnevitz
DESCRIPTION:Jeden Mittwoch um 19 Uhr treffen wir uns zum fröhlichen Singen im Dorfgemeinschaftshaus in Kasnevitz. Dabei widmen wir uns Liedern aus aller Welt\, Gospels\, Spirituals\, moderner und klassischer Kirchenmusik. Jeder\, der Freude am Singen hat\, ist willkommen! \nMusikalische Grüße\,\nKatja Wild\n 
URL:https://kirche-putbus.de/veranstaltung/chor-in-kasnevitz/2024-06-05/
LOCATION:Dorfgemeinschaftshaus Kasnevitz\, Dorfstrasse\, Putbus OT Kasnevitz\, 18581\, Deutschland
CATEGORIES:Gruppen und Kreise
ATTACH;FMTTYPE=image/jpeg:https://kirche-putbus.de/wp-content/uploads/2021/09/596724_original_R_by_Thomas-Fresia_pixelio.de_-scaled-e1631012965550.jpg
END:VEVENT
BEGIN:VEVENT
DTSTART;TZID=Europe/Berlin:20240609T090000
DTEND;TZID=Europe/Berlin:20240609T103000
DTSTAMP:20260421T004739
CREATED:20240609T072953Z
LAST-MODIFIED:20240609T072953Z
UID:10001401-1717923600-1717929000@kirche-putbus.de
SUMMARY:Gottesdienst in Kasnevitz: 2. So. n. Trinitatis
DESCRIPTION:09.06. 2. So. n. Trinitatis \nGottesdienst \n09.00 Uhr Kasnevitz \n10.30 Uhr Putbus
URL:https://kirche-putbus.de/veranstaltung/gottesdienst-in-kasnevitz-2-so-n-trinitatis/
LOCATION:St. Jakob Kasnevitz\, Dorfstrasse\, Putbus OT Kasnevitz\, M/V\, 18581\, Deutschland
CATEGORIES:Gottesdienste
ATTACH;FMTTYPE=image/jpeg:https://kirche-putbus.de/wp-content/uploads/2021/09/Gottesdienst-img-e1630923533347.jpg
END:VEVENT
BEGIN:VEVENT
DTSTART;TZID=Europe/Berlin:20240609T103000
DTEND;TZID=Europe/Berlin:20240609T113000
DTSTAMP:20260421T004739
CREATED:20240609T073322Z
LAST-MODIFIED:20240609T073322Z
UID:10001403-1717929000-1717932600@kirche-putbus.de
SUMMARY:Gottesdienst in Putbus: 2. So. n. Trinitatis
DESCRIPTION:09.06. 2. So. n. Trinitatis \nGottesdienst \n09.00 Uhr Kasnevitz \n10.30 Uhr Putbus
URL:https://kirche-putbus.de/veranstaltung/gottesdienst-in-putbus-2-so-n-trinitatis-2/
LOCATION:Schlosskirche Putbus\, Alleestraße 34\, Putbus\, M/V\, 18581\, Deutschland
CATEGORIES:Gottesdienste
ATTACH;FMTTYPE=image/jpeg:https://kirche-putbus.de/wp-content/uploads/2021/09/Gottesdienst-img-e1630923533347.jpg
END:VEVENT
BEGIN:VEVENT
DTSTART;TZID=Europe/Berlin:20240610T153000
DTEND;TZID=Europe/Berlin:20240610T163000
DTSTAMP:20260421T004739
CREATED:20230915T163029Z
LAST-MODIFIED:20230915T163029Z
UID:10001100-1718033400-1718037000@kirche-putbus.de
SUMMARY:Kinderkreis
DESCRIPTION:Kinderkreis: 1.-6. Klasse: montags von 15.30-16.30 Uhr \n(Abholung vom Hort um 15 Uhr möglich)\, Pfarramt Putbus
URL:https://kirche-putbus.de/veranstaltung/kinderkreis/2024-06-10/
LOCATION:Schlosskirche Putbus\, Alleestraße 34\, Putbus\, M/V\, 18581\, Deutschland
CATEGORIES:Gruppen und Kreise
ATTACH;FMTTYPE=image/jpeg:https://kirche-putbus.de/wp-content/uploads/2019/03/Krabbelgruppe-GuppenbildGarten-600x300.jpg
END:VEVENT
BEGIN:VEVENT
DTSTART;TZID=Europe/Berlin:20240612T190000
DTEND;TZID=Europe/Berlin:20240612T200000
DTSTAMP:20260421T004739
CREATED:20230707T042407Z
LAST-MODIFIED:20231107T185104Z
UID:10000553-1718218800-1718222400@kirche-putbus.de
SUMMARY:Chor in Kasnevitz
DESCRIPTION:Jeden Mittwoch um 19 Uhr treffen wir uns zum fröhlichen Singen im Dorfgemeinschaftshaus in Kasnevitz. Dabei widmen wir uns Liedern aus aller Welt\, Gospels\, Spirituals\, moderner und klassischer Kirchenmusik. Jeder\, der Freude am Singen hat\, ist willkommen! \nMusikalische Grüße\,\nKatja Wild\n 
URL:https://kirche-putbus.de/veranstaltung/chor-in-kasnevitz/2024-06-12/
LOCATION:Dorfgemeinschaftshaus Kasnevitz\, Dorfstrasse\, Putbus OT Kasnevitz\, 18581\, Deutschland
CATEGORIES:Gruppen und Kreise
ATTACH;FMTTYPE=image/jpeg:https://kirche-putbus.de/wp-content/uploads/2021/09/596724_original_R_by_Thomas-Fresia_pixelio.de_-scaled-e1631012965550.jpg
END:VEVENT
BEGIN:VEVENT
DTSTART;TZID=Europe/Berlin:20240616T103000
DTEND;TZID=Europe/Berlin:20240616T113000
DTSTAMP:20260421T004739
CREATED:20240609T073040Z
LAST-MODIFIED:20240609T073232Z
UID:10001402-1718533800-1718537400@kirche-putbus.de
SUMMARY:Lindengottesdienst mit anschließendem Gemeindekaffee in Vilmnitz: 3. So. n. Trinitatis
DESCRIPTION:16.06. 3. So. n. Trinitatis \nLindengottesdienst mit anschließendem Gemeindekaffee \n10.30 Uhr Vilmnitz
URL:https://kirche-putbus.de/veranstaltung/gottesdienst-in-putbus-2-so-n-trinitatis/
LOCATION:St. Maria Magdalena Vilmnitz\, Alte Bäderstraße 2\, Putbus OT Vilmnitz\, M/V\, 18581\, Deutschland
CATEGORIES:Gottesdienste
ATTACH;FMTTYPE=image/jpeg:https://kirche-putbus.de/wp-content/uploads/2021/09/Gottesdienst-img-e1630923533347.jpg
END:VEVENT
BEGIN:VEVENT
DTSTART;TZID=Europe/Berlin:20240617T153000
DTEND;TZID=Europe/Berlin:20240617T163000
DTSTAMP:20260421T004739
CREATED:20230915T163029Z
LAST-MODIFIED:20230915T163029Z
UID:10001101-1718638200-1718641800@kirche-putbus.de
SUMMARY:Kinderkreis
DESCRIPTION:Kinderkreis: 1.-6. Klasse: montags von 15.30-16.30 Uhr \n(Abholung vom Hort um 15 Uhr möglich)\, Pfarramt Putbus
URL:https://kirche-putbus.de/veranstaltung/kinderkreis/2024-06-17/
LOCATION:Schlosskirche Putbus\, Alleestraße 34\, Putbus\, M/V\, 18581\, Deutschland
CATEGORIES:Gruppen und Kreise
ATTACH;FMTTYPE=image/jpeg:https://kirche-putbus.de/wp-content/uploads/2019/03/Krabbelgruppe-GuppenbildGarten-600x300.jpg
END:VEVENT
BEGIN:VEVENT
DTSTART;TZID=Europe/Berlin:20240619T190000
DTEND;TZID=Europe/Berlin:20240619T200000
DTSTAMP:20260421T004739
CREATED:20230707T042407Z
LAST-MODIFIED:20231107T185104Z
UID:10000554-1718823600-1718827200@kirche-putbus.de
SUMMARY:Chor in Kasnevitz
DESCRIPTION:Jeden Mittwoch um 19 Uhr treffen wir uns zum fröhlichen Singen im Dorfgemeinschaftshaus in Kasnevitz. Dabei widmen wir uns Liedern aus aller Welt\, Gospels\, Spirituals\, moderner und klassischer Kirchenmusik. Jeder\, der Freude am Singen hat\, ist willkommen! \nMusikalische Grüße\,\nKatja Wild\n 
URL:https://kirche-putbus.de/veranstaltung/chor-in-kasnevitz/2024-06-19/
LOCATION:Dorfgemeinschaftshaus Kasnevitz\, Dorfstrasse\, Putbus OT Kasnevitz\, 18581\, Deutschland
CATEGORIES:Gruppen und Kreise
ATTACH;FMTTYPE=image/jpeg:https://kirche-putbus.de/wp-content/uploads/2021/09/596724_original_R_by_Thomas-Fresia_pixelio.de_-scaled-e1631012965550.jpg
END:VEVENT
BEGIN:VEVENT
DTSTART;TZID=Europe/Berlin:20240623T090000
DTEND;TZID=Europe/Berlin:20240623T103000
DTSTAMP:20260421T004739
CREATED:20240614T073908Z
LAST-MODIFIED:20240614T073908Z
UID:10001404-1719133200-1719138600@kirche-putbus.de
SUMMARY:Gottesdienst in Kasnevitz: 4. So. n. Trinitatis
DESCRIPTION:23. Juni 4. So. n. Tr. \n9.00 Kasnevitz 10.30 Putbus
URL:https://kirche-putbus.de/veranstaltung/gottesdienst-in-kasnevitz-4-so-n-trinitatis/
LOCATION:St. Jakob Kasnevitz\, Dorfstrasse\, Putbus OT Kasnevitz\, M/V\, 18581\, Deutschland
CATEGORIES:Gottesdienste
ATTACH;FMTTYPE=image/jpeg:https://kirche-putbus.de/wp-content/uploads/2021/09/Gottesdienst-img-e1630923533347.jpg
END:VEVENT
BEGIN:VEVENT
DTSTART;TZID=Europe/Berlin:20240624T153000
DTEND;TZID=Europe/Berlin:20240624T163000
DTSTAMP:20260421T004739
CREATED:20230915T163029Z
LAST-MODIFIED:20230915T163029Z
UID:10001102-1719243000-1719246600@kirche-putbus.de
SUMMARY:Kinderkreis
DESCRIPTION:Kinderkreis: 1.-6. Klasse: montags von 15.30-16.30 Uhr \n(Abholung vom Hort um 15 Uhr möglich)\, Pfarramt Putbus
URL:https://kirche-putbus.de/veranstaltung/kinderkreis/2024-06-24/
LOCATION:Schlosskirche Putbus\, Alleestraße 34\, Putbus\, M/V\, 18581\, Deutschland
CATEGORIES:Gruppen und Kreise
ATTACH;FMTTYPE=image/jpeg:https://kirche-putbus.de/wp-content/uploads/2019/03/Krabbelgruppe-GuppenbildGarten-600x300.jpg
END:VEVENT
BEGIN:VEVENT
DTSTART;TZID=Europe/Berlin:20240626T190000
DTEND;TZID=Europe/Berlin:20240626T200000
DTSTAMP:20260421T004739
CREATED:20230707T042407Z
LAST-MODIFIED:20231107T185104Z
UID:10000555-1719428400-1719432000@kirche-putbus.de
SUMMARY:Chor in Kasnevitz
DESCRIPTION:Jeden Mittwoch um 19 Uhr treffen wir uns zum fröhlichen Singen im Dorfgemeinschaftshaus in Kasnevitz. Dabei widmen wir uns Liedern aus aller Welt\, Gospels\, Spirituals\, moderner und klassischer Kirchenmusik. Jeder\, der Freude am Singen hat\, ist willkommen! \nMusikalische Grüße\,\nKatja Wild\n 
URL:https://kirche-putbus.de/veranstaltung/chor-in-kasnevitz/2024-06-26/
LOCATION:Dorfgemeinschaftshaus Kasnevitz\, Dorfstrasse\, Putbus OT Kasnevitz\, 18581\, Deutschland
CATEGORIES:Gruppen und Kreise
ATTACH;FMTTYPE=image/jpeg:https://kirche-putbus.de/wp-content/uploads/2021/09/596724_original_R_by_Thomas-Fresia_pixelio.de_-scaled-e1631012965550.jpg
END:VEVENT
BEGIN:VEVENT
DTSTART;TZID=Europe/Berlin:20240630T090000
DTEND;TZID=Europe/Berlin:20240630T100000
DTSTAMP:20260421T004739
CREATED:20240614T073942Z
LAST-MODIFIED:20240614T075854Z
UID:10001405-1719738000-1719741600@kirche-putbus.de
SUMMARY:Abendmahlsgottesdienst in Vilmnitz: 5. So. n. Trinitatis
DESCRIPTION:30. Juni 5. So. n. Tr. \n9.00 Vilmnitz 10.30 Putbus Abendmahlsgottesdienste
URL:https://kirche-putbus.de/veranstaltung/gottesdienst-in-putbus-4-so-n-trinitatis/
LOCATION:St. Maria Magdalena Vilmnitz\, Alte Bäderstraße 2\, Putbus OT Vilmnitz\, M/V\, 18581\, Deutschland
CATEGORIES:Gottesdienste
ATTACH;FMTTYPE=image/jpeg:https://kirche-putbus.de/wp-content/uploads/2021/09/Gottesdienst-img-e1630923533347.jpg
END:VEVENT
BEGIN:VEVENT
DTSTART;TZID=Europe/Berlin:20240630T103000
DTEND;TZID=Europe/Berlin:20240630T113000
DTSTAMP:20260421T004739
CREATED:20240614T075950Z
LAST-MODIFIED:20240614T075950Z
UID:10001406-1719743400-1719747000@kirche-putbus.de
SUMMARY:Abendmahlsgottesdienst in Putbus: 5. So. n. Trinitatis
DESCRIPTION:30. Juni 5. So. n. Tr. \n9.00 Vilmnitz 10.30 Putbus Abendmahlsgottesdienste
URL:https://kirche-putbus.de/veranstaltung/abendmahlsgottesdienst-in-putbus-5-so-n-trinitatis/
LOCATION:Schlosskirche Putbus\, Alleestraße 34\, Putbus\, M/V\, 18581\, Deutschland
CATEGORIES:Gottesdienste
ATTACH;FMTTYPE=image/jpeg:https://kirche-putbus.de/wp-content/uploads/2021/09/Gottesdienst-img-e1630923533347.jpg
END:VEVENT
END:VCALENDAR