BEGIN:VCALENDAR
VERSION:2.0
PRODID:-//Kirchen zu Putbus - ECPv6.15.20//NONSGML v1.0//EN
CALSCALE:GREGORIAN
METHOD:PUBLISH
X-ORIGINAL-URL:https://kirche-putbus.de
X-WR-CALDESC:Veranstaltungen für Kirchen zu Putbus
REFRESH-INTERVAL;VALUE=DURATION:PT1H
X-Robots-Tag:noindex
X-PUBLISHED-TTL:PT1H
BEGIN:VTIMEZONE
TZID:Europe/Berlin
BEGIN:DAYLIGHT
TZOFFSETFROM:+0100
TZOFFSETTO:+0200
TZNAME:CEST
DTSTART:20230326T010000
END:DAYLIGHT
BEGIN:STANDARD
TZOFFSETFROM:+0200
TZOFFSETTO:+0100
TZNAME:CET
DTSTART:20231029T010000
END:STANDARD
BEGIN:DAYLIGHT
TZOFFSETFROM:+0100
TZOFFSETTO:+0200
TZNAME:CEST
DTSTART:20240331T010000
END:DAYLIGHT
BEGIN:STANDARD
TZOFFSETFROM:+0200
TZOFFSETTO:+0100
TZNAME:CET
DTSTART:20241027T010000
END:STANDARD
BEGIN:DAYLIGHT
TZOFFSETFROM:+0100
TZOFFSETTO:+0200
TZNAME:CEST
DTSTART:20250330T010000
END:DAYLIGHT
BEGIN:STANDARD
TZOFFSETFROM:+0200
TZOFFSETTO:+0100
TZNAME:CET
DTSTART:20251026T010000
END:STANDARD
END:VTIMEZONE
BEGIN:VEVENT
DTSTART;TZID=Europe/Berlin:20240501T190000
DTEND;TZID=Europe/Berlin:20240501T200000
DTSTAMP:20260423T105059
CREATED:20230707T042407Z
LAST-MODIFIED:20231107T185104Z
UID:10000547-1714590000-1714593600@kirche-putbus.de
SUMMARY:Chor in Kasnevitz
DESCRIPTION:Jeden Mittwoch um 19 Uhr treffen wir uns zum fröhlichen Singen im Dorfgemeinschaftshaus in Kasnevitz. Dabei widmen wir uns Liedern aus aller Welt\, Gospels\, Spirituals\, moderner und klassischer Kirchenmusik. Jeder\, der Freude am Singen hat\, ist willkommen! \nMusikalische Grüße\,\nKatja Wild\n 
URL:https://kirche-putbus.de/veranstaltung/chor-in-kasnevitz/2024-05-01/
LOCATION:Dorfgemeinschaftshaus Kasnevitz\, Dorfstrasse\, Putbus OT Kasnevitz\, 18581\, Deutschland
CATEGORIES:Gruppen und Kreise
ATTACH;FMTTYPE=image/jpeg:https://kirche-putbus.de/wp-content/uploads/2021/09/596724_original_R_by_Thomas-Fresia_pixelio.de_-scaled-e1631012965550.jpg
END:VEVENT
BEGIN:VEVENT
DTSTART;TZID=Europe/Berlin:20240505T103000
DTEND;TZID=Europe/Berlin:20240505T113000
DTSTAMP:20260423T105059
CREATED:20240506T141816Z
LAST-MODIFIED:20240506T141816Z
UID:10001390-1714905000-1714908600@kirche-putbus.de
SUMMARY:Gottesdienst in Putbus: Rogate
DESCRIPTION:5. Mai\, Rogate \n9.00 Uhr\, Vilmnitz\, Gottesdienst \n10.30 Uhr\, Putbus\, Gottesdienst
URL:https://kirche-putbus.de/veranstaltung/gottesdienst-in-putbus-rogate/
LOCATION:Schlosskirche Putbus\, Alleestraße 34\, Putbus\, M/V\, 18581\, Deutschland
CATEGORIES:Gottesdienste
ATTACH;FMTTYPE=image/jpeg:https://kirche-putbus.de/wp-content/uploads/2021/09/Gottesdienst-img-e1630923533347.jpg
END:VEVENT
BEGIN:VEVENT
DTSTART;TZID=Europe/Berlin:20240506T153000
DTEND;TZID=Europe/Berlin:20240506T163000
DTSTAMP:20260423T105059
CREATED:20230915T163029Z
LAST-MODIFIED:20230915T163029Z
UID:10001095-1715009400-1715013000@kirche-putbus.de
SUMMARY:Kinderkreis
DESCRIPTION:Kinderkreis: 1.-6. Klasse: montags von 15.30-16.30 Uhr \n(Abholung vom Hort um 15 Uhr möglich)\, Pfarramt Putbus
URL:https://kirche-putbus.de/veranstaltung/kinderkreis/2024-05-06/
LOCATION:Schlosskirche Putbus\, Alleestraße 34\, Putbus\, M/V\, 18581\, Deutschland
CATEGORIES:Gruppen und Kreise
ATTACH;FMTTYPE=image/jpeg:https://kirche-putbus.de/wp-content/uploads/2019/03/Krabbelgruppe-GuppenbildGarten-600x300.jpg
END:VEVENT
BEGIN:VEVENT
DTSTART;TZID=Europe/Berlin:20240508T190000
DTEND;TZID=Europe/Berlin:20240508T200000
DTSTAMP:20260423T105059
CREATED:20230707T042407Z
LAST-MODIFIED:20231107T185104Z
UID:10000548-1715194800-1715198400@kirche-putbus.de
SUMMARY:Chor in Kasnevitz
DESCRIPTION:Jeden Mittwoch um 19 Uhr treffen wir uns zum fröhlichen Singen im Dorfgemeinschaftshaus in Kasnevitz. Dabei widmen wir uns Liedern aus aller Welt\, Gospels\, Spirituals\, moderner und klassischer Kirchenmusik. Jeder\, der Freude am Singen hat\, ist willkommen! \nMusikalische Grüße\,\nKatja Wild\n 
URL:https://kirche-putbus.de/veranstaltung/chor-in-kasnevitz/2024-05-08/
LOCATION:Dorfgemeinschaftshaus Kasnevitz\, Dorfstrasse\, Putbus OT Kasnevitz\, 18581\, Deutschland
CATEGORIES:Gruppen und Kreise
ATTACH;FMTTYPE=image/jpeg:https://kirche-putbus.de/wp-content/uploads/2021/09/596724_original_R_by_Thomas-Fresia_pixelio.de_-scaled-e1631012965550.jpg
END:VEVENT
BEGIN:VEVENT
DTSTART;TZID=Europe/Berlin:20240509T100000
DTEND;TZID=Europe/Berlin:20240509T110000
DTSTAMP:20260423T105059
CREATED:20240506T142728Z
LAST-MODIFIED:20240506T143018Z
UID:10001391-1715248800-1715252400@kirche-putbus.de
SUMMARY:Gottesdienst in den Zickerschen Bergen: Himmelfahrt
DESCRIPTION:9. Mai\, Himmelfahrt  \n10.00 Uhr\, Zickersche Berge\, Gottesdienst mit Bläserkreis und der Kirchengemeinde Mönchgut-Sellin
URL:https://kirche-putbus.de/veranstaltung/gottesdienst-in-den-zickerschen-bergen-himmelfahrt/
LOCATION:Bakenberg – Zickersche Berge\, 54°18'07.0"N 13°41'28.0"E\, Deutschland
CATEGORIES:Gottesdienste
ATTACH;FMTTYPE=image/jpeg:https://kirche-putbus.de/wp-content/uploads/2021/09/Gottesdienst-img-e1630923533347.jpg
END:VEVENT
BEGIN:VEVENT
DTSTART;TZID=Europe/Berlin:20240512T103000
DTEND;TZID=Europe/Berlin:20240512T113000
DTSTAMP:20260423T105059
CREATED:20240506T143803Z
LAST-MODIFIED:20240506T143803Z
UID:10001393-1715509800-1715513400@kirche-putbus.de
SUMMARY:Gottesdienst in Kasnevitz: Exaudi
DESCRIPTION:12. Mai\, Exaudi \n10.30 Uhr\, Kasnevitz\, Gottesdienst mit dem Posaunenwerk M-V
URL:https://kirche-putbus.de/veranstaltung/gottesdienst-in-kasnevitz-exaudi/
LOCATION:St. Jakob Kasnevitz\, Dorfstrasse\, Putbus OT Kasnevitz\, M/V\, 18581\, Deutschland
CATEGORIES:Gottesdienste
ATTACH;FMTTYPE=image/jpeg:https://kirche-putbus.de/wp-content/uploads/2021/09/Gottesdienst-img-e1630923533347.jpg
END:VEVENT
BEGIN:VEVENT
DTSTART;TZID=Europe/Berlin:20240513T153000
DTEND;TZID=Europe/Berlin:20240513T163000
DTSTAMP:20260423T105059
CREATED:20230915T163029Z
LAST-MODIFIED:20230915T163029Z
UID:10001096-1715614200-1715617800@kirche-putbus.de
SUMMARY:Kinderkreis
DESCRIPTION:Kinderkreis: 1.-6. Klasse: montags von 15.30-16.30 Uhr \n(Abholung vom Hort um 15 Uhr möglich)\, Pfarramt Putbus
URL:https://kirche-putbus.de/veranstaltung/kinderkreis/2024-05-13/
LOCATION:Schlosskirche Putbus\, Alleestraße 34\, Putbus\, M/V\, 18581\, Deutschland
CATEGORIES:Gruppen und Kreise
ATTACH;FMTTYPE=image/jpeg:https://kirche-putbus.de/wp-content/uploads/2019/03/Krabbelgruppe-GuppenbildGarten-600x300.jpg
END:VEVENT
BEGIN:VEVENT
DTSTART;TZID=Europe/Berlin:20240515T190000
DTEND;TZID=Europe/Berlin:20240515T200000
DTSTAMP:20260423T105059
CREATED:20230707T042407Z
LAST-MODIFIED:20231107T185104Z
UID:10000549-1715799600-1715803200@kirche-putbus.de
SUMMARY:Chor in Kasnevitz
DESCRIPTION:Jeden Mittwoch um 19 Uhr treffen wir uns zum fröhlichen Singen im Dorfgemeinschaftshaus in Kasnevitz. Dabei widmen wir uns Liedern aus aller Welt\, Gospels\, Spirituals\, moderner und klassischer Kirchenmusik. Jeder\, der Freude am Singen hat\, ist willkommen! \nMusikalische Grüße\,\nKatja Wild\n 
URL:https://kirche-putbus.de/veranstaltung/chor-in-kasnevitz/2024-05-15/
LOCATION:Dorfgemeinschaftshaus Kasnevitz\, Dorfstrasse\, Putbus OT Kasnevitz\, 18581\, Deutschland
CATEGORIES:Gruppen und Kreise
ATTACH;FMTTYPE=image/jpeg:https://kirche-putbus.de/wp-content/uploads/2021/09/596724_original_R_by_Thomas-Fresia_pixelio.de_-scaled-e1631012965550.jpg
END:VEVENT
BEGIN:VEVENT
DTSTART;TZID=Europe/Berlin:20240519T103000
DTEND;TZID=Europe/Berlin:20240519T113000
DTSTAMP:20260423T105059
CREATED:20240506T143642Z
LAST-MODIFIED:20240506T143642Z
UID:10001392-1716114600-1716118200@kirche-putbus.de
SUMMARY:Konfirmationsgottesdienst in Bergen: Pfingstsonntag
DESCRIPTION:19. Mai\, Pfingstsonntag \n10.30 Uhr\, Marienkirche Bergen\, Konfirmationsgottesdienst
URL:https://kirche-putbus.de/veranstaltung/konfirmationsgottesdienst-in-bergen-pfingstsonntag/
LOCATION:St. Marienkirche Bergen\, Kirchplatz 2-1\, Bergen auf Rügen\, 18528\, Deutschland
CATEGORIES:Gottesdienste
ATTACH;FMTTYPE=image/jpeg:https://kirche-putbus.de/wp-content/uploads/2021/09/Gottesdienst-img-e1630923533347.jpg
END:VEVENT
BEGIN:VEVENT
DTSTART;TZID=Europe/Berlin:20240519T193000
DTEND;TZID=Europe/Berlin:20240519T210000
DTSTAMP:20260423T105059
CREATED:20240515T075730Z
LAST-MODIFIED:20240515T075730Z
UID:10001400-1716147000-1716152400@kirche-putbus.de
SUMMARY:Volkschor Sellin singt in Putbus: Pfingstsonntag
DESCRIPTION:
URL:https://kirche-putbus.de/veranstaltung/volkschor-sellin-singt-in-putbus-pfingstsonntag/
LOCATION:Schlosskirche Putbus\, Alleestraße 34\, Putbus\, M/V\, 18581\, Deutschland
CATEGORIES:Konzerte
ATTACH;FMTTYPE=image/jpeg:https://kirche-putbus.de/wp-content/uploads/2024/05/Volkschor-Sellin-Konzert-e1715759666545.jpg
END:VEVENT
BEGIN:VEVENT
DTSTART;TZID=Europe/Berlin:20240520T090000
DTEND;TZID=Europe/Berlin:20240520T100000
DTSTAMP:20260423T105059
CREATED:20240506T143933Z
LAST-MODIFIED:20240506T143933Z
UID:10001394-1716195600-1716199200@kirche-putbus.de
SUMMARY:Abendmahlsgottesdienst in Vilmnitz: Pfingstmontag
DESCRIPTION:20. Mai\, Pfingstmontag \n9.00 Uhr\, Vilmnitz\, Abendmahlsgottesdienst \n10.30 Uhr\, Putbus\, Abendmahlsgottesdienst
URL:https://kirche-putbus.de/veranstaltung/abendmahlsgottesdienst-in-vilmnitz-pfingstmontag/
LOCATION:St. Maria Magdalena Vilmnitz\, Alte Bäderstraße 2\, Putbus OT Vilmnitz\, M/V\, 18581\, Deutschland
CATEGORIES:Gottesdienste
ATTACH;FMTTYPE=image/jpeg:https://kirche-putbus.de/wp-content/uploads/2021/09/Gottesdienst-img-e1630923533347.jpg
END:VEVENT
BEGIN:VEVENT
DTSTART;TZID=Europe/Berlin:20240520T103000
DTEND;TZID=Europe/Berlin:20240520T113000
DTSTAMP:20260423T105059
CREATED:20240506T144019Z
LAST-MODIFIED:20240506T144019Z
UID:10001395-1716201000-1716204600@kirche-putbus.de
SUMMARY:Abendmahlsgottesdienst in Putbus: Pfingstmontag
DESCRIPTION:20. Mai\, Pfingstmontag \n9.00 Uhr\, Vilmnitz\, Abendmahlsgottesdienst \n10.30 Uhr\, Putbus\, Abendmahlsgottesdienst
URL:https://kirche-putbus.de/veranstaltung/abendmahlsgottesdienst-in-putbus-pfingstmontag/
LOCATION:Schlosskirche Putbus\, Alleestraße 34\, Putbus\, M/V\, 18581\, Deutschland
CATEGORIES:Gottesdienste
ATTACH;FMTTYPE=image/jpeg:https://kirche-putbus.de/wp-content/uploads/2021/09/Gottesdienst-img-e1630923533347.jpg
END:VEVENT
BEGIN:VEVENT
DTSTART;TZID=Europe/Berlin:20240520T153000
DTEND;TZID=Europe/Berlin:20240520T163000
DTSTAMP:20260423T105059
CREATED:20230915T163029Z
LAST-MODIFIED:20230915T163029Z
UID:10001097-1716219000-1716222600@kirche-putbus.de
SUMMARY:Kinderkreis
DESCRIPTION:Kinderkreis: 1.-6. Klasse: montags von 15.30-16.30 Uhr \n(Abholung vom Hort um 15 Uhr möglich)\, Pfarramt Putbus
URL:https://kirche-putbus.de/veranstaltung/kinderkreis/2024-05-20/
LOCATION:Schlosskirche Putbus\, Alleestraße 34\, Putbus\, M/V\, 18581\, Deutschland
CATEGORIES:Gruppen und Kreise
ATTACH;FMTTYPE=image/jpeg:https://kirche-putbus.de/wp-content/uploads/2019/03/Krabbelgruppe-GuppenbildGarten-600x300.jpg
END:VEVENT
BEGIN:VEVENT
DTSTART;TZID=Europe/Berlin:20240522T190000
DTEND;TZID=Europe/Berlin:20240522T200000
DTSTAMP:20260423T105059
CREATED:20230707T042407Z
LAST-MODIFIED:20231107T185104Z
UID:10000550-1716404400-1716408000@kirche-putbus.de
SUMMARY:Chor in Kasnevitz
DESCRIPTION:Jeden Mittwoch um 19 Uhr treffen wir uns zum fröhlichen Singen im Dorfgemeinschaftshaus in Kasnevitz. Dabei widmen wir uns Liedern aus aller Welt\, Gospels\, Spirituals\, moderner und klassischer Kirchenmusik. Jeder\, der Freude am Singen hat\, ist willkommen! \nMusikalische Grüße\,\nKatja Wild\n 
URL:https://kirche-putbus.de/veranstaltung/chor-in-kasnevitz/2024-05-22/
LOCATION:Dorfgemeinschaftshaus Kasnevitz\, Dorfstrasse\, Putbus OT Kasnevitz\, 18581\, Deutschland
CATEGORIES:Gruppen und Kreise
ATTACH;FMTTYPE=image/jpeg:https://kirche-putbus.de/wp-content/uploads/2021/09/596724_original_R_by_Thomas-Fresia_pixelio.de_-scaled-e1631012965550.jpg
END:VEVENT
BEGIN:VEVENT
DTSTART;TZID=Europe/Berlin:20240526T100000
DTEND;TZID=Europe/Berlin:20240526T110000
DTSTAMP:20260423T105059
CREATED:20240506T144158Z
LAST-MODIFIED:20240506T144158Z
UID:10001396-1716717600-1716721200@kirche-putbus.de
SUMMARY:Goldene Konfirmation in Vilmnitz: Trinitatis
DESCRIPTION:26. Mai\, Trinitatis \n10.00 Uhr\, Vilmnitz\, Goldene Konfirmation
URL:https://kirche-putbus.de/veranstaltung/goldene-konfirmation-in-vilmnitz-trinitatis/
LOCATION:St. Maria Magdalena Vilmnitz\, Alte Bäderstraße 2\, Putbus OT Vilmnitz\, M/V\, 18581\, Deutschland
CATEGORIES:Gottesdienste
ATTACH;FMTTYPE=image/jpeg:https://kirche-putbus.de/wp-content/uploads/2021/09/Gottesdienst-img-e1630923533347.jpg
END:VEVENT
BEGIN:VEVENT
DTSTART;TZID=Europe/Berlin:20240527T153000
DTEND;TZID=Europe/Berlin:20240527T163000
DTSTAMP:20260423T105059
CREATED:20230915T163029Z
LAST-MODIFIED:20230915T163029Z
UID:10001098-1716823800-1716827400@kirche-putbus.de
SUMMARY:Kinderkreis
DESCRIPTION:Kinderkreis: 1.-6. Klasse: montags von 15.30-16.30 Uhr \n(Abholung vom Hort um 15 Uhr möglich)\, Pfarramt Putbus
URL:https://kirche-putbus.de/veranstaltung/kinderkreis/2024-05-27/
LOCATION:Schlosskirche Putbus\, Alleestraße 34\, Putbus\, M/V\, 18581\, Deutschland
CATEGORIES:Gruppen und Kreise
ATTACH;FMTTYPE=image/jpeg:https://kirche-putbus.de/wp-content/uploads/2019/03/Krabbelgruppe-GuppenbildGarten-600x300.jpg
END:VEVENT
BEGIN:VEVENT
DTSTART;TZID=Europe/Berlin:20240529T190000
DTEND;TZID=Europe/Berlin:20240529T200000
DTSTAMP:20260423T105059
CREATED:20230707T042407Z
LAST-MODIFIED:20231107T185104Z
UID:10000551-1717009200-1717012800@kirche-putbus.de
SUMMARY:Chor in Kasnevitz
DESCRIPTION:Jeden Mittwoch um 19 Uhr treffen wir uns zum fröhlichen Singen im Dorfgemeinschaftshaus in Kasnevitz. Dabei widmen wir uns Liedern aus aller Welt\, Gospels\, Spirituals\, moderner und klassischer Kirchenmusik. Jeder\, der Freude am Singen hat\, ist willkommen! \nMusikalische Grüße\,\nKatja Wild\n 
URL:https://kirche-putbus.de/veranstaltung/chor-in-kasnevitz/2024-05-29/
LOCATION:Dorfgemeinschaftshaus Kasnevitz\, Dorfstrasse\, Putbus OT Kasnevitz\, 18581\, Deutschland
CATEGORIES:Gruppen und Kreise
ATTACH;FMTTYPE=image/jpeg:https://kirche-putbus.de/wp-content/uploads/2021/09/596724_original_R_by_Thomas-Fresia_pixelio.de_-scaled-e1631012965550.jpg
END:VEVENT
END:VCALENDAR