BEGIN:VCALENDAR
VERSION:2.0
PRODID:-//Kirchen zu Putbus - ECPv6.15.20//NONSGML v1.0//EN
CALSCALE:GREGORIAN
METHOD:PUBLISH
X-ORIGINAL-URL:https://kirche-putbus.de
X-WR-CALDESC:Veranstaltungen für Kirchen zu Putbus
REFRESH-INTERVAL;VALUE=DURATION:PT1H
X-Robots-Tag:noindex
X-PUBLISHED-TTL:PT1H
BEGIN:VTIMEZONE
TZID:Europe/Berlin
BEGIN:DAYLIGHT
TZOFFSETFROM:+0100
TZOFFSETTO:+0200
TZNAME:CEST
DTSTART:20220327T010000
END:DAYLIGHT
BEGIN:STANDARD
TZOFFSETFROM:+0200
TZOFFSETTO:+0100
TZNAME:CET
DTSTART:20221030T010000
END:STANDARD
BEGIN:DAYLIGHT
TZOFFSETFROM:+0100
TZOFFSETTO:+0200
TZNAME:CEST
DTSTART:20230326T010000
END:DAYLIGHT
BEGIN:STANDARD
TZOFFSETFROM:+0200
TZOFFSETTO:+0100
TZNAME:CET
DTSTART:20231029T010000
END:STANDARD
BEGIN:DAYLIGHT
TZOFFSETFROM:+0100
TZOFFSETTO:+0200
TZNAME:CEST
DTSTART:20240331T010000
END:DAYLIGHT
BEGIN:STANDARD
TZOFFSETFROM:+0200
TZOFFSETTO:+0100
TZNAME:CET
DTSTART:20241027T010000
END:STANDARD
END:VTIMEZONE
BEGIN:VEVENT
DTSTART;TZID=Europe/Berlin:20230903T140000
DTEND;TZID=Europe/Berlin:20230903T160000
DTSTAMP:20260423T233600
CREATED:20230902T090021Z
LAST-MODIFIED:20230902T090102Z
UID:10000791-1693749600-1693756800@kirche-putbus.de
SUMMARY:Gottesdienst und Gemeindefest in Putbus: 13. Sonntag nach Trinitatis
DESCRIPTION:3. September\, 13. Sonntag nach Trinitatis \n14 Uhr an den Schlossterrassen\,  \nGottesdienst zum Schuljahresbeginn \nanschließend Gemeindefest im Pfarrgarten 
URL:https://kirche-putbus.de/veranstaltung/gottesdienst-und-gemeindefest-in-putbus-13-sonntag-nach-trinitatis/
LOCATION:Schlossterrassen Putbus\, Alleestraße 34\, Putbus\, 18581\, Deutschland
CATEGORIES:Gottesdienste,Sonstige Veranstaltungen
ATTACH;FMTTYPE=image/jpeg:https://kirche-putbus.de/wp-content/uploads/2021/09/Gottesdienst-img-e1630923533347.jpg
END:VEVENT
BEGIN:VEVENT
DTSTART;TZID=Europe/Berlin:20230903T140000
DTEND;TZID=Europe/Berlin:20230903T160000
DTSTAMP:20260423T233600
CREATED:20230902T091811Z
LAST-MODIFIED:20230902T091855Z
UID:10000792-1693749600-1693756800@kirche-putbus.de
SUMMARY:Gemeindefest mit Ausstellungseröffnung
DESCRIPTION:Gemeindefest mit Ausstellungseröffnung \nam Sonntag\, den 3. September \nMit einem Gottesdienst zu Schuljahresbeginn für alle Großen und Kleinen\, auch die Konfirmand*innen aus Putbus und Bergen\, beginnen wir unser Fest um 14.00 Uhr an den Schlossterrassen im Park (bei Regenwetter in der Schlosskirche). Im Anschluss laden wir in den Pfarrgarten zu Kaffee und Kuchen\, Spielen und einem Kreativangebot für die Kleinen ein. Außerdem wird an diesem Nachmittag auch die Ausstellung „Gott\, du siehst mich“ in der Schlosskirche eröffnet – das Ergebnis der diesjährigen Kinderaktionswoche\, bei der Putbusser Gesichter interviewt und fotografiert werden. Kuchenspenden (bitte mit Anmeldung) sind für das Fest herzlich erbeten.
URL:https://kirche-putbus.de/veranstaltung/gemeindefest-mit-ausstellungseroeffnung/
LOCATION:Schlossterrassen Putbus\, Alleestraße 34\, Putbus\, 18581\, Deutschland
CATEGORIES:Sonstige Veranstaltungen
ATTACH;FMTTYPE=image/png:https://kirche-putbus.de/wp-content/uploads/2023/09/image-e1693646265507.png
END:VEVENT
BEGIN:VEVENT
DTSTART;TZID=Europe/Berlin:20230904T153000
DTEND;TZID=Europe/Berlin:20230904T163000
DTSTAMP:20260423T233600
CREATED:20230915T163029Z
LAST-MODIFIED:20230915T163029Z
UID:10001060-1693841400-1693845000@kirche-putbus.de
SUMMARY:Kinderkreis
DESCRIPTION:Kinderkreis: 1.-6. Klasse: montags von 15.30-16.30 Uhr \n(Abholung vom Hort um 15 Uhr möglich)\, Pfarramt Putbus
URL:https://kirche-putbus.de/veranstaltung/kinderkreis/2023-09-04/
LOCATION:Schlosskirche Putbus\, Alleestraße 34\, Putbus\, M/V\, 18581\, Deutschland
CATEGORIES:Gruppen und Kreise
ATTACH;FMTTYPE=image/jpeg:https://kirche-putbus.de/wp-content/uploads/2019/03/Krabbelgruppe-GuppenbildGarten-600x300.jpg
END:VEVENT
BEGIN:VEVENT
DTSTART;TZID=Europe/Berlin:20230906T190000
DTEND;TZID=Europe/Berlin:20230906T200000
DTSTAMP:20260423T233600
CREATED:20230707T042407Z
LAST-MODIFIED:20231107T185104Z
UID:10000513-1694026800-1694030400@kirche-putbus.de
SUMMARY:Chor in Kasnevitz
DESCRIPTION:Jeden Mittwoch um 19 Uhr treffen wir uns zum fröhlichen Singen im Dorfgemeinschaftshaus in Kasnevitz. Dabei widmen wir uns Liedern aus aller Welt\, Gospels\, Spirituals\, moderner und klassischer Kirchenmusik. Jeder\, der Freude am Singen hat\, ist willkommen! \nMusikalische Grüße\,\nKatja Wild\n 
URL:https://kirche-putbus.de/veranstaltung/chor-in-kasnevitz/2023-09-06/
LOCATION:Dorfgemeinschaftshaus Kasnevitz\, Dorfstrasse\, Putbus OT Kasnevitz\, 18581\, Deutschland
CATEGORIES:Gruppen und Kreise
ATTACH;FMTTYPE=image/jpeg:https://kirche-putbus.de/wp-content/uploads/2021/09/596724_original_R_by_Thomas-Fresia_pixelio.de_-scaled-e1631012965550.jpg
END:VEVENT
BEGIN:VEVENT
DTSTART;TZID=Europe/Berlin:20230907T193000
DTEND;TZID=Europe/Berlin:20230907T210000
DTSTAMP:20260423T233600
CREATED:20230714T162707Z
LAST-MODIFIED:20230714T162707Z
UID:10000782-1694115000-1694120400@kirche-putbus.de
SUMMARY:Sommerkonzert Vilmnitz: Orgelkonzert
DESCRIPTION:07. 09. Orgelkonzert \nAn der historischen Mehmelorgel spielt Kantor Martin Rost – Stralsund\, europäische Orgelliteratur aus 3 Jahrhunderten
URL:https://kirche-putbus.de/veranstaltung/sommerkonzert-vilmnitz-orgelkonzert/
LOCATION:St. Maria Magdalena Vilmnitz\, Alte Bäderstraße 2\, Putbus OT Vilmnitz\, M/V\, 18581\, Deutschland
CATEGORIES:Konzerte
ATTACH;FMTTYPE=image/jpeg:https://kirche-putbus.de/wp-content/uploads/2021/09/Kirche-Vilmnitz-2019-2500px-Foto-Burwitz-Pocha-68-e1630918624158.jpg
END:VEVENT
BEGIN:VEVENT
DTSTART;TZID=Europe/Berlin:20230911T153000
DTEND;TZID=Europe/Berlin:20230911T163000
DTSTAMP:20260423T233600
CREATED:20230915T163029Z
LAST-MODIFIED:20230915T163029Z
UID:10001061-1694446200-1694449800@kirche-putbus.de
SUMMARY:Kinderkreis
DESCRIPTION:Kinderkreis: 1.-6. Klasse: montags von 15.30-16.30 Uhr \n(Abholung vom Hort um 15 Uhr möglich)\, Pfarramt Putbus
URL:https://kirche-putbus.de/veranstaltung/kinderkreis/2023-09-11/
LOCATION:Schlosskirche Putbus\, Alleestraße 34\, Putbus\, M/V\, 18581\, Deutschland
CATEGORIES:Gruppen und Kreise
ATTACH;FMTTYPE=image/jpeg:https://kirche-putbus.de/wp-content/uploads/2019/03/Krabbelgruppe-GuppenbildGarten-600x300.jpg
END:VEVENT
BEGIN:VEVENT
DTSTART;TZID=Europe/Berlin:20230913T190000
DTEND;TZID=Europe/Berlin:20230913T200000
DTSTAMP:20260423T233600
CREATED:20230707T042407Z
LAST-MODIFIED:20231107T185104Z
UID:10000514-1694631600-1694635200@kirche-putbus.de
SUMMARY:Chor in Kasnevitz
DESCRIPTION:Jeden Mittwoch um 19 Uhr treffen wir uns zum fröhlichen Singen im Dorfgemeinschaftshaus in Kasnevitz. Dabei widmen wir uns Liedern aus aller Welt\, Gospels\, Spirituals\, moderner und klassischer Kirchenmusik. Jeder\, der Freude am Singen hat\, ist willkommen! \nMusikalische Grüße\,\nKatja Wild\n 
URL:https://kirche-putbus.de/veranstaltung/chor-in-kasnevitz/2023-09-13/
LOCATION:Dorfgemeinschaftshaus Kasnevitz\, Dorfstrasse\, Putbus OT Kasnevitz\, 18581\, Deutschland
CATEGORIES:Gruppen und Kreise
ATTACH;FMTTYPE=image/jpeg:https://kirche-putbus.de/wp-content/uploads/2021/09/596724_original_R_by_Thomas-Fresia_pixelio.de_-scaled-e1631012965550.jpg
END:VEVENT
BEGIN:VEVENT
DTSTART;TZID=Europe/Berlin:20230917T090000
DTEND;TZID=Europe/Berlin:20230917T100000
DTSTAMP:20260423T233600
CREATED:20230915T161251Z
LAST-MODIFIED:20230915T161251Z
UID:10000793-1694941200-1694944800@kirche-putbus.de
SUMMARY:Gottesdienst in Kasnevitz: 15. Sonntag nach Trinitatis
DESCRIPTION:17. SEPTEMBER\,  \n15. SONNTAG NACH TRINITATIS \n9.00 KASNEVITZ 10.30 PUTBUS 
URL:https://kirche-putbus.de/veranstaltung/gottesdienst-in-kasnevitz-15-sonntag-nach-trinitatis/
LOCATION:St. Jakob Kasnevitz\, Dorfstrasse\, Putbus OT Kasnevitz\, M/V\, 18581\, Deutschland
CATEGORIES:Gottesdienste
ATTACH;FMTTYPE=image/jpeg:https://kirche-putbus.de/wp-content/uploads/2021/09/Gottesdienst-img-e1630923533347.jpg
END:VEVENT
BEGIN:VEVENT
DTSTART;TZID=Europe/Berlin:20230917T103000
DTEND;TZID=Europe/Berlin:20230917T113000
DTSTAMP:20260423T233600
CREATED:20230915T161337Z
LAST-MODIFIED:20230915T161337Z
UID:10000794-1694946600-1694950200@kirche-putbus.de
SUMMARY:Gottesdienst in Putbus: 15. Sonntag nach Trinitatis
DESCRIPTION:17. SEPTEMBER\,  \n15. SONNTAG NACH TRINITATIS \n9.00 KASNEVITZ 10.30 PUTBUS 
URL:https://kirche-putbus.de/veranstaltung/gottesdienst-in-putbus-15-sonntag-nach-trinitatis/
LOCATION:Schlosskirche Putbus\, Alleestraße 34\, Putbus\, M/V\, 18581\, Deutschland
CATEGORIES:Gottesdienste
ATTACH;FMTTYPE=image/jpeg:https://kirche-putbus.de/wp-content/uploads/2021/09/Gottesdienst-img-e1630923533347.jpg
END:VEVENT
BEGIN:VEVENT
DTSTART;TZID=Europe/Berlin:20230918T153000
DTEND;TZID=Europe/Berlin:20230918T163000
DTSTAMP:20260423T233600
CREATED:20230915T163029Z
LAST-MODIFIED:20230915T163029Z
UID:10001062-1695051000-1695054600@kirche-putbus.de
SUMMARY:Kinderkreis
DESCRIPTION:Kinderkreis: 1.-6. Klasse: montags von 15.30-16.30 Uhr \n(Abholung vom Hort um 15 Uhr möglich)\, Pfarramt Putbus
URL:https://kirche-putbus.de/veranstaltung/kinderkreis/2023-09-18/
LOCATION:Schlosskirche Putbus\, Alleestraße 34\, Putbus\, M/V\, 18581\, Deutschland
CATEGORIES:Gruppen und Kreise
ATTACH;FMTTYPE=image/jpeg:https://kirche-putbus.de/wp-content/uploads/2019/03/Krabbelgruppe-GuppenbildGarten-600x300.jpg
END:VEVENT
BEGIN:VEVENT
DTSTART;TZID=Europe/Berlin:20230920T190000
DTEND;TZID=Europe/Berlin:20230920T200000
DTSTAMP:20260423T233600
CREATED:20230707T042407Z
LAST-MODIFIED:20231107T185104Z
UID:10000515-1695236400-1695240000@kirche-putbus.de
SUMMARY:Chor in Kasnevitz
DESCRIPTION:Jeden Mittwoch um 19 Uhr treffen wir uns zum fröhlichen Singen im Dorfgemeinschaftshaus in Kasnevitz. Dabei widmen wir uns Liedern aus aller Welt\, Gospels\, Spirituals\, moderner und klassischer Kirchenmusik. Jeder\, der Freude am Singen hat\, ist willkommen! \nMusikalische Grüße\,\nKatja Wild\n 
URL:https://kirche-putbus.de/veranstaltung/chor-in-kasnevitz/2023-09-20/
LOCATION:Dorfgemeinschaftshaus Kasnevitz\, Dorfstrasse\, Putbus OT Kasnevitz\, 18581\, Deutschland
CATEGORIES:Gruppen und Kreise
ATTACH;FMTTYPE=image/jpeg:https://kirche-putbus.de/wp-content/uploads/2021/09/596724_original_R_by_Thomas-Fresia_pixelio.de_-scaled-e1631012965550.jpg
END:VEVENT
BEGIN:VEVENT
DTSTART;TZID=Europe/Berlin:20230921T150000
DTEND;TZID=Europe/Berlin:20230921T150000
DTSTAMP:20260423T233600
CREATED:20230915T162117Z
LAST-MODIFIED:20230915T162117Z
UID:10000798-1695308400-1695308400@kirche-putbus.de
SUMMARY:Gemeindenachmittag in Vilmnitz
DESCRIPTION:21.09. Gemeindenachmittag\, \n15 Uhr\, im Pfarrhaus Vilmnitz.
URL:https://kirche-putbus.de/veranstaltung/gemeindenachmittag-in-vilmnitz/
LOCATION:Pfarrhaus Vilmnitz\, Alte Bäderstraße 1\, Putbus OT Vilmnitz\, 18581\, Deutschland
CATEGORIES:Sonstige Veranstaltungen
ATTACH;FMTTYPE=image/jpeg:https://kirche-putbus.de/wp-content/uploads/2022/06/team-spirit-g99ca8e91d_1920-e1654113707667.jpg
END:VEVENT
BEGIN:VEVENT
DTSTART;TZID=Europe/Berlin:20230924T103000
DTEND;TZID=Europe/Berlin:20230924T113000
DTSTAMP:20260423T233600
CREATED:20230915T161511Z
LAST-MODIFIED:20230915T161511Z
UID:10000795-1695551400-1695555000@kirche-putbus.de
SUMMARY:Familiengottesdienst in Putbus: ERNTEDANK - 16. Sonntag nach Trinitatis
DESCRIPTION:24. SEPTEMBER\,  \n16. SONNTAG NACH TRINITATIS \n10.30 PUTBUS\, FAMILIENGOTTESDIENST ZUM ERNTEDANK 
URL:https://kirche-putbus.de/veranstaltung/familiengottesdienst-in-putbus-erntedank-16-sonntag-nach-trinitatis/
LOCATION:Schlosskirche Putbus\, Alleestraße 34\, Putbus\, M/V\, 18581\, Deutschland
CATEGORIES:Gottesdienste
ATTACH;FMTTYPE=image/jpeg:https://kirche-putbus.de/wp-content/uploads/2021/09/Gottesdienst-img-e1630923533347.jpg
END:VEVENT
BEGIN:VEVENT
DTSTART;TZID=Europe/Berlin:20230925T153000
DTEND;TZID=Europe/Berlin:20230925T163000
DTSTAMP:20260423T233600
CREATED:20230915T163029Z
LAST-MODIFIED:20230915T163029Z
UID:10001063-1695655800-1695659400@kirche-putbus.de
SUMMARY:Kinderkreis
DESCRIPTION:Kinderkreis: 1.-6. Klasse: montags von 15.30-16.30 Uhr \n(Abholung vom Hort um 15 Uhr möglich)\, Pfarramt Putbus
URL:https://kirche-putbus.de/veranstaltung/kinderkreis/2023-09-25/
LOCATION:Schlosskirche Putbus\, Alleestraße 34\, Putbus\, M/V\, 18581\, Deutschland
CATEGORIES:Gruppen und Kreise
ATTACH;FMTTYPE=image/jpeg:https://kirche-putbus.de/wp-content/uploads/2019/03/Krabbelgruppe-GuppenbildGarten-600x300.jpg
END:VEVENT
BEGIN:VEVENT
DTSTART;TZID=Europe/Berlin:20230927T080000
DTEND;TZID=Europe/Berlin:20230927T170000
DTSTAMP:20260423T233600
CREATED:20230925T111841Z
LAST-MODIFIED:20230925T111841Z
UID:10001325-1695801600-1695834000@kirche-putbus.de
SUMMARY:Eltern-Kind-Singen
DESCRIPTION:für Eltern und ihre Kinder ab 2 Jahren (jüngere Geschwisterkinder sind auch willkommen) \nmittwochs alle 14-Tage \nvon 15.00-16.30 Uhr im Dorfhaus Kasnevitz (bei schönem Wetter auch mal draußen\, am Strand oder im Park) \n  \ngemeinsames Singen \nerste Rhythmusübungen mit Orff-Instrumenten \nTanzen \nAb und an wird es auch ein Kreativangebot geben. \nIm Anschluss ist Zeit für ein gemeinsames Kaffeetrinken\, zu dem jeder eine Kleinigkeit beitragen kann.
URL:https://kirche-putbus.de/veranstaltung/eltern-kind-singen/2023-09-27/1/
LOCATION:MV
ATTACH;FMTTYPE=image/png:https://kirche-putbus.de/wp-content/uploads/2023/09/Bild.png
END:VEVENT
BEGIN:VEVENT
DTSTART;TZID=Europe/Berlin:20230927T150000
DTEND;TZID=Europe/Berlin:20230927T163000
DTSTAMP:20260423T233600
CREATED:20230915T163303Z
LAST-MODIFIED:20230915T163303Z
UID:10001323-1695826800-1695832200@kirche-putbus.de
SUMMARY:Eltern-Kind-Singen in Kasnevitz
DESCRIPTION:Eltern-Kind-Singen: mittwochs\, \n13. 09.\, 27.09.\, 15.00-16.30 Uhr\, Dorfhaus Kasnevitz
URL:https://kirche-putbus.de/veranstaltung/eltern-kind-singen-in-kasnevitz/
LOCATION:Dorfgemeinschaftshaus Kasnevitz\, Dorfstrasse\, Putbus OT Kasnevitz\, 18581\, Deutschland
CATEGORIES:Gruppen und Kreise
ATTACH;FMTTYPE=image/jpeg:https://kirche-putbus.de/wp-content/uploads/2021/09/596724_original_R_by_Thomas-Fresia_pixelio.de_-scaled-e1631012965550.jpg
END:VEVENT
BEGIN:VEVENT
DTSTART;TZID=Europe/Berlin:20230927T150000
DTEND;TZID=Europe/Berlin:20230927T163000
DTSTAMP:20260423T233600
CREATED:20230925T111841Z
LAST-MODIFIED:20230925T111841Z
UID:10001326-1695826800-1695832200@kirche-putbus.de
SUMMARY:Eltern-Kind-Singen
DESCRIPTION:für Eltern und ihre Kinder ab 2 Jahren (jüngere Geschwisterkinder sind auch willkommen) \nmittwochs alle 14-Tage \nvon 15.00-16.30 Uhr im Dorfhaus Kasnevitz (bei schönem Wetter auch mal draußen\, am Strand oder im Park) \n  \ngemeinsames Singen \nerste Rhythmusübungen mit Orff-Instrumenten \nTanzen \nAb und an wird es auch ein Kreativangebot geben. \nIm Anschluss ist Zeit für ein gemeinsames Kaffeetrinken\, zu dem jeder eine Kleinigkeit beitragen kann.
URL:https://kirche-putbus.de/veranstaltung/eltern-kind-singen/2023-09-27/2/
LOCATION:MV
ATTACH;FMTTYPE=image/png:https://kirche-putbus.de/wp-content/uploads/2023/09/Bild.png
END:VEVENT
BEGIN:VEVENT
DTSTART;TZID=Europe/Berlin:20230927T190000
DTEND;TZID=Europe/Berlin:20230927T200000
DTSTAMP:20260423T233600
CREATED:20230707T042407Z
LAST-MODIFIED:20231107T185104Z
UID:10000516-1695841200-1695844800@kirche-putbus.de
SUMMARY:Chor in Kasnevitz
DESCRIPTION:Jeden Mittwoch um 19 Uhr treffen wir uns zum fröhlichen Singen im Dorfgemeinschaftshaus in Kasnevitz. Dabei widmen wir uns Liedern aus aller Welt\, Gospels\, Spirituals\, moderner und klassischer Kirchenmusik. Jeder\, der Freude am Singen hat\, ist willkommen! \nMusikalische Grüße\,\nKatja Wild\n 
URL:https://kirche-putbus.de/veranstaltung/chor-in-kasnevitz/2023-09-27/
LOCATION:Dorfgemeinschaftshaus Kasnevitz\, Dorfstrasse\, Putbus OT Kasnevitz\, 18581\, Deutschland
CATEGORIES:Gruppen und Kreise
ATTACH;FMTTYPE=image/jpeg:https://kirche-putbus.de/wp-content/uploads/2021/09/596724_original_R_by_Thomas-Fresia_pixelio.de_-scaled-e1631012965550.jpg
END:VEVENT
END:VCALENDAR