BEGIN:VCALENDAR
VERSION:2.0
PRODID:-//Kirchen zu Putbus - ECPv6.15.20//NONSGML v1.0//EN
CALSCALE:GREGORIAN
METHOD:PUBLISH
X-ORIGINAL-URL:https://kirche-putbus.de
X-WR-CALDESC:Veranstaltungen für Kirchen zu Putbus
REFRESH-INTERVAL;VALUE=DURATION:PT1H
X-Robots-Tag:noindex
X-PUBLISHED-TTL:PT1H
BEGIN:VTIMEZONE
TZID:Europe/Berlin
BEGIN:DAYLIGHT
TZOFFSETFROM:+0100
TZOFFSETTO:+0200
TZNAME:CEST
DTSTART:20250330T010000
END:DAYLIGHT
BEGIN:STANDARD
TZOFFSETFROM:+0200
TZOFFSETTO:+0100
TZNAME:CET
DTSTART:20251026T010000
END:STANDARD
BEGIN:DAYLIGHT
TZOFFSETFROM:+0100
TZOFFSETTO:+0200
TZNAME:CEST
DTSTART:20260329T010000
END:DAYLIGHT
BEGIN:STANDARD
TZOFFSETFROM:+0200
TZOFFSETTO:+0100
TZNAME:CET
DTSTART:20261025T010000
END:STANDARD
BEGIN:DAYLIGHT
TZOFFSETFROM:+0100
TZOFFSETTO:+0200
TZNAME:CEST
DTSTART:20270328T010000
END:DAYLIGHT
BEGIN:STANDARD
TZOFFSETFROM:+0200
TZOFFSETTO:+0100
TZNAME:CET
DTSTART:20271031T010000
END:STANDARD
END:VTIMEZONE
BEGIN:VEVENT
DTSTART;TZID=Europe/Berlin:20260517T100000
DTEND;TZID=Europe/Berlin:20260517T130000
DTSTAMP:20260423T123406
CREATED:20260412T154949Z
LAST-MODIFIED:20260412T154949Z
UID:10001625-1779012000-1779022800@kirche-putbus.de
SUMMARY:Exaudi - Pilgergottesdienst auf den Caspar-David-Friedrich-Rundweg
DESCRIPTION:
URL:https://kirche-putbus.de/veranstaltung/exaudi-pilgergottesdienst-auf-den-caspar-david-friedrich-rundweg/
LOCATION:Dorfgemeinschaftshaus Kasnevitz\, Dorfstrasse\, Putbus OT Kasnevitz\, 18581\, Deutschland
CATEGORIES:Gottesdienste
ATTACH;FMTTYPE=image/jpeg:https://kirche-putbus.de/wp-content/uploads/2024/05/DSC02011-scaled-e1715076976878.jpg
END:VEVENT
BEGIN:VEVENT
DTSTART;VALUE=DATE:20260522
DTEND;VALUE=DATE:20260526
DTSTAMP:20260423T123406
CREATED:20260421T144233Z
LAST-MODIFIED:20260421T144233Z
UID:10001630-1779408000-1779753599@kirche-putbus.de
SUMMARY:Brandenburger Schiffsmodellbauer Bernd Tilgner
DESCRIPTION:Vom 22. bis 25. Mai können Sie in der Schlosskirche eine besondere Ausstellung besuchen: Der Brandenburger Schiffsmodellbauer Bernd Tilgner zeigt seine kunstvoll gefertigten Treibholzboote und freut sich darauf mit Ihnen ins Gespräch zu kommen. Die Kirche ist täglich zwischen 10 und 16 Uhr geöffnet.
URL:https://kirche-putbus.de/veranstaltung/brandenburger-schiffsmodellbauer-bernd-tilgner/
LOCATION:Schlosskirche Putbus\, Alleestraße 34\, Putbus\, M/V\, 18581\, Deutschland
CATEGORIES:Sonstige Veranstaltungen
ATTACH;FMTTYPE=image/jpeg:https://kirche-putbus.de/wp-content/uploads/2025/06/Scan_20250527-1-scaled-e1749112453424.jpg
END:VEVENT
BEGIN:VEVENT
DTSTART;TZID=Europe/Berlin:20260524T103000
DTEND;TZID=Europe/Berlin:20260524T113000
DTSTAMP:20260423T123406
CREATED:20260412T155711Z
LAST-MODIFIED:20260412T155711Z
UID:10001626-1779618600-1779622200@kirche-putbus.de
SUMMARY:Pfingstsonntag - Konfirmation
DESCRIPTION:
URL:https://kirche-putbus.de/veranstaltung/pfingstsonntag-konfirmation/
LOCATION:St. Marienkirche Bergen\, Kirchplatz 2-1\, Bergen auf Rügen\, 18528\, Deutschland
CATEGORIES:Gottesdienste
ATTACH;FMTTYPE=image/png:https://kirche-putbus.de/wp-content/uploads/2026/04/Bild_2026-04-12_172027102.png
END:VEVENT
BEGIN:VEVENT
DTSTART;TZID=Europe/Berlin:20260525T090000
DTEND;TZID=Europe/Berlin:20260525T100000
DTSTAMP:20260423T123406
CREATED:20260412T160638Z
LAST-MODIFIED:20260412T160938Z
UID:10001627-1779699600-1779703200@kirche-putbus.de
SUMMARY:Pfingstmontag - Abendmahlsgottesdienst
DESCRIPTION:
URL:https://kirche-putbus.de/veranstaltung/pfingstmontag-abendmahlsgottesdienst/
LOCATION:St. Maria Magdalena Vilmnitz\, Alte Bäderstraße 2\, Putbus OT Vilmnitz\, M/V\, 18581\, Deutschland
CATEGORIES:Gottesdienste
ATTACH;FMTTYPE=image/jpeg:https://kirche-putbus.de/wp-content/uploads/2021/09/Kirche-Vilmnitz-2019-2500px-Foto-Burwitz-Pocha-52-e1631088840860.jpg
END:VEVENT
BEGIN:VEVENT
DTSTART;TZID=Europe/Berlin:20260525T103000
DTEND;TZID=Europe/Berlin:20260525T113000
DTSTAMP:20260423T123406
CREATED:20260412T161416Z
LAST-MODIFIED:20260412T161416Z
UID:10001628-1779705000-1779708600@kirche-putbus.de
SUMMARY:Pfingstmontag - Abendmahlsgottesdienst
DESCRIPTION:
URL:https://kirche-putbus.de/veranstaltung/pfingstmontag-abendmahlsgottesdienst-2/
LOCATION:St. Jakob Kasnevitz\, Dorfstrasse\, Putbus OT Kasnevitz\, M/V\, 18581\, Deutschland
CATEGORIES:Gottesdienste
ATTACH;FMTTYPE=image/gif:https://kirche-putbus.de/wp-content/uploads/2021/08/kirche-kasnevitz2.gif
END:VEVENT
BEGIN:VEVENT
DTSTART;TZID=Europe/Berlin:20260528T150000
DTEND;TZID=Europe/Berlin:20260528T170000
DTSTAMP:20260423T123406
CREATED:20260421T151210Z
LAST-MODIFIED:20260421T151552Z
UID:10001631-1779980400-1779987600@kirche-putbus.de
SUMMARY:Gemeindenachmittag in Sassnitz
DESCRIPTION:Ein Ausflug in die Kirchgemeinde Sassnitz. Herzliche Einladung zu unserem Gemeindenachmittag am 28.Mai.  Dieses mal verlassen wir unser gewohntes Terrain und machen uns auf den Weg in die Kirchengemeinde Sassnitz. Nach einer kleinen Andacht in der Kirche (dort Treffpunkt 15 Uhr) erhalten wir einen in das im letzten Herbst frisch eröffnete Söderblomhaus sowie in das ebenfalls zur Gemeinde gehörige Grundtvighaus. Anschließend wollen wir es uns bei Kaffee und Kuchen gut gehen lassen. \nZur besseren Planung von Fahrgemeinschaften bitten wir um Anmeldung im Pfarramt bis zum 22. Mai.
URL:https://kirche-putbus.de/veranstaltung/gemeindenachmittag-in-sassnitz/
LOCATION:St.-Johannis-Kirche Sassnitz\, Stubbenkammerstr. 18\, Sassnitz\, MV\, 18546\, Deutschland
CATEGORIES:Sonstige Veranstaltungen
ATTACH;FMTTYPE=image/jpeg:https://kirche-putbus.de/wp-content/uploads/2026/04/IMG_3735-scaled.jpg
END:VEVENT
BEGIN:VEVENT
DTSTART;TZID=Europe/Berlin:20260531T103000
DTEND;TZID=Europe/Berlin:20260531T113000
DTSTAMP:20260423T123406
CREATED:20260421T142639Z
LAST-MODIFIED:20260421T142639Z
UID:10001629-1780223400-1780227000@kirche-putbus.de
SUMMARY:Trinitatis - Gartengottesdienst
DESCRIPTION:
URL:https://kirche-putbus.de/veranstaltung/trinitatis-gartengottesdienst/
LOCATION:Pfarrgarten Schlosskirche Putbus\, Alleestr. 34\, Putbus\, MV\, 18581\, Deutschland
CATEGORIES:Gottesdienste
ATTACH;FMTTYPE=image/jpeg:https://kirche-putbus.de/wp-content/uploads/2021/09/Gottesdienst-img-e1630923533347.jpg
END:VEVENT
END:VCALENDAR