BEGIN:VCALENDAR
VERSION:2.0
PRODID:-//Kirchen zu Putbus - ECPv6.15.20//NONSGML v1.0//EN
CALSCALE:GREGORIAN
METHOD:PUBLISH
X-ORIGINAL-URL:https://kirche-putbus.de
X-WR-CALDESC:Veranstaltungen für Kirchen zu Putbus
REFRESH-INTERVAL;VALUE=DURATION:PT1H
X-Robots-Tag:noindex
X-PUBLISHED-TTL:PT1H
BEGIN:VTIMEZONE
TZID:Europe/Berlin
BEGIN:DAYLIGHT
TZOFFSETFROM:+0100
TZOFFSETTO:+0200
TZNAME:CEST
DTSTART:20230326T010000
END:DAYLIGHT
BEGIN:STANDARD
TZOFFSETFROM:+0200
TZOFFSETTO:+0100
TZNAME:CET
DTSTART:20231029T010000
END:STANDARD
BEGIN:DAYLIGHT
TZOFFSETFROM:+0100
TZOFFSETTO:+0200
TZNAME:CEST
DTSTART:20240331T010000
END:DAYLIGHT
BEGIN:STANDARD
TZOFFSETFROM:+0200
TZOFFSETTO:+0100
TZNAME:CET
DTSTART:20241027T010000
END:STANDARD
BEGIN:DAYLIGHT
TZOFFSETFROM:+0100
TZOFFSETTO:+0200
TZNAME:CEST
DTSTART:20250330T010000
END:DAYLIGHT
BEGIN:STANDARD
TZOFFSETFROM:+0200
TZOFFSETTO:+0100
TZNAME:CET
DTSTART:20251026T010000
END:STANDARD
END:VTIMEZONE
BEGIN:VEVENT
DTSTART;TZID=Europe/Berlin:20240718T193000
DTEND;TZID=Europe/Berlin:20240718T203000
DTSTAMP:20260421T025412
CREATED:20240710T080119Z
LAST-MODIFIED:20240710T080119Z
UID:10001415-1721331000-1721334600@kirche-putbus.de
SUMMARY:Sommerkonzert in Vilmnitz: Cello – Solo
DESCRIPTION: 18. 07. Cello – Solo  \n“O Gott\, wer bist Du?“ Hildegard im Zeichen der Zeit  \nChristina Meißner – Weimar\, spielt  \nOriginalmelodien von Hildegard von Bingen und Kompositionen von John Palmer  \n  \n48 Jahre Vilmnitzer – Donnerstagabend -Konzerte 2024 \nMaria Magdalena Kirche zu Vilmnitz – Beginn 19.30 Uhr \nKarten an der Abendkasse
URL:https://kirche-putbus.de/veranstaltung/sommerkonzert-in-vilmnitz-cello-solo/
LOCATION:St. Maria Magdalena Vilmnitz\, Alte Bäderstraße 2\, Putbus OT Vilmnitz\, M/V\, 18581\, Deutschland
CATEGORIES:Konzerte
ATTACH;FMTTYPE=image/jpeg:https://kirche-putbus.de/wp-content/uploads/2021/09/Kirche-Vilmnitz-2019-2500px-Foto-Burwitz-Pocha-68-e1630918624158.jpg
END:VEVENT
BEGIN:VEVENT
DTSTART;TZID=Europe/Berlin:20240719T193000
DTEND;TZID=Europe/Berlin:20240719T203000
DTSTAMP:20260421T025412
CREATED:20240710T081501Z
LAST-MODIFIED:20240710T081501Z
UID:10001425-1721417400-1721421000@kirche-putbus.de
SUMMARY:Sommerkonzert in Kasnevitz: Cello und Saxophon
DESCRIPTION:Freitag\, 19. Juli | 19.30 Uhr  \nAnnekatrin Flick (Cello)  \nBirgitta Flick (Saxophon)  \nAlter ego – J. S. Bach im Dialog  \nmit Improvisation  \n  \nEs ist uns wichtig\, dass jede/jeder die Konzerte besuchen kann. Deshalb ist der Eintritt frei.  \nDennoch sind wir zur Finanzierung der Künstlerhonorare auf Ihre Spenden angewiesen. Vielen Dank! \n 
URL:https://kirche-putbus.de/veranstaltung/sommerkonzert-in-kasnevitz-cello-und-saxophon/
LOCATION:St. Jakob Kasnevitz\, Dorfstrasse\, Putbus OT Kasnevitz\, M/V\, 18581\, Deutschland
CATEGORIES:Konzerte
ATTACH;FMTTYPE=image/jpeg:https://kirche-putbus.de/wp-content/uploads/2021/09/Kirche-Vilmnitz-2019-2500px-Foto-Burwitz-Pocha-68-e1630918624158.jpg
END:VEVENT
BEGIN:VEVENT
DTSTART;TZID=Europe/Berlin:20240721T090000
DTEND;TZID=Europe/Berlin:20240721T100000
DTSTAMP:20260421T025412
CREATED:20240707T055244Z
LAST-MODIFIED:20240707T055244Z
UID:10001411-1721552400-1721556000@kirche-putbus.de
SUMMARY:Gottesdienst in Vilmnitz: 8. So. n. Trinitatis
DESCRIPTION: 21. Juli\, 8. Sonntag nach Trinitatis  \n9.00 Vilmnitz\, Gottesdienst  \n10.30 Putbus\, Gottesdienst 
URL:https://kirche-putbus.de/veranstaltung/gottesdienst-in-vilmnitz-8-so-n-trinitatis/
LOCATION:St. Maria Magdalena Vilmnitz\, Alte Bäderstraße 2\, Putbus OT Vilmnitz\, M/V\, 18581\, Deutschland
CATEGORIES:Gottesdienste
ATTACH;FMTTYPE=image/jpeg:https://kirche-putbus.de/wp-content/uploads/2021/09/Gottesdienst-img-e1630923533347.jpg
END:VEVENT
BEGIN:VEVENT
DTSTART;TZID=Europe/Berlin:20240721T103000
DTEND;TZID=Europe/Berlin:20240721T113000
DTSTAMP:20260421T025412
CREATED:20240707T055136Z
LAST-MODIFIED:20240707T055136Z
UID:10001410-1721557800-1721561400@kirche-putbus.de
SUMMARY:Gottesdienst in Putbus: 8. So. n. Trinitatis
DESCRIPTION: 21. Juli\, 8. Sonntag nach Trinitatis  \n9.00 Vilmnitz\, Gottesdienst  \n10.30 Putbus\, Gottesdienst 
URL:https://kirche-putbus.de/veranstaltung/gottesdienst-in-putbus-8-so-n-trinitatis/
LOCATION:Schlosskirche Putbus\, Alleestraße 34\, Putbus\, M/V\, 18581\, Deutschland
CATEGORIES:Gottesdienste
ATTACH;FMTTYPE=image/jpeg:https://kirche-putbus.de/wp-content/uploads/2021/09/Gottesdienst-img-e1630923533347.jpg
END:VEVENT
BEGIN:VEVENT
DTSTART;TZID=Europe/Berlin:20240722T153000
DTEND;TZID=Europe/Berlin:20240722T163000
DTSTAMP:20260421T025412
CREATED:20230915T163029Z
LAST-MODIFIED:20230915T163029Z
UID:10001106-1721662200-1721665800@kirche-putbus.de
SUMMARY:Kinderkreis
DESCRIPTION:Kinderkreis: 1.-6. Klasse: montags von 15.30-16.30 Uhr \n(Abholung vom Hort um 15 Uhr möglich)\, Pfarramt Putbus
URL:https://kirche-putbus.de/veranstaltung/kinderkreis/2024-07-22/
LOCATION:Schlosskirche Putbus\, Alleestraße 34\, Putbus\, M/V\, 18581\, Deutschland
CATEGORIES:Gruppen und Kreise
ATTACH;FMTTYPE=image/jpeg:https://kirche-putbus.de/wp-content/uploads/2019/03/Krabbelgruppe-GuppenbildGarten-600x300.jpg
END:VEVENT
BEGIN:VEVENT
DTSTART;TZID=Europe/Berlin:20240724T190000
DTEND;TZID=Europe/Berlin:20240724T200000
DTSTAMP:20260421T025412
CREATED:20230707T042407Z
LAST-MODIFIED:20231107T185104Z
UID:10000559-1721847600-1721851200@kirche-putbus.de
SUMMARY:Chor in Kasnevitz
DESCRIPTION:Jeden Mittwoch um 19 Uhr treffen wir uns zum fröhlichen Singen im Dorfgemeinschaftshaus in Kasnevitz. Dabei widmen wir uns Liedern aus aller Welt\, Gospels\, Spirituals\, moderner und klassischer Kirchenmusik. Jeder\, der Freude am Singen hat\, ist willkommen! \nMusikalische Grüße\,\nKatja Wild\n 
URL:https://kirche-putbus.de/veranstaltung/chor-in-kasnevitz/2024-07-24/
LOCATION:Dorfgemeinschaftshaus Kasnevitz\, Dorfstrasse\, Putbus OT Kasnevitz\, 18581\, Deutschland
CATEGORIES:Gruppen und Kreise
ATTACH;FMTTYPE=image/jpeg:https://kirche-putbus.de/wp-content/uploads/2021/09/596724_original_R_by_Thomas-Fresia_pixelio.de_-scaled-e1631012965550.jpg
END:VEVENT
BEGIN:VEVENT
DTSTART;TZID=Europe/Berlin:20240725T193000
DTEND;TZID=Europe/Berlin:20240725T203000
DTSTAMP:20260421T025412
CREATED:20240710T080416Z
LAST-MODIFIED:20240710T080416Z
UID:10001417-1721935800-1721939400@kirche-putbus.de
SUMMARY:Sommerkonzert in Vilmnitz: Liederabend
DESCRIPTION: 25. 07. “Liebe mich! So lieb‘ ich dich!  \nLiederabend  \nmit dem Canzonetta-Kammerchor aus Leipzig  \nunter Leitung von Gudrun Hartmann  \n  \n48 Jahre Vilmnitzer – Donnerstagabend -Konzerte 2024 \nMaria Magdalena Kirche zu Vilmnitz – Beginn 19.30 Uhr \nKarten an der Abendkasse
URL:https://kirche-putbus.de/veranstaltung/sommerkonzert-in-vilmnitz-liederabend/
LOCATION:St. Maria Magdalena Vilmnitz\, Alte Bäderstraße 2\, Putbus OT Vilmnitz\, M/V\, 18581\, Deutschland
CATEGORIES:Konzerte
ATTACH;FMTTYPE=image/jpeg:https://kirche-putbus.de/wp-content/uploads/2021/09/Kirche-Vilmnitz-2019-2500px-Foto-Burwitz-Pocha-68-e1630918624158.jpg
END:VEVENT
BEGIN:VEVENT
DTSTART;TZID=Europe/Berlin:20240726T193000
DTEND;TZID=Europe/Berlin:20240726T203000
DTSTAMP:20260421T025412
CREATED:20240710T081542Z
LAST-MODIFIED:20240710T081542Z
UID:10001426-1722022200-1722025800@kirche-putbus.de
SUMMARY:Sommerkonzert in Kasnevitz: Bariton und Klavier
DESCRIPTION:Freitag\, 26. Juli | 19.30 Uhr  \nGotthold Schwarz (Bariton)  \nJoachim Neugart (Klavier)  \nWerke von J. Brahms\, P. Cornelius  \nund anderen \n  \nEs ist uns wichtig\, dass jede/jeder die Konzerte besuchen kann. Deshalb ist der Eintritt frei.  \nDennoch sind wir zur Finanzierung der Künstlerhonorare auf Ihre Spenden angewiesen. Vielen Dank! \n 
URL:https://kirche-putbus.de/veranstaltung/sommerkonzert-in-kasnevitz-bariton-und-klavier/
LOCATION:St. Jakob Kasnevitz\, Dorfstrasse\, Putbus OT Kasnevitz\, M/V\, 18581\, Deutschland
CATEGORIES:Konzerte
ATTACH;FMTTYPE=image/jpeg:https://kirche-putbus.de/wp-content/uploads/2021/09/Kirche-Vilmnitz-2019-2500px-Foto-Burwitz-Pocha-68-e1630918624158.jpg
END:VEVENT
BEGIN:VEVENT
DTSTART;TZID=Europe/Berlin:20240726T193000
DTEND;TZID=Europe/Berlin:20240726T203000
DTSTAMP:20260421T025412
CREATED:20240710T081626Z
LAST-MODIFIED:20240710T081626Z
UID:10001427-1722022200-1722025800@kirche-putbus.de
SUMMARY:Sommerkonzert in Kasnevitz: Bariton und Klavier
DESCRIPTION:Freitag\, 26. Juli | 19.30 Uhr  \nGotthold Schwarz (Bariton)  \nJoachim Neugart (Klavier)  \nWerke von J. Brahms\, P. Cornelius  \nund anderen \n  \nEs ist uns wichtig\, dass jede/jeder die Konzerte besuchen kann. Deshalb ist der Eintritt frei.  \nDennoch sind wir zur Finanzierung der Künstlerhonorare auf Ihre Spenden angewiesen. Vielen Dank! \n 
URL:https://kirche-putbus.de/veranstaltung/sommerkonzert-in-kasnevitz-bariton-und-klavier-2/
LOCATION:St. Jakob Kasnevitz\, Dorfstrasse\, Putbus OT Kasnevitz\, M/V\, 18581\, Deutschland
CATEGORIES:Konzerte
ATTACH;FMTTYPE=image/jpeg:https://kirche-putbus.de/wp-content/uploads/2021/09/Kirche-Vilmnitz-2019-2500px-Foto-Burwitz-Pocha-68-e1630918624158.jpg
END:VEVENT
BEGIN:VEVENT
DTSTART;TZID=Europe/Berlin:20240728T103000
DTEND;TZID=Europe/Berlin:20240728T113000
DTSTAMP:20260421T025412
CREATED:20240707T055341Z
LAST-MODIFIED:20240707T055410Z
UID:10001412-1722162600-1722166200@kirche-putbus.de
SUMMARY:Gottesdienst in Putbus: 9. So. n. Trinitatis
DESCRIPTION: 28. Juli\, 9. Sonntag nach Trinitatis  \n9.00 Kasnevitz\, Abendmahlsgottesdienst  \n10.30 Putbus\, Abendmahlsgottesdienst 
URL:https://kirche-putbus.de/veranstaltung/gottesdienst-in-kasnevitz-9-so-n-trinitatis/
LOCATION:Schlosskirche Putbus\, Alleestraße 34\, Putbus\, M/V\, 18581\, Deutschland
CATEGORIES:Gottesdienste
ATTACH;FMTTYPE=image/jpeg:https://kirche-putbus.de/wp-content/uploads/2021/09/Gottesdienst-img-e1630923533347.jpg
END:VEVENT
BEGIN:VEVENT
DTSTART;TZID=Europe/Berlin:20240801T193000
DTEND;TZID=Europe/Berlin:20240801T203000
DTSTAMP:20260421T025412
CREATED:20240710T080509Z
LAST-MODIFIED:20240710T080509Z
UID:10001418-1722540600-1722544200@kirche-putbus.de
SUMMARY:Sommerkonzert in Vilmnitz: Oboe und Orgel 
DESCRIPTION: 01. 08. Konzert für Oboe und Orgel  \nAndreas Wenske – Oboe  \nStefan Kircheis – Orgel\, spielen u.a. Werke von Händel\, Bach\, Telemann und Reger  \n  \n48 Jahre Vilmnitzer – Donnerstagabend -Konzerte 2024 \nMaria Magdalena Kirche zu Vilmnitz – Beginn 19.30 Uhr \nKarten an der Abendkasse
URL:https://kirche-putbus.de/veranstaltung/sommerkonzert-in-vilmnitz-oboe-und-orgel/
LOCATION:St. Maria Magdalena Vilmnitz\, Alte Bäderstraße 2\, Putbus OT Vilmnitz\, M/V\, 18581\, Deutschland
CATEGORIES:Konzerte
ATTACH;FMTTYPE=image/jpeg:https://kirche-putbus.de/wp-content/uploads/2021/09/Kirche-Vilmnitz-2019-2500px-Foto-Burwitz-Pocha-68-e1630918624158.jpg
END:VEVENT
BEGIN:VEVENT
DTSTART;TZID=Europe/Berlin:20240802T193000
DTEND;TZID=Europe/Berlin:20240802T203000
DTSTAMP:20260421T025412
CREATED:20240710T081703Z
LAST-MODIFIED:20240710T081703Z
UID:10001428-1722627000-1722630600@kirche-putbus.de
SUMMARY:Sommerkonzert in Kasnevitz: Violine und Cello
DESCRIPTION:Freitag\, 2. August | 19.30 Uhr  \nRosa Hagendorf (Violine)  \nFranz Hofereiter (Cello)  \nWerke von J. S. Bach\, K. Zoltán\, G. Kurtag  \nund P. Vasks \n  \nEs ist uns wichtig\, dass jede/jeder die Konzerte besuchen kann. Deshalb ist der Eintritt frei.  \nDennoch sind wir zur Finanzierung der Künstlerhonorare auf Ihre Spenden angewiesen. Vielen Dank! \n 
URL:https://kirche-putbus.de/veranstaltung/sommerkonzert-in-kasnevitz-violine-und-cello/
LOCATION:St. Jakob Kasnevitz\, Dorfstrasse\, Putbus OT Kasnevitz\, M/V\, 18581\, Deutschland
CATEGORIES:Konzerte
ATTACH;FMTTYPE=image/jpeg:https://kirche-putbus.de/wp-content/uploads/2021/09/Kirche-Vilmnitz-2019-2500px-Foto-Burwitz-Pocha-68-e1630918624158.jpg
END:VEVENT
BEGIN:VEVENT
DTSTART;TZID=Europe/Berlin:20240808T193000
DTEND;TZID=Europe/Berlin:20240808T203000
DTSTAMP:20260421T025412
CREATED:20240710T080552Z
LAST-MODIFIED:20240710T080552Z
UID:10001419-1723145400-1723149000@kirche-putbus.de
SUMMARY:Sommerkonzert in Vilmnitz: Virtuose Barockmusik
DESCRIPTION: 08. 08. “Virtuose Barockmusik“  \nSusanne Ehrhardt – Blockflöte und Klarinette  \nMartin Stephan – Orgel\, spielen Werke von  \nBach\, Castello\, Telemann\, Selma u.a.  \n  \n48 Jahre Vilmnitzer – Donnerstagabend -Konzerte 2024 \nMaria Magdalena Kirche zu Vilmnitz – Beginn 19.30 Uhr \nKarten an der Abendkasse
URL:https://kirche-putbus.de/veranstaltung/sommerkonzert-in-vilmnitz-virtuose-barockmusik/
LOCATION:St. Maria Magdalena Vilmnitz\, Alte Bäderstraße 2\, Putbus OT Vilmnitz\, M/V\, 18581\, Deutschland
CATEGORIES:Konzerte
ATTACH;FMTTYPE=image/jpeg:https://kirche-putbus.de/wp-content/uploads/2021/09/Kirche-Vilmnitz-2019-2500px-Foto-Burwitz-Pocha-68-e1630918624158.jpg
END:VEVENT
BEGIN:VEVENT
DTSTART;TZID=Europe/Berlin:20240809T193000
DTEND;TZID=Europe/Berlin:20240809T203000
DTSTAMP:20260421T025412
CREATED:20240710T081747Z
LAST-MODIFIED:20240710T081747Z
UID:10001429-1723231800-1723235400@kirche-putbus.de
SUMMARY:Sommerkonzert in Kasnevitz: Bach Consort Leipzig
DESCRIPTION:Freitag\, 9. August | 19.30 Uhr  \nBach Consort Leipzig unter Leitung von  \nGotthold Schwarz  \nLucas Pohle (Orgel)  \nMotetten von J. S. Bach und A. Bruckner  \n  \nEs ist uns wichtig\, dass jede/jeder die Konzerte besuchen kann. Deshalb ist der Eintritt frei.  \nDennoch sind wir zur Finanzierung der Künstlerhonorare auf Ihre Spenden angewiesen. Vielen Dank! \n 
URL:https://kirche-putbus.de/veranstaltung/sommerkonzert-in-kasnevitz-bach-consort-leipzig/
LOCATION:St. Jakob Kasnevitz\, Dorfstrasse\, Putbus OT Kasnevitz\, M/V\, 18581\, Deutschland
CATEGORIES:Konzerte
ATTACH;FMTTYPE=image/jpeg:https://kirche-putbus.de/wp-content/uploads/2021/09/Kirche-Vilmnitz-2019-2500px-Foto-Burwitz-Pocha-68-e1630918624158.jpg
END:VEVENT
BEGIN:VEVENT
DTSTART;TZID=Europe/Berlin:20240815T193000
DTEND;TZID=Europe/Berlin:20240815T203000
DTSTAMP:20260421T025412
CREATED:20240710T080636Z
LAST-MODIFIED:20240710T080636Z
UID:10001420-1723750200-1723753800@kirche-putbus.de
SUMMARY:Sommerkonzert in Vilmnitz: Trompete und Orgel
DESCRIPTION: 15. 08. “Eine musikalische Reise durch Barock und Romantik“  \nKonzert für Trompete und Orgel  \nmit dem “Duo Presto“ aus Leipzig  \nAlexander Pfeifer – Trompete  \nFrank Zimpel – Orgel  \n  \n48 Jahre Vilmnitzer – Donnerstagabend -Konzerte 2024 \nMaria Magdalena Kirche zu Vilmnitz – Beginn 19.30 Uhr \nKarten an der Abendkasse
URL:https://kirche-putbus.de/veranstaltung/sommerkonzert-in-vilmnitz-trompete-und-orgel/
LOCATION:St. Maria Magdalena Vilmnitz\, Alte Bäderstraße 2\, Putbus OT Vilmnitz\, M/V\, 18581\, Deutschland
CATEGORIES:Konzerte
ATTACH;FMTTYPE=image/jpeg:https://kirche-putbus.de/wp-content/uploads/2021/09/Kirche-Vilmnitz-2019-2500px-Foto-Burwitz-Pocha-68-e1630918624158.jpg
END:VEVENT
BEGIN:VEVENT
DTSTART;TZID=Europe/Berlin:20240816T193000
DTEND;TZID=Europe/Berlin:20240816T203000
DTSTAMP:20260421T025412
CREATED:20240710T081834Z
LAST-MODIFIED:20240710T081834Z
UID:10001430-1723836600-1723840200@kirche-putbus.de
SUMMARY:Sommerkonzert in Kasnevitz: Cello & Mallets
DESCRIPTION:Freitag\, 16. August | 19.30 Uhr  \nFriederike Fechner (Cello)  \nMatthias Suter (Mallets)  \nWerke von A. Piazolla\, N. Shirley\, J. Pachelbel und anderen  \n  \nEs ist uns wichtig\, dass jede/jeder die Konzerte besuchen kann. Deshalb ist der Eintritt frei.  \nDennoch sind wir zur Finanzierung der Künstlerhonorare auf Ihre Spenden angewiesen. Vielen Dank! \n 
URL:https://kirche-putbus.de/veranstaltung/sommerkonzert-in-kasnevitz-cello-mallets/
LOCATION:St. Jakob Kasnevitz\, Dorfstrasse\, Putbus OT Kasnevitz\, M/V\, 18581\, Deutschland
CATEGORIES:Konzerte
ATTACH;FMTTYPE=image/jpeg:https://kirche-putbus.de/wp-content/uploads/2021/09/Kirche-Vilmnitz-2019-2500px-Foto-Burwitz-Pocha-68-e1630918624158.jpg
END:VEVENT
BEGIN:VEVENT
DTSTART;TZID=Europe/Berlin:20240822T193000
DTEND;TZID=Europe/Berlin:20240822T203000
DTSTAMP:20260421T025412
CREATED:20240710T080722Z
LAST-MODIFIED:20240710T080722Z
UID:10001421-1724355000-1724358600@kirche-putbus.de
SUMMARY:Sommerkonzert in Vilmnitz: Barocke Klänge
DESCRIPTION: 22. 08. “Barocke Klänge“  \nReinhard Glende – Cembalo und  \nSusanne Seiffert – Blockflöten spielen Werke von Bach\, Händel\, Lavigne u. a.  \n  \n48 Jahre Vilmnitzer – Donnerstagabend -Konzerte 2024 \nMaria Magdalena Kirche zu Vilmnitz – Beginn 19.30 Uhr \nKarten an der Abendkasse
URL:https://kirche-putbus.de/veranstaltung/sommerkonzert-in-vilmnitz-barocke-klaenge/
LOCATION:St. Maria Magdalena Vilmnitz\, Alte Bäderstraße 2\, Putbus OT Vilmnitz\, M/V\, 18581\, Deutschland
CATEGORIES:Konzerte
ATTACH;FMTTYPE=image/jpeg:https://kirche-putbus.de/wp-content/uploads/2021/09/Kirche-Vilmnitz-2019-2500px-Foto-Burwitz-Pocha-68-e1630918624158.jpg
END:VEVENT
BEGIN:VEVENT
DTSTART;TZID=Europe/Berlin:20240823T193000
DTEND;TZID=Europe/Berlin:20240823T203000
DTSTAMP:20260421T025412
CREATED:20240710T081928Z
LAST-MODIFIED:20240710T081928Z
UID:10001431-1724441400-1724445000@kirche-putbus.de
SUMMARY:Sommerkonzert in Kasnevitz: Mezzosopran & Klavier
DESCRIPTION:Freitag\, 23. August | 19.30 Uhr  \nFranziska Dillner-Koch (Mezzosopran)  \nFabian Klentzke (Klavier)  \nWerke von J. Brahms\, B. Bartok  \nund B. Britten  \n  \nEs ist uns wichtig\, dass jede/jeder die Konzerte besuchen kann. Deshalb ist der Eintritt frei.  \nDennoch sind wir zur Finanzierung der Künstlerhonorare auf Ihre Spenden angewiesen. Vielen Dank! \n 
URL:https://kirche-putbus.de/veranstaltung/sommerkonzert-in-kasnevitz-mezzosopran-klavier/
LOCATION:St. Jakob Kasnevitz\, Dorfstrasse\, Putbus OT Kasnevitz\, M/V\, 18581\, Deutschland
CATEGORIES:Konzerte
ATTACH;FMTTYPE=image/jpeg:https://kirche-putbus.de/wp-content/uploads/2021/09/Kirche-Vilmnitz-2019-2500px-Foto-Burwitz-Pocha-68-e1630918624158.jpg
END:VEVENT
BEGIN:VEVENT
DTSTART;TZID=Europe/Berlin:20240829T193000
DTEND;TZID=Europe/Berlin:20240829T203000
DTSTAMP:20260421T025412
CREATED:20240710T080820Z
LAST-MODIFIED:20240710T080820Z
UID:10001422-1724959800-1724963400@kirche-putbus.de
SUMMARY:Sommerkonzert in Vilmnitz: Bariton Dilian Kushev 
DESCRIPTION: 29. 08. “Sacralissimo“ – Bariton Dilian Kushev  \nDie goldene Stimme aus Bulgarien im Konzert mit seinem facettenreichen Programm  \n  \n48 Jahre Vilmnitzer – Donnerstagabend -Konzerte 2024 \nMaria Magdalena Kirche zu Vilmnitz – Beginn 19.30 Uhr \nKarten an der Abendkasse
URL:https://kirche-putbus.de/veranstaltung/sommerkonzert-in-vilmnitz-bariton-dilian-kushev/
LOCATION:St. Maria Magdalena Vilmnitz\, Alte Bäderstraße 2\, Putbus OT Vilmnitz\, M/V\, 18581\, Deutschland
CATEGORIES:Konzerte
ATTACH;FMTTYPE=image/jpeg:https://kirche-putbus.de/wp-content/uploads/2021/09/Kirche-Vilmnitz-2019-2500px-Foto-Burwitz-Pocha-68-e1630918624158.jpg
END:VEVENT
BEGIN:VEVENT
DTSTART;TZID=Europe/Berlin:20240830T193000
DTEND;TZID=Europe/Berlin:20240830T203000
DTSTAMP:20260421T025412
CREATED:20240710T082009Z
LAST-MODIFIED:20240710T082009Z
UID:10001432-1725046200-1725049800@kirche-putbus.de
SUMMARY:Sommerkonzert in Kasnevitz: Violine & Akkordeon
DESCRIPTION:Freitag\, 30. August | 19.30 Uhr  \nTabea Höfer (Violine)  \nMarek Stavniak (Akkordeon)  \nWerke von A. Piazolla\, J. Williams  \nund J. S. Bach \n  \nEs ist uns wichtig\, dass jede/jeder die Konzerte besuchen kann. Deshalb ist der Eintritt frei.  \nDennoch sind wir zur Finanzierung der Künstlerhonorare auf Ihre Spenden angewiesen. Vielen Dank! \n 
URL:https://kirche-putbus.de/veranstaltung/sommerkonzert-in-kasnevitz-violine-akkordeon/
LOCATION:St. Jakob Kasnevitz\, Dorfstrasse\, Putbus OT Kasnevitz\, M/V\, 18581\, Deutschland
CATEGORIES:Konzerte
ATTACH;FMTTYPE=image/jpeg:https://kirche-putbus.de/wp-content/uploads/2021/09/Kirche-Vilmnitz-2019-2500px-Foto-Burwitz-Pocha-68-e1630918624158.jpg
END:VEVENT
BEGIN:VEVENT
DTSTART;TZID=Europe/Berlin:20240901T103000
DTEND;TZID=Europe/Berlin:20240901T113000
DTSTAMP:20260421T025412
CREATED:20240830T122517Z
LAST-MODIFIED:20240830T122517Z
UID:10001435-1725186600-1725190200@kirche-putbus.de
SUMMARY:Gottesdienst und Gemeindefest in Putbus: 14. So. n. Trinitatis
DESCRIPTION:01. September\, 14. Sonntag nach Trinitatis \n10.30 Putbus\, Familiengottesdienst im Zirkuszelt \nmit anschließendem Gemeindefest  \nan der Schlosskirche
URL:https://kirche-putbus.de/veranstaltung/gottesdienst-und-gemeindefest-in-putbus-14-so-n-trinitatis/
LOCATION:Schlosskirche Putbus\, Alleestraße 34\, Putbus\, M/V\, 18581\, Deutschland
CATEGORIES:Gottesdienste
ATTACH;FMTTYPE=image/jpeg:https://kirche-putbus.de/wp-content/uploads/2021/09/Gottesdienst-img-e1630923533347.jpg
END:VEVENT
BEGIN:VEVENT
DTSTART;TZID=Europe/Berlin:20240901T103000
DTEND;TZID=Europe/Berlin:20240901T163000
DTSTAMP:20260421T025412
CREATED:20240830T095124Z
LAST-MODIFIED:20240830T095124Z
UID:10001434-1725186600-1725208200@kirche-putbus.de
SUMMARY:Gemeindefest in Putbus am 1.9.
DESCRIPTION:Herzliche Einladung zu unserem Gemeindefest  \nAm 01. September 2024 um 10.30 Uhr  \nmit einem Gottesdienst im Zirkuszelt für Klein und Groß in unserem Putbusser Pfarrgarten hinter der Schlosskirche \nIm Anschluss gibt es ein buntes Grillbuffet sowie genügend Zeit\, um beim gemeinsamen Mittagessen ins Gespräch zu kommen. Ein Schmink- und Tattoostand der Kita\, eine Tombola sowie eine kleine Kreativstation laden zum Verweilen ein. \nUm 14.00 Uhr heißen Sie Kinder im Alter von 6-12 Jahren zu einer Zirkusaufführung willkommen und präsentieren damit das Ergebnis der diesjährigen Kinderaktionswoche “Wir machen Zirkus!”
URL:https://kirche-putbus.de/veranstaltung/gemeindefest-in-putbus-am-1-9/
LOCATION:Schlosskirche Putbus\, Alleestraße 34\, Putbus\, M/V\, 18581\, Deutschland
CATEGORIES:Gottesdienste,Sonstige Veranstaltungen
ATTACH;FMTTYPE=image/jpeg:https://kirche-putbus.de/wp-content/uploads/2024/07/bunting-642066_1280-e1725011457746.jpg
END:VEVENT
BEGIN:VEVENT
DTSTART;TZID=Europe/Berlin:20240908T090000
DTEND;TZID=Europe/Berlin:20240908T100000
DTSTAMP:20260421T025412
CREATED:20240830T122733Z
LAST-MODIFIED:20240830T122733Z
UID:10001437-1725786000-1725789600@kirche-putbus.de
SUMMARY:Gottesdienst in Vilmnitz: 15. So. n. Trinitatis
DESCRIPTION:08. September\, 15. Sonntag nach Trinitatis \n9.00 Vilmnitz\, Gottesdienst \n10.30 Putbus\, Gottesdienst 
URL:https://kirche-putbus.de/veranstaltung/gottesdienst-in-vilmnitz-15-so-n-trinitatis/
LOCATION:St. Maria Magdalena Vilmnitz\, Alte Bäderstraße 2\, Putbus OT Vilmnitz\, M/V\, 18581\, Deutschland
CATEGORIES:Gottesdienste
ATTACH;FMTTYPE=image/jpeg:https://kirche-putbus.de/wp-content/uploads/2021/09/Gottesdienst-img-e1630923533347.jpg
END:VEVENT
BEGIN:VEVENT
DTSTART;TZID=Europe/Berlin:20240908T100000
DTEND;TZID=Europe/Berlin:20240908T180000
DTSTAMP:20260421T025412
CREATED:20240830T094108Z
LAST-MODIFIED:20240830T094108Z
UID:10001433-1725789600-1725818400@kirche-putbus.de
SUMMARY:Tag des offenen Denkmals in Vilmnitz
DESCRIPTION:Einblicke in die Fürstengruft \nJedes Jahr am zweiten Sonntag im September findet unter der Schirmherrschaft der Deutschen Stiftung Denkmalschutz der Tag des offenen Denkmals statt. Das ist die Gelegenheit in unserer St. Maria-Magdalena-Kirche zu Vilmnitz einen Blick in die Fürstengruft zu werfen! \nAm Sonntag\, dem 08. September 2024\, steht Diplom-Restaurator Carlo Wloch von 10:00 bis 18:00 Uhr für Fragen und Antworten zur Verfügung!
URL:https://kirche-putbus.de/veranstaltung/tag-des-offenen-denkmals-in-vilmnitz/
LOCATION:St. Maria Magdalena Vilmnitz\, Alte Bäderstraße 2\, Putbus OT Vilmnitz\, M/V\, 18581\, Deutschland
CATEGORIES:Sonstige Veranstaltungen
ATTACH;FMTTYPE=image/jpeg:https://kirche-putbus.de/wp-content/uploads/2021/09/Kirche-Vilmnitz-2019-2500px-Foto-Burwitz-Pocha-56-e1630924985911.jpg
END:VEVENT
BEGIN:VEVENT
DTSTART;TZID=Europe/Berlin:20240908T103000
DTEND;TZID=Europe/Berlin:20240908T113000
DTSTAMP:20260421T025412
CREATED:20240830T122636Z
LAST-MODIFIED:20240830T122636Z
UID:10001436-1725791400-1725795000@kirche-putbus.de
SUMMARY:Gottesdienst in Putbus: 15. So. n. Trinitatis
DESCRIPTION:08. September\, 15. Sonntag nach Trinitatis \n9.00 Vilmnitz\, Gottesdienst \n10.30 Putbus\, Gottesdienst 
URL:https://kirche-putbus.de/veranstaltung/gottesdienst-in-putbus-15-so-n-trinitatis/
LOCATION:Schlosskirche Putbus\, Alleestraße 34\, Putbus\, M/V\, 18581\, Deutschland
CATEGORIES:Gottesdienste
ATTACH;FMTTYPE=image/jpeg:https://kirche-putbus.de/wp-content/uploads/2021/09/Gottesdienst-img-e1630923533347.jpg
END:VEVENT
BEGIN:VEVENT
DTSTART;TZID=Europe/Berlin:20240915T090000
DTEND;TZID=Europe/Berlin:20240915T100000
DTSTAMP:20260421T025412
CREATED:20240830T122845Z
LAST-MODIFIED:20240830T122845Z
UID:10001438-1726390800-1726394400@kirche-putbus.de
SUMMARY:Gottesdienst in Kasnevitz: 16. So. n. Trinitatis
DESCRIPTION:15. September\, 16. Sonntag nach Trinitatis \n9.00 Kasnevitz\, Gottesdienst \n10.30 Putbus\, Gottesdienst
URL:https://kirche-putbus.de/veranstaltung/gottesdienst-in-kasnevitz-16-so-n-trinitatis/
LOCATION:St. Jakob Kasnevitz\, Dorfstrasse\, Putbus OT Kasnevitz\, M/V\, 18581\, Deutschland
CATEGORIES:Gottesdienste
ATTACH;FMTTYPE=image/jpeg:https://kirche-putbus.de/wp-content/uploads/2021/09/Gottesdienst-img-e1630923533347.jpg
END:VEVENT
BEGIN:VEVENT
DTSTART;TZID=Europe/Berlin:20240915T103000
DTEND;TZID=Europe/Berlin:20240915T113000
DTSTAMP:20260421T025412
CREATED:20240830T122929Z
LAST-MODIFIED:20240830T122929Z
UID:10001439-1726396200-1726399800@kirche-putbus.de
SUMMARY:Gottesdienst in Putbus: 16. So. n. Trinitatis
DESCRIPTION:15. September\, 16. Sonntag nach Trinitatis \n9.00 Kasnevitz\, Gottesdienst \n10.30 Putbus\, Gottesdienst
URL:https://kirche-putbus.de/veranstaltung/gottesdienst-in-putbus-16-so-n-trinitatis/
LOCATION:Schlosskirche Putbus\, Alleestraße 34\, Putbus\, M/V\, 18581\, Deutschland
CATEGORIES:Gottesdienste
ATTACH;FMTTYPE=image/jpeg:https://kirche-putbus.de/wp-content/uploads/2021/09/Gottesdienst-img-e1630923533347.jpg
END:VEVENT
BEGIN:VEVENT
DTSTART;TZID=Europe/Berlin:20240922T103000
DTEND;TZID=Europe/Berlin:20240922T113000
DTSTAMP:20260421T025412
CREATED:20240830T123041Z
LAST-MODIFIED:20240830T123041Z
UID:10001440-1727001000-1727004600@kirche-putbus.de
SUMMARY:Gemeindeausflug nach Wustrow und Ahrenshoop: 17. So. n. Trinitatis
DESCRIPTION:22. September\, 17. Sonntag nach Trinitatis \nGemeindeausflug nach Wustrow und Ahrenshoop
URL:https://kirche-putbus.de/veranstaltung/gemeindeausflug-nach-wustrow-und-ahrenshoop-17-so-n-trinitatis/
LOCATION:Schlosskirche Putbus\, Alleestraße 34\, Putbus\, M/V\, 18581\, Deutschland
CATEGORIES:Gottesdienste,Sonstige Veranstaltungen
ATTACH;FMTTYPE=image/jpeg:https://kirche-putbus.de/wp-content/uploads/2021/09/Gottesdienst-img-e1630923533347.jpg
END:VEVENT
BEGIN:VEVENT
DTSTART;TZID=Europe/Berlin:20240929T103000
DTEND;TZID=Europe/Berlin:20240929T113000
DTSTAMP:20260421T025412
CREATED:20240830T123202Z
LAST-MODIFIED:20240830T123202Z
UID:10001441-1727605800-1727609400@kirche-putbus.de
SUMMARY:Familiengottesdienst zu Erntedank in Putbus: Michaelis
DESCRIPTION:29. September\, Michaelis \n10.30 Putbus\, Familiengottesdienst zu Erntedank 
URL:https://kirche-putbus.de/veranstaltung/familiengottesdienst-zu-erntedank-in-putbus-michaelis/
LOCATION:Schlosskirche Putbus\, Alleestraße 34\, Putbus\, M/V\, 18581\, Deutschland
CATEGORIES:Gottesdienste
ATTACH;FMTTYPE=image/jpeg:https://kirche-putbus.de/wp-content/uploads/2021/09/Gottesdienst-img-e1630923533347.jpg
END:VEVENT
BEGIN:VEVENT
DTSTART;TZID=Europe/Berlin:20241006T090000
DTEND;TZID=Europe/Berlin:20241006T100000
DTSTAMP:20260421T025412
CREATED:20240830T123345Z
LAST-MODIFIED:20240830T123345Z
UID:10001443-1728205200-1728208800@kirche-putbus.de
SUMMARY:Abendmahlsgottesdienst in Vilmnitz: Erntedank
DESCRIPTION:06. Oktober\, Erntedank \n9.00 Vilmnitz\, Abendmahlsgottesdienst \n10.30 Kasnevitz\, Abendmahlsgottesdienst
URL:https://kirche-putbus.de/veranstaltung/abendmahlsgottesdienst-in-vilmnitz-erntedank/
LOCATION:St. Maria Magdalena Vilmnitz\, Alte Bäderstraße 2\, Putbus OT Vilmnitz\, M/V\, 18581\, Deutschland
CATEGORIES:Gottesdienste
ATTACH;FMTTYPE=image/jpeg:https://kirche-putbus.de/wp-content/uploads/2021/09/Gottesdienst-img-e1630923533347.jpg
END:VEVENT
END:VCALENDAR