BEGIN:VCALENDAR
VERSION:2.0
PRODID:-//Kirchen zu Putbus - ECPv6.15.20//NONSGML v1.0//EN
CALSCALE:GREGORIAN
METHOD:PUBLISH
X-ORIGINAL-URL:https://kirche-putbus.de
X-WR-CALDESC:Veranstaltungen für Kirchen zu Putbus
REFRESH-INTERVAL;VALUE=DURATION:PT1H
X-Robots-Tag:noindex
X-PUBLISHED-TTL:PT1H
BEGIN:VTIMEZONE
TZID:Europe/Berlin
BEGIN:DAYLIGHT
TZOFFSETFROM:+0100
TZOFFSETTO:+0200
TZNAME:CEST
DTSTART:20220327T010000
END:DAYLIGHT
BEGIN:STANDARD
TZOFFSETFROM:+0200
TZOFFSETTO:+0100
TZNAME:CET
DTSTART:20221030T010000
END:STANDARD
BEGIN:DAYLIGHT
TZOFFSETFROM:+0100
TZOFFSETTO:+0200
TZNAME:CEST
DTSTART:20230326T010000
END:DAYLIGHT
BEGIN:STANDARD
TZOFFSETFROM:+0200
TZOFFSETTO:+0100
TZNAME:CET
DTSTART:20231029T010000
END:STANDARD
BEGIN:DAYLIGHT
TZOFFSETFROM:+0100
TZOFFSETTO:+0200
TZNAME:CEST
DTSTART:20240331T010000
END:DAYLIGHT
BEGIN:STANDARD
TZOFFSETFROM:+0200
TZOFFSETTO:+0100
TZNAME:CET
DTSTART:20241027T010000
END:STANDARD
END:VTIMEZONE
BEGIN:VEVENT
DTSTART;TZID=Europe/Berlin:20230709T090000
DTEND;TZID=Europe/Berlin:20230709T100000
DTSTAMP:20260426T055544
CREATED:20230707T041404Z
LAST-MODIFIED:20230707T041404Z
UID:10000499-1688893200-1688896800@kirche-putbus.de
SUMMARY:Gottesdienst in Vilmnitz: 5. Sonntag nach Trinitatis
DESCRIPTION:09.07. \n5. Sonntag nach Trinitatis \n09.00 Uhr Vilmnitz \n10.30 Uhr Putbus
URL:https://kirche-putbus.de/veranstaltung/gottesdienst-in-vilmnitz-5-sonntag-nach-trinitatis/
LOCATION:St. Maria Magdalena Vilmnitz\, Alte Bäderstraße 2\, Putbus OT Vilmnitz\, M/V\, 18581\, Deutschland
CATEGORIES:Gottesdienste
ATTACH;FMTTYPE=image/jpeg:https://kirche-putbus.de/wp-content/uploads/2021/09/Gottesdienst-img-e1630923533347.jpg
END:VEVENT
BEGIN:VEVENT
DTSTART;TZID=Europe/Berlin:20230709T103000
DTEND;TZID=Europe/Berlin:20230709T113000
DTSTAMP:20260426T055544
CREATED:20230707T041325Z
LAST-MODIFIED:20230707T041325Z
UID:10000498-1688898600-1688902200@kirche-putbus.de
SUMMARY:Gottesdienst in Putbus: 5. Sonntag nach Trinitatis
DESCRIPTION:09.07. \n5. Sonntag nach Trinitatis \n09.00 Uhr Vilmnitz \n10.30 Uhr Putbus
URL:https://kirche-putbus.de/veranstaltung/gottesdienst-in-putbus-5-sonntag-nach-trinitatis/
LOCATION:Schlosskirche Putbus\, Alleestraße 34\, Putbus\, M/V\, 18581\, Deutschland
CATEGORIES:Gottesdienste
ATTACH;FMTTYPE=image/jpeg:https://kirche-putbus.de/wp-content/uploads/2021/09/Gottesdienst-img-e1630923533347.jpg
END:VEVENT
BEGIN:VEVENT
DTSTART;TZID=Europe/Berlin:20230711T150000
DTEND;TZID=Europe/Berlin:20230711T163000
DTSTAMP:20260426T055544
CREATED:20230707T042922Z
LAST-MODIFIED:20230707T042922Z
UID:10000766-1689087600-1689093000@kirche-putbus.de
SUMMARY:Eltern-Kind-Singen am Strand Wreechen
DESCRIPTION:Eltern-Kind-Singen: \nDienstag\, 11.07.\, 15.00 – 16.30 Uhr\, am Strand Wreechen
URL:https://kirche-putbus.de/veranstaltung/eltern-kind-singen-am-strand-wreechen/
LOCATION:Strand Wreechen\, Strand Wreechen\, Putbus\, 18581\, Deutschland
CATEGORIES:Sonstige Veranstaltungen
ATTACH;FMTTYPE=image/jpeg:https://kirche-putbus.de/wp-content/uploads/2021/09/596724_original_R_by_Thomas-Fresia_pixelio.de_-scaled-e1631012965550.jpg
GEO:54.331069;13.467046
X-APPLE-STRUCTURED-LOCATION;VALUE=URI;X-ADDRESS=Strand Wreechen Strand Wreechen Putbus 18581 Deutschland;X-APPLE-RADIUS=500;X-TITLE=Strand Wreechen:geo:13.467046,54.331069
END:VEVENT
BEGIN:VEVENT
DTSTART;TZID=Europe/Berlin:20230712T190000
DTEND;TZID=Europe/Berlin:20230712T200000
DTSTAMP:20260426T055544
CREATED:20230707T042407Z
LAST-MODIFIED:20231107T185104Z
UID:10000505-1689188400-1689192000@kirche-putbus.de
SUMMARY:Chor in Kasnevitz
DESCRIPTION:Jeden Mittwoch um 19 Uhr treffen wir uns zum fröhlichen Singen im Dorfgemeinschaftshaus in Kasnevitz. Dabei widmen wir uns Liedern aus aller Welt\, Gospels\, Spirituals\, moderner und klassischer Kirchenmusik. Jeder\, der Freude am Singen hat\, ist willkommen! \nMusikalische Grüße\,\nKatja Wild\n 
URL:https://kirche-putbus.de/veranstaltung/chor-in-kasnevitz/2023-07-12/
LOCATION:Dorfgemeinschaftshaus Kasnevitz\, Dorfstrasse\, Putbus OT Kasnevitz\, 18581\, Deutschland
CATEGORIES:Gruppen und Kreise
ATTACH;FMTTYPE=image/jpeg:https://kirche-putbus.de/wp-content/uploads/2021/09/596724_original_R_by_Thomas-Fresia_pixelio.de_-scaled-e1631012965550.jpg
END:VEVENT
BEGIN:VEVENT
DTSTART;TZID=Europe/Berlin:20230713T193000
DTEND;TZID=Europe/Berlin:20230713T210000
DTSTAMP:20260426T055544
CREATED:20230714T161531Z
LAST-MODIFIED:20230714T161531Z
UID:10000774-1689276600-1689282000@kirche-putbus.de
SUMMARY:Sommerkonzert Vilmnitz: “Barocke Leichtigkeit“
DESCRIPTION:13. 07. Konzert für Trompete und Orgel \n“Barocke Leichtigkeit“ \nHannes Maczey – Piccolo- und F-Trompete und \nAndreas Kaiser – Orgel\, spielen u. a. Werke von Händel\, \nBach\, Walter\, Corelle und Purcell
URL:https://kirche-putbus.de/veranstaltung/sommerkonzert-vilmnitz-barocke-leichtigkeit/
LOCATION:St. Maria Magdalena Vilmnitz\, Alte Bäderstraße 2\, Putbus OT Vilmnitz\, M/V\, 18581\, Deutschland
CATEGORIES:Konzerte
ATTACH;FMTTYPE=image/jpeg:https://kirche-putbus.de/wp-content/uploads/2021/09/Kirche-Vilmnitz-2019-2500px-Foto-Burwitz-Pocha-68-e1630918624158.jpg
END:VEVENT
BEGIN:VEVENT
DTSTART;TZID=Europe/Berlin:20230714T193000
DTEND;TZID=Europe/Berlin:20230714T210000
DTSTAMP:20260426T055544
CREATED:20230714T155937Z
LAST-MODIFIED:20230714T155937Z
UID:10000767-1689363000-1689368400@kirche-putbus.de
SUMMARY:Sommerkonzert Kasnevitz: Adumá Saxophonquartett
DESCRIPTION:Freitag\, 14. Juli | 19.30 Uhr \nVoices of Winds \namerikanische Saxophonmusik der letzten 150 Jahre Choräle und Tanzsätze wechseln sich mit Anklängen an Heavy Metal und Jazz ab\, romantische Kompositionskunst trifft auf die Musiksprache des mittleren Orients. \nMusik von Alfred Reed\, David Maslanka\, Chris Evan Hass\, Caryl Florio und Jennifer Higdon \n  \nAdumá Saxophonquartett \nIrina Yudaeva (Sopransaxophon) \nChristian Schilf (Altsaxophon) \nYunxi Cheng (Tenorsaxophon) \nKathrin von Kieseritzky (Baritonsaxophon)
URL:https://kirche-putbus.de/veranstaltung/sommerkonzert-kasnevitz-aduma-saxophonquartett/
LOCATION:St. Jakob Kasnevitz\, Dorfstrasse\, Putbus OT Kasnevitz\, M/V\, 18581\, Deutschland
CATEGORIES:Konzerte
ATTACH;FMTTYPE=image/jpeg:https://kirche-putbus.de/wp-content/uploads/2021/09/Kirche-Vilmnitz-2019-2500px-Foto-Burwitz-Pocha-68-e1630918624158.jpg
END:VEVENT
BEGIN:VEVENT
DTSTART;TZID=Europe/Berlin:20230716T090000
DTEND;TZID=Europe/Berlin:20230716T100000
DTSTAMP:20260426T055544
CREATED:20230707T041513Z
LAST-MODIFIED:20230707T041513Z
UID:10000500-1689498000-1689501600@kirche-putbus.de
SUMMARY:Gottesdienst in Kasnevitz: 6. Sonntag nach Trinitatis
DESCRIPTION:16.07. \n6. Sonntag nach Trinitatis \n09.00 Uhr Kasnevitz \n10.30 Uhr Putbus
URL:https://kirche-putbus.de/veranstaltung/gottesdienst-in-kasnevitz-6-sonntag-nach-trinitatis/
LOCATION:St. Jakob Kasnevitz\, Dorfstrasse\, Putbus OT Kasnevitz\, M/V\, 18581\, Deutschland
CATEGORIES:Gottesdienste
ATTACH;FMTTYPE=image/jpeg:https://kirche-putbus.de/wp-content/uploads/2021/09/Gottesdienst-img-e1630923533347.jpg
END:VEVENT
BEGIN:VEVENT
DTSTART;TZID=Europe/Berlin:20230716T103000
DTEND;TZID=Europe/Berlin:20230716T113000
DTSTAMP:20260426T055544
CREATED:20230707T041555Z
LAST-MODIFIED:20230707T041555Z
UID:10000501-1689503400-1689507000@kirche-putbus.de
SUMMARY:Gottesdienst in Putbus: 6. Sonntag nach Trinitatis
DESCRIPTION:16.07. \n6. Sonntag nach Trinitatis \n09.00 Uhr Kasnevitz \n10.30 Uhr Putbus
URL:https://kirche-putbus.de/veranstaltung/gottesdienst-in-putbus-6-sonntag-nach-trinitatis/
LOCATION:Schlosskirche Putbus\, Alleestraße 34\, Putbus\, M/V\, 18581\, Deutschland
CATEGORIES:Gottesdienste
ATTACH;FMTTYPE=image/jpeg:https://kirche-putbus.de/wp-content/uploads/2021/09/Gottesdienst-img-e1630923533347.jpg
END:VEVENT
BEGIN:VEVENT
DTSTART;TZID=Europe/Berlin:20230720T193000
DTEND;TZID=Europe/Berlin:20230720T210000
DTSTAMP:20260426T055544
CREATED:20230714T161622Z
LAST-MODIFIED:20230714T161622Z
UID:10000775-1689881400-1689886800@kirche-putbus.de
SUMMARY:Sommerkonzert Vilmnitz: “Musikalische Raritäten“
DESCRIPTION:20. 07. “Musikalische Raritäten“ \nKammerkonzert für Flöte\, Horn und Orgel \nDas “Ensemble a tre“ aus Potsdam spielt Werke von Bach\, Telemann\, Bartholdy\, Reger\, Kreuz und Gisbert Näther
URL:https://kirche-putbus.de/veranstaltung/sommerkonzert-vilmnitz-musikalische-raritaeten/
LOCATION:St. Maria Magdalena Vilmnitz\, Alte Bäderstraße 2\, Putbus OT Vilmnitz\, M/V\, 18581\, Deutschland
CATEGORIES:Konzerte
ATTACH;FMTTYPE=image/jpeg:https://kirche-putbus.de/wp-content/uploads/2021/09/Kirche-Vilmnitz-2019-2500px-Foto-Burwitz-Pocha-68-e1630918624158.jpg
END:VEVENT
BEGIN:VEVENT
DTSTART;TZID=Europe/Berlin:20230721T193000
DTEND;TZID=Europe/Berlin:20230721T210000
DTSTAMP:20260426T055544
CREATED:20230714T160048Z
LAST-MODIFIED:20230714T160048Z
UID:10000768-1689967800-1689973200@kirche-putbus.de
SUMMARY:Sommerkonzert Kasnevitz: ALTER EGO
DESCRIPTION:Freitag\, 21. Juli | 19.30 Uhr \nALTER EGO \nImprovisation\, Komposition und die Cellosuiten Johann Sebastian Bachs \nAnnekatrin Flick (Violoncello) \nBirgitta Flick (Tenorsaxophon)
URL:https://kirche-putbus.de/veranstaltung/sommerkonzert-kasnevitz-alter-ego/
LOCATION:St. Jakob Kasnevitz\, Dorfstrasse\, Putbus OT Kasnevitz\, M/V\, 18581\, Deutschland
CATEGORIES:Konzerte
ATTACH;FMTTYPE=image/jpeg:https://kirche-putbus.de/wp-content/uploads/2021/09/Kirche-Vilmnitz-2019-2500px-Foto-Burwitz-Pocha-68-e1630918624158.jpg
END:VEVENT
BEGIN:VEVENT
DTSTART;TZID=Europe/Berlin:20230723T090000
DTEND;TZID=Europe/Berlin:20230723T100000
DTSTAMP:20260426T055544
CREATED:20230707T041720Z
LAST-MODIFIED:20230707T041720Z
UID:10000503-1690102800-1690106400@kirche-putbus.de
SUMMARY:Gottesdienst in Vilmnitz: 7. Sonntag nach Trinitatis
DESCRIPTION:23.07. \n7. Sonntag nach Trinitatis \n09.00 Uhr Vilmnitz \n10.30 Uhr Putbus
URL:https://kirche-putbus.de/veranstaltung/gottesdienst-in-vilmnitz-7-sonntag-nach-trinitatis/
LOCATION:St. Maria Magdalena Vilmnitz\, Alte Bäderstraße 2\, Putbus OT Vilmnitz\, M/V\, 18581\, Deutschland
CATEGORIES:Gottesdienste
ATTACH;FMTTYPE=image/jpeg:https://kirche-putbus.de/wp-content/uploads/2021/09/Gottesdienst-img-e1630923533347.jpg
END:VEVENT
BEGIN:VEVENT
DTSTART;TZID=Europe/Berlin:20230723T103000
DTEND;TZID=Europe/Berlin:20230723T113000
DTSTAMP:20260426T055544
CREATED:20230707T041639Z
LAST-MODIFIED:20230707T042015Z
UID:10000502-1690108200-1690111800@kirche-putbus.de
SUMMARY:Gottesdienst in Putbus: 7. Sonntag nach Trinitatis
DESCRIPTION:23.07. \n7. Sonntag nach Trinitatis \n09.00 Uhr Vilmnitz \n10.30 Uhr Putbus
URL:https://kirche-putbus.de/veranstaltung/gottesdienst-in-putbus-7-sonntag-nach-trinitatis/
LOCATION:Schlosskirche Putbus\, Alleestraße 34\, Putbus\, M/V\, 18581\, Deutschland
CATEGORIES:Gottesdienste
ATTACH;FMTTYPE=image/jpeg:https://kirche-putbus.de/wp-content/uploads/2021/09/Gottesdienst-img-e1630923533347.jpg
END:VEVENT
BEGIN:VEVENT
DTSTART;TZID=Europe/Berlin:20230727T193000
DTEND;TZID=Europe/Berlin:20230727T210000
DTSTAMP:20260426T055544
CREATED:20230714T161714Z
LAST-MODIFIED:20230714T161714Z
UID:10000776-1690486200-1690491600@kirche-putbus.de
SUMMARY:Sommerkonzert Vilmnitz: “Virtuose Barockmusik“
DESCRIPTION:27. 07. “Virtuose Barockmusik“ \nSusanne Ehrhardt – Klarinette und Blockflöte \nMartin Stephan – Orgel\, spielen Werke von Corelli\, Hasse\, Händel und Rameau
URL:https://kirche-putbus.de/veranstaltung/sommerkonzert-vilmnitz-virtuose-barockmusik/
LOCATION:St. Maria Magdalena Vilmnitz\, Alte Bäderstraße 2\, Putbus OT Vilmnitz\, M/V\, 18581\, Deutschland
CATEGORIES:Konzerte
ATTACH;FMTTYPE=image/jpeg:https://kirche-putbus.de/wp-content/uploads/2021/09/Kirche-Vilmnitz-2019-2500px-Foto-Burwitz-Pocha-68-e1630918624158.jpg
END:VEVENT
BEGIN:VEVENT
DTSTART;TZID=Europe/Berlin:20230728T193000
DTEND;TZID=Europe/Berlin:20230728T210000
DTSTAMP:20260426T055544
CREATED:20230714T160137Z
LAST-MODIFIED:20230714T160137Z
UID:10000769-1690572600-1690578000@kirche-putbus.de
SUMMARY:Sommerkonzert Kasnevitz: Bach und seine Zeitgenossen
DESCRIPTION:Freitag\, 28. Juli | 19.30 Uhr \nBach und seine Zeitgenossen \nWerke von Bach\, Telemann\, Händel und Corelli \nHachidai Saito (Violine) \nChristian Finke-Tanne (Truhenorgel)
URL:https://kirche-putbus.de/veranstaltung/sommerkonzert-kasnevitz-bach-und-seine-zeitgenossen/
LOCATION:St. Jakob Kasnevitz\, Dorfstrasse\, Putbus OT Kasnevitz\, M/V\, 18581\, Deutschland
CATEGORIES:Konzerte
ATTACH;FMTTYPE=image/jpeg:https://kirche-putbus.de/wp-content/uploads/2021/09/Kirche-Vilmnitz-2019-2500px-Foto-Burwitz-Pocha-68-e1630918624158.jpg
END:VEVENT
BEGIN:VEVENT
DTSTART;TZID=Europe/Berlin:20230730T103000
DTEND;TZID=Europe/Berlin:20230730T113000
DTSTAMP:20260426T055544
CREATED:20230707T041824Z
LAST-MODIFIED:20230707T041847Z
UID:10000504-1690713000-1690716600@kirche-putbus.de
SUMMARY:Abendmahlsgottesdienst in Putbus: 8. Sonntag nach Trinitatis
DESCRIPTION:30.07. \n8. Sonntag nach Trinitatis \n09.00 Uhr Kasnevitz (A) \n10.30 Uhr Putbus (A)
URL:https://kirche-putbus.de/veranstaltung/abendmahlsgottesdienst-in-kasnevitz-8-sonntag-nach-trinitatis/
LOCATION:Schlosskirche Putbus\, Alleestraße 34\, Putbus\, M/V\, 18581\, Deutschland
CATEGORIES:Gottesdienste
ATTACH;FMTTYPE=image/jpeg:https://kirche-putbus.de/wp-content/uploads/2021/09/Gottesdienst-img-e1630923533347.jpg
END:VEVENT
BEGIN:VEVENT
DTSTART;TZID=Europe/Berlin:20230803T193000
DTEND;TZID=Europe/Berlin:20230803T210000
DTSTAMP:20260426T055544
CREATED:20230714T161807Z
LAST-MODIFIED:20230714T161807Z
UID:10000777-1691091000-1691096400@kirche-putbus.de
SUMMARY:Sommerkonzert Vilmnitz: “Barocke Klänge“
DESCRIPTION:03. 08. “Barocke Klänge“ \nReinhard Glende – Cembalo und Susanne Seiffert – Blockflöten spielen Werke von Bach\, Händel\, Loeillet\, Heinichen u. a.
URL:https://kirche-putbus.de/veranstaltung/sommerkonzert-vilmnitz-barocke-klaenge/
LOCATION:St. Maria Magdalena Vilmnitz\, Alte Bäderstraße 2\, Putbus OT Vilmnitz\, M/V\, 18581\, Deutschland
CATEGORIES:Konzerte
ATTACH;FMTTYPE=image/jpeg:https://kirche-putbus.de/wp-content/uploads/2021/09/Kirche-Vilmnitz-2019-2500px-Foto-Burwitz-Pocha-68-e1630918624158.jpg
END:VEVENT
BEGIN:VEVENT
DTSTART;TZID=Europe/Berlin:20230804T193000
DTEND;TZID=Europe/Berlin:20230804T210000
DTSTAMP:20260426T055544
CREATED:20230714T160234Z
LAST-MODIFIED:20230714T160234Z
UID:10000770-1691177400-1691182800@kirche-putbus.de
SUMMARY:Sommerkonzert Kasnevitz: Musik für Violine\, Fagott und Orgel
DESCRIPTION:Freitag\, 4. August | 19.30 Uhr \nMusik für Violine\, Fagott und Orgel \nWerke von Bach\, Tartini\, Saint-Saens\, Kreisler\, Elgar\, Lischka u.a. \nAnna Zeller (Violine) \nPhilipp Zeller (Fagott) \nRainer Fritzsch (Orgel)
URL:https://kirche-putbus.de/veranstaltung/sommerkonzert-kasnevitz-musik-fuer-violine-fagott-und-orgel/
LOCATION:St. Jakob Kasnevitz\, Dorfstrasse\, Putbus OT Kasnevitz\, M/V\, 18581\, Deutschland
CATEGORIES:Konzerte
ATTACH;FMTTYPE=image/jpeg:https://kirche-putbus.de/wp-content/uploads/2021/09/Kirche-Vilmnitz-2019-2500px-Foto-Burwitz-Pocha-68-e1630918624158.jpg
END:VEVENT
BEGIN:VEVENT
DTSTART;TZID=Europe/Berlin:20230806T090000
DTEND;TZID=Europe/Berlin:20230806T100000
DTSTAMP:20260426T055544
CREATED:20230805T082126Z
LAST-MODIFIED:20230805T082126Z
UID:10000784-1691312400-1691316000@kirche-putbus.de
SUMMARY:Gottesdienst in Vilmnitz: 9. Sonntag nach Trinitatis
DESCRIPTION: 06. August  \n9. Sonntag nach Trinitatis \n9.00 Vilmnitz  \n10.30 Putbus 
URL:https://kirche-putbus.de/veranstaltung/gottesdienst-in-vilmnitz-9-sonntag-nach-trinitatis/
LOCATION:St. Maria Magdalena Vilmnitz\, Alte Bäderstraße 2\, Putbus OT Vilmnitz\, M/V\, 18581\, Deutschland
CATEGORIES:Gottesdienste
ATTACH;FMTTYPE=image/jpeg:https://kirche-putbus.de/wp-content/uploads/2021/09/Gottesdienst-img-e1630923533347.jpg
END:VEVENT
BEGIN:VEVENT
DTSTART;TZID=Europe/Berlin:20230806T103000
DTEND;TZID=Europe/Berlin:20230806T113000
DTSTAMP:20260426T055544
CREATED:20230805T082030Z
LAST-MODIFIED:20230805T082030Z
UID:10000783-1691317800-1691321400@kirche-putbus.de
SUMMARY:Gottesdienst in Putbus: 9. Sonntag nach Trinitatis
DESCRIPTION: 06. August  \n9. Sonntag nach Trinitatis \n9.00 Vilmnitz  \n10.30 Putbus 
URL:https://kirche-putbus.de/veranstaltung/gottesdienst-in-putbus-9-sonntag-nach-trinitatis/
LOCATION:Schlosskirche Putbus\, Alleestraße 34\, Putbus\, M/V\, 18581\, Deutschland
CATEGORIES:Gottesdienste
ATTACH;FMTTYPE=image/jpeg:https://kirche-putbus.de/wp-content/uploads/2021/09/Gottesdienst-img-e1630923533347.jpg
END:VEVENT
BEGIN:VEVENT
DTSTART;TZID=Europe/Berlin:20230810T193000
DTEND;TZID=Europe/Berlin:20230810T210000
DTSTAMP:20260426T055544
CREATED:20230714T161921Z
LAST-MODIFIED:20230714T161921Z
UID:10000778-1691695800-1691701200@kirche-putbus.de
SUMMARY:Sommerkonzert Vilmnitz: “Meeresungestüm“ – Barockmusik aus den Hansestädten
DESCRIPTION:10. 08. “Meeresungestüm“ – Barockmusik aus den Hansestädten \nKarsten Henschel – Countertenor\, Rezitation \nZsuzsa Varga – Orgel \nEs erklingen Werke von Hasse\, Händel\, Keiser\, Frank\, Vierdanck u.a.
URL:https://kirche-putbus.de/veranstaltung/sommerkonzert-vilmnitz-meeresungestuem-barockmusik-aus-den-hansestaedten/
LOCATION:St. Maria Magdalena Vilmnitz\, Alte Bäderstraße 2\, Putbus OT Vilmnitz\, M/V\, 18581\, Deutschland
CATEGORIES:Konzerte
ATTACH;FMTTYPE=image/jpeg:https://kirche-putbus.de/wp-content/uploads/2021/09/Kirche-Vilmnitz-2019-2500px-Foto-Burwitz-Pocha-68-e1630918624158.jpg
END:VEVENT
BEGIN:VEVENT
DTSTART;TZID=Europe/Berlin:20230811T193000
DTEND;TZID=Europe/Berlin:20230811T210000
DTSTAMP:20260426T055544
CREATED:20230714T160317Z
LAST-MODIFIED:20230714T160317Z
UID:10000771-1691782200-1691787600@kirche-putbus.de
SUMMARY:Sommerkonzert Kasnevitz: „Nach einem Traum“
DESCRIPTION:Freitag\, 11. August | 19.30 Uhr \n„Nach einem Traum“ \nLiederabend mit Werken von Fauré\, Debussy\, Mahler und Strauss \nFranziska Dillner-Koch (Mezzosopran) \nFabian Klentzke (Klavier)
URL:https://kirche-putbus.de/veranstaltung/sommerkonzert-kasnevitz-nach-einem-traum/
LOCATION:St. Jakob Kasnevitz\, Dorfstrasse\, Putbus OT Kasnevitz\, M/V\, 18581\, Deutschland
CATEGORIES:Konzerte
ATTACH;FMTTYPE=image/jpeg:https://kirche-putbus.de/wp-content/uploads/2021/09/Kirche-Vilmnitz-2019-2500px-Foto-Burwitz-Pocha-68-e1630918624158.jpg
END:VEVENT
BEGIN:VEVENT
DTSTART;TZID=Europe/Berlin:20230813T090000
DTEND;TZID=Europe/Berlin:20230813T100000
DTSTAMP:20260426T055544
CREATED:20230805T082211Z
LAST-MODIFIED:20230805T082721Z
UID:10000785-1691917200-1691920800@kirche-putbus.de
SUMMARY:Gottesdienst in Kasnevitz: 10. Sonntag nach Trinitatis
DESCRIPTION:13. August\,  \n10. Sonntag nach Trinitatis \n9.00 Kasnevitz \n10.30 Putbus
URL:https://kirche-putbus.de/veranstaltung/gottesdienst-in-kasnevitz-9-sonntag-nach-trinitatis/
LOCATION:St. Jakob Kasnevitz\, Dorfstrasse\, Putbus OT Kasnevitz\, M/V\, 18581\, Deutschland
CATEGORIES:Gottesdienste
ATTACH;FMTTYPE=image/jpeg:https://kirche-putbus.de/wp-content/uploads/2021/09/Gottesdienst-img-e1630923533347.jpg
END:VEVENT
BEGIN:VEVENT
DTSTART;TZID=Europe/Berlin:20230813T103000
DTEND;TZID=Europe/Berlin:20230813T113000
DTSTAMP:20260426T055544
CREATED:20230805T082311Z
LAST-MODIFIED:20230805T082743Z
UID:10000786-1691922600-1691926200@kirche-putbus.de
SUMMARY:Gottesdienst in Putbus: 10. Sonntag nach Trinitatis
DESCRIPTION:13. August\,  \n10. Sonntag nach Trinitatis \n9.00 Kasnevitz \n10.30 Putbus
URL:https://kirche-putbus.de/veranstaltung/gottesdienst-in-putbus-10-sonntag-nach-trinitatis/
LOCATION:Schlosskirche Putbus\, Alleestraße 34\, Putbus\, M/V\, 18581\, Deutschland
CATEGORIES:Gottesdienste
ATTACH;FMTTYPE=image/jpeg:https://kirche-putbus.de/wp-content/uploads/2021/09/Gottesdienst-img-e1630923533347.jpg
END:VEVENT
BEGIN:VEVENT
DTSTART;TZID=Europe/Berlin:20230817T193000
DTEND;TZID=Europe/Berlin:20230817T210000
DTSTAMP:20260426T055544
CREATED:20230714T162016Z
LAST-MODIFIED:20230714T162016Z
UID:10000779-1692300600-1692306000@kirche-putbus.de
SUMMARY:Sommerkonzert Vilmnitz: “Sachsens Glanz mit Pauken und Trompeten“
DESCRIPTION:17. 08. “Sachsens Glanz mit Pauken und Trompeten“ \nKonzert für 2 Trompeten\, Orgel und Pauken mit dem Ensemble “TOP“ aus Leipzig \nEs erklingt festliche Barockmusik u. a. von Reger\, Bach\, Hertel und Gershwin.
URL:https://kirche-putbus.de/veranstaltung/sommerkonzert-vilmnitz-sachsens-glanz-mit-pauken-und-trompeten/
LOCATION:St. Maria Magdalena Vilmnitz\, Alte Bäderstraße 2\, Putbus OT Vilmnitz\, M/V\, 18581\, Deutschland
CATEGORIES:Konzerte
ATTACH;FMTTYPE=image/jpeg:https://kirche-putbus.de/wp-content/uploads/2021/09/Kirche-Vilmnitz-2019-2500px-Foto-Burwitz-Pocha-68-e1630918624158.jpg
END:VEVENT
BEGIN:VEVENT
DTSTART;TZID=Europe/Berlin:20230818T193000
DTEND;TZID=Europe/Berlin:20230818T210000
DTSTAMP:20260426T055544
CREATED:20230714T160451Z
LAST-MODIFIED:20230714T160451Z
UID:10000772-1692387000-1692392400@kirche-putbus.de
SUMMARY:Sommerkonzert Kasnevitz: Tango porteño - Spurensuche
DESCRIPTION:Freitag\, 18. August | 19.30 Uhr \nTango porteño – Spurensuche \nWerke von Astor Piazzolla\, Garciane Finzi\, Igor Strawinsky\, J.S. Bach u.a. \nTabea Höfer (Violine) \nMarek Stavniak (Akkordeon)
URL:https://kirche-putbus.de/veranstaltung/sommerkonzert-kasnevitz-tango-porteno-spurensuche/
LOCATION:St. Jakob Kasnevitz\, Dorfstrasse\, Putbus OT Kasnevitz\, M/V\, 18581\, Deutschland
CATEGORIES:Konzerte
ATTACH;FMTTYPE=image/jpeg:https://kirche-putbus.de/wp-content/uploads/2021/09/Kirche-Vilmnitz-2019-2500px-Foto-Burwitz-Pocha-68-e1630918624158.jpg
END:VEVENT
BEGIN:VEVENT
DTSTART;TZID=Europe/Berlin:20230820T090000
DTEND;TZID=Europe/Berlin:20230820T100000
DTSTAMP:20260426T055544
CREATED:20230805T082436Z
LAST-MODIFIED:20230805T082436Z
UID:10000788-1692522000-1692525600@kirche-putbus.de
SUMMARY:Gottesdienst in Vilmnitz: 11. Sonntag nach Trinitatis
DESCRIPTION:20. August\,  \n11. Sonntag nach Trinitatis \n9.00 Vilmnitz \n10.30 Putbus
URL:https://kirche-putbus.de/veranstaltung/gottesdienst-in-vilmnitz-11-sonntag-nach-trinitatis/
LOCATION:St. Maria Magdalena Vilmnitz\, Alte Bäderstraße 2\, Putbus OT Vilmnitz\, M/V\, 18581\, Deutschland
CATEGORIES:Gottesdienste
ATTACH;FMTTYPE=image/jpeg:https://kirche-putbus.de/wp-content/uploads/2021/09/Gottesdienst-img-e1630923533347.jpg
END:VEVENT
BEGIN:VEVENT
DTSTART;TZID=Europe/Berlin:20230820T103000
DTEND;TZID=Europe/Berlin:20230820T113000
DTSTAMP:20260426T055544
CREATED:20230805T082404Z
LAST-MODIFIED:20230805T082404Z
UID:10000787-1692527400-1692531000@kirche-putbus.de
SUMMARY:Gottesdienst in Putbus: 11. Sonntag nach Trinitatis
DESCRIPTION:20. August\,  \n11. Sonntag nach Trinitatis \n9.00 Vilmnitz \n10.30 Putbus
URL:https://kirche-putbus.de/veranstaltung/gottesdienst-in-putbus-11-sonntag-nach-trinitatis/
LOCATION:Schlosskirche Putbus\, Alleestraße 34\, Putbus\, M/V\, 18581\, Deutschland
CATEGORIES:Gottesdienste
ATTACH;FMTTYPE=image/jpeg:https://kirche-putbus.de/wp-content/uploads/2021/09/Gottesdienst-img-e1630923533347.jpg
END:VEVENT
BEGIN:VEVENT
DTSTART;TZID=Europe/Berlin:20230824T193000
DTEND;TZID=Europe/Berlin:20230824T210000
DTSTAMP:20260426T055544
CREATED:20230714T162533Z
LAST-MODIFIED:20230714T162533Z
UID:10000780-1692905400-1692910800@kirche-putbus.de
SUMMARY:Sommerkonzert Vilmnitz: Konzert für Oboe und Orgel
DESCRIPTION:24. 08. Konzert für Oboe und Orgel \nAndreas Wenske – Oboe \nStefan Kircheis – Orgel\, spielen u.a. Werke von Händel\, Bach\, Telemann und Reger
URL:https://kirche-putbus.de/veranstaltung/sommerkonzert-vilmnitz-konzert-fuer-oboe-und-orgel/
LOCATION:St. Maria Magdalena Vilmnitz\, Alte Bäderstraße 2\, Putbus OT Vilmnitz\, M/V\, 18581\, Deutschland
CATEGORIES:Konzerte
ATTACH;FMTTYPE=image/jpeg:https://kirche-putbus.de/wp-content/uploads/2021/09/Kirche-Vilmnitz-2019-2500px-Foto-Burwitz-Pocha-68-e1630918624158.jpg
END:VEVENT
BEGIN:VEVENT
DTSTART;TZID=Europe/Berlin:20230825T193000
DTEND;TZID=Europe/Berlin:20230825T210000
DTSTAMP:20260426T055544
CREATED:20230714T160713Z
LAST-MODIFIED:20230714T160713Z
UID:10000773-1692991800-1692997200@kirche-putbus.de
SUMMARY:Sommerkonzert Kasnevitz: Lieder und Kammermusik
DESCRIPTION:Freitag\, 25. August | 19.30 Uhr \nERINNERUNG: Lieder und Kammermusik \nFreunde\, Weggefährten und Kolleg*innen von der Stuttgarter Musikhochschule kommen zusammen\, um mit einem Konzert an die Geigerin und Pädagogin Sabine Kraut zu erinnern\, die viele Jahre regelmäßig im Sommer auf Rügen musiziert und in über 30 Konzerten Menschen mit wunderbarer Musik und großer Leidenschaft in ihren Bann gezogen hat. \nEs erklingt Musik von J. S. Bach\, W. A. Mozart\, \nF. Schubert u.a.
URL:https://kirche-putbus.de/veranstaltung/sommerkonzert-kasnevitz-lieder-und-kammermusik/
LOCATION:St. Jakob Kasnevitz\, Dorfstrasse\, Putbus OT Kasnevitz\, M/V\, 18581\, Deutschland
CATEGORIES:Konzerte
ATTACH;FMTTYPE=image/jpeg:https://kirche-putbus.de/wp-content/uploads/2021/09/Kirche-Vilmnitz-2019-2500px-Foto-Burwitz-Pocha-68-e1630918624158.jpg
END:VEVENT
BEGIN:VEVENT
DTSTART;TZID=Europe/Berlin:20230827T090000
DTEND;TZID=Europe/Berlin:20230827T100000
DTSTAMP:20260426T055544
CREATED:20230805T082600Z
LAST-MODIFIED:20230805T082600Z
UID:10000789-1693126800-1693130400@kirche-putbus.de
SUMMARY:Abendmahlsgottesdienst in Kasnevitz: 12. Sonntag nach Trinitatis
DESCRIPTION:27. August\,  \n12. Sonntag nach Trinitatis \n9.00 Kasnevitz\, Abendmahlsgottesdienst \n10.30 Putbus\, Abendmahlsgottesdienst
URL:https://kirche-putbus.de/veranstaltung/abendmahlsgottesdienst-in-kasnevitz-12-sonntag-nach-trinitatis/
LOCATION:St. Jakob Kasnevitz\, Dorfstrasse\, Putbus OT Kasnevitz\, M/V\, 18581\, Deutschland
CATEGORIES:Gottesdienste
ATTACH;FMTTYPE=image/jpeg:https://kirche-putbus.de/wp-content/uploads/2021/09/Gottesdienst-img-e1630923533347.jpg
END:VEVENT
END:VCALENDAR