BEGIN:VCALENDAR
VERSION:2.0
PRODID:-//Kirchen zu Putbus - ECPv6.15.20//NONSGML v1.0//EN
CALSCALE:GREGORIAN
METHOD:PUBLISH
X-WR-CALNAME:Kirchen zu Putbus
X-ORIGINAL-URL:https://kirche-putbus.de
X-WR-CALDESC:Veranstaltungen für Kirchen zu Putbus
REFRESH-INTERVAL;VALUE=DURATION:PT1H
X-Robots-Tag:noindex
X-PUBLISHED-TTL:PT1H
BEGIN:VTIMEZONE
TZID:Europe/Berlin
BEGIN:DAYLIGHT
TZOFFSETFROM:+0100
TZOFFSETTO:+0200
TZNAME:CEST
DTSTART:20220327T010000
END:DAYLIGHT
BEGIN:STANDARD
TZOFFSETFROM:+0200
TZOFFSETTO:+0100
TZNAME:CET
DTSTART:20221030T010000
END:STANDARD
BEGIN:DAYLIGHT
TZOFFSETFROM:+0100
TZOFFSETTO:+0200
TZNAME:CEST
DTSTART:20230326T010000
END:DAYLIGHT
BEGIN:STANDARD
TZOFFSETFROM:+0200
TZOFFSETTO:+0100
TZNAME:CET
DTSTART:20231029T010000
END:STANDARD
BEGIN:DAYLIGHT
TZOFFSETFROM:+0100
TZOFFSETTO:+0200
TZNAME:CEST
DTSTART:20240331T010000
END:DAYLIGHT
BEGIN:STANDARD
TZOFFSETFROM:+0200
TZOFFSETTO:+0100
TZNAME:CET
DTSTART:20241027T010000
END:STANDARD
BEGIN:DAYLIGHT
TZOFFSETFROM:+0100
TZOFFSETTO:+0200
TZNAME:CEST
DTSTART:20250330T010000
END:DAYLIGHT
BEGIN:STANDARD
TZOFFSETFROM:+0200
TZOFFSETTO:+0100
TZNAME:CET
DTSTART:20251026T010000
END:STANDARD
END:VTIMEZONE
BEGIN:VEVENT
DTSTART;TZID=Europe/Berlin:20231202T133000
DTEND;TZID=Europe/Berlin:20231202T173000
DTSTAMP:20260423T203852
CREATED:20231107T184051Z
LAST-MODIFIED:20231107T184051Z
UID:10001331-1701523800-1701538200@kirche-putbus.de
SUMMARY:Adventsbasar am 2.12. in Putbus
DESCRIPTION:2. Dezember\, 13.30 Uhr Putbus\, Schlosskirche \n\nAm Vorabend des ersten Advents findet unser Adentsbasar in Putbus statt. \n13:30 Krippenspiel der Kita \n14:00 – 17:00 Marktstände mit vorweihnachtlicher Musik von M. Heidtmann\, Posaunenmusik und gemeinsamen Singen \n  \n 
URL:https://kirche-putbus.de/veranstaltung/adventsbasar-am-2-12-in-putbus/
LOCATION:Schlosskirche Putbus\, Alleestraße 34\, Putbus\, M/V\, 18581\, Deutschland
CATEGORIES:Sonstige Veranstaltungen
ATTACH;FMTTYPE=image/jpeg:https://kirche-putbus.de/wp-content/uploads/2023/11/cookies-2991174_1920-e1699382392774.jpg
END:VEVENT
BEGIN:VEVENT
DTSTART;TZID=Europe/Berlin:20231203T103000
DTEND;TZID=Europe/Berlin:20231203T113000
DTSTAMP:20260423T203852
CREATED:20231107T193351Z
LAST-MODIFIED:20231107T193351Z
UID:10001354-1701599400-1701603000@kirche-putbus.de
SUMMARY:Gottesdienst in Putbus: 1.Advent
DESCRIPTION:3. Dezember\, 1.Advent \n10.30 Uhr Putbus\, Gottesdienst  
URL:https://kirche-putbus.de/veranstaltung/gottesdienst-in-putbus-1-advent/
LOCATION:Schlosskirche Putbus\, Alleestraße 34\, Putbus\, M/V\, 18581\, Deutschland
CATEGORIES:Gottesdienste
ATTACH;FMTTYPE=image/jpeg:https://kirche-putbus.de/wp-content/uploads/2021/09/Gottesdienst-img-e1630923533347.jpg
END:VEVENT
BEGIN:VEVENT
DTSTART;TZID=Europe/Berlin:20231204T153000
DTEND;TZID=Europe/Berlin:20231204T163000
DTSTAMP:20260423T203852
CREATED:20230915T163029Z
LAST-MODIFIED:20230915T163029Z
UID:10001073-1701703800-1701707400@kirche-putbus.de
SUMMARY:Kinderkreis
DESCRIPTION:Kinderkreis: 1.-6. Klasse: montags von 15.30-16.30 Uhr \n(Abholung vom Hort um 15 Uhr möglich)\, Pfarramt Putbus
URL:https://kirche-putbus.de/veranstaltung/kinderkreis/2023-12-04/
LOCATION:Schlosskirche Putbus\, Alleestraße 34\, Putbus\, M/V\, 18581\, Deutschland
CATEGORIES:Gruppen und Kreise
ATTACH;FMTTYPE=image/jpeg:https://kirche-putbus.de/wp-content/uploads/2019/03/Krabbelgruppe-GuppenbildGarten-600x300.jpg
END:VEVENT
BEGIN:VEVENT
DTSTART;TZID=Europe/Berlin:20231206T190000
DTEND;TZID=Europe/Berlin:20231206T200000
DTSTAMP:20260423T203852
CREATED:20230707T042407Z
LAST-MODIFIED:20231107T185104Z
UID:10000526-1701889200-1701892800@kirche-putbus.de
SUMMARY:Chor in Kasnevitz
DESCRIPTION:Jeden Mittwoch um 19 Uhr treffen wir uns zum fröhlichen Singen im Dorfgemeinschaftshaus in Kasnevitz. Dabei widmen wir uns Liedern aus aller Welt\, Gospels\, Spirituals\, moderner und klassischer Kirchenmusik. Jeder\, der Freude am Singen hat\, ist willkommen! \nMusikalische Grüße\,\nKatja Wild\n 
URL:https://kirche-putbus.de/veranstaltung/chor-in-kasnevitz/2023-12-06/
LOCATION:Dorfgemeinschaftshaus Kasnevitz\, Dorfstrasse\, Putbus OT Kasnevitz\, 18581\, Deutschland
CATEGORIES:Gruppen und Kreise
ATTACH;FMTTYPE=image/jpeg:https://kirche-putbus.de/wp-content/uploads/2021/09/596724_original_R_by_Thomas-Fresia_pixelio.de_-scaled-e1631012965550.jpg
END:VEVENT
BEGIN:VEVENT
DTSTART;TZID=Europe/Berlin:20231210T103000
DTEND;TZID=Europe/Berlin:20231210T113000
DTSTAMP:20260423T203852
CREATED:20231211T153605Z
LAST-MODIFIED:20231211T153605Z
UID:10001360-1702204200-1702207800@kirche-putbus.de
SUMMARY:Gottesdienst in Putbus: 2. Advent
DESCRIPTION:10. Dezember\, 2. Advent \n10.30 Uhr Putbus\, Gottesdienst
URL:https://kirche-putbus.de/veranstaltung/gottesdienst-in-putbus-2-advent/
LOCATION:Schlosskirche Putbus\, Alleestraße 34\, Putbus\, M/V\, 18581\, Deutschland
CATEGORIES:Gottesdienste
ATTACH;FMTTYPE=image/jpeg:https://kirche-putbus.de/wp-content/uploads/2021/09/Gottesdienst-img-e1630923533347.jpg
END:VEVENT
BEGIN:VEVENT
DTSTART;TZID=Europe/Berlin:20231217T103000
DTEND;TZID=Europe/Berlin:20231217T113000
DTSTAMP:20260423T203852
CREATED:20231211T152854Z
LAST-MODIFIED:20231211T153544Z
UID:10001355-1702809000-1702812600@kirche-putbus.de
SUMMARY:Gottesdienst in Putbus: 3. Advent
DESCRIPTION:17. Dezember\, 2. Advent \n10.30 Uhr Putbus\, Gottesdienst
URL:https://kirche-putbus.de/veranstaltung/gottesdienst-in-putbus-3-advent/
LOCATION:Schlosskirche Putbus\, Alleestraße 34\, Putbus\, M/V\, 18581\, Deutschland
CATEGORIES:Gottesdienste
ATTACH;FMTTYPE=image/jpeg:https://kirche-putbus.de/wp-content/uploads/2021/09/Gottesdienst-img-e1630923533347.jpg
END:VEVENT
BEGIN:VEVENT
DTSTART;TZID=Europe/Berlin:20231224T143000
DTEND;TZID=Europe/Berlin:20231224T153000
DTSTAMP:20260423T203852
CREATED:20231211T152930Z
LAST-MODIFIED:20231211T153217Z
UID:10001356-1703428200-1703431800@kirche-putbus.de
SUMMARY:Christvesper mit Krippenspiel in Putbus: Heiligabend
DESCRIPTION:24. Dezember\, 4. Advent / Heiliger Abend \n14.30 Uhr Putbus\, Christvesper mit Krippenspiel \n16.00 Uhr Vilmnitz\, Christvesper mit Krippenspiel \n17.30 Uhr Kasnevitz\, Christvesper mit Krippenspiel \n22.00 Uhr Putbus\, Christnacht
URL:https://kirche-putbus.de/veranstaltung/christvesper-mit-krippenspiel-in-putbus-heiligabend/
LOCATION:Schlosskirche Putbus\, Alleestraße 34\, Putbus\, M/V\, 18581\, Deutschland
CATEGORIES:Gottesdienste
ATTACH;FMTTYPE=image/jpeg:https://kirche-putbus.de/wp-content/uploads/2021/09/Gottesdienst-img-e1630923533347.jpg
END:VEVENT
BEGIN:VEVENT
DTSTART;TZID=Europe/Berlin:20231224T160000
DTEND;TZID=Europe/Berlin:20231224T170000
DTSTAMP:20260423T203852
CREATED:20231211T153308Z
LAST-MODIFIED:20231211T153308Z
UID:10001357-1703433600-1703437200@kirche-putbus.de
SUMMARY:Christvesper mit Krippenspiel in Vilmnitz: Heiligabend
DESCRIPTION:24. Dezember\, 4. Advent / Heiliger Abend \n14.30 Uhr Putbus\, Christvesper mit Krippenspiel \n16.00 Uhr Vilmnitz\, Christvesper mit Krippenspiel \n17.30 Uhr Kasnevitz\, Christvesper mit Krippenspiel \n22.00 Uhr Putbus\, Christnacht
URL:https://kirche-putbus.de/veranstaltung/christvesper-mit-krippenspiel-in-vilmnitz-heiligabend/
LOCATION:St. Maria Magdalena Vilmnitz\, Alte Bäderstraße 2\, Putbus OT Vilmnitz\, M/V\, 18581\, Deutschland
CATEGORIES:Gottesdienste
ATTACH;FMTTYPE=image/jpeg:https://kirche-putbus.de/wp-content/uploads/2021/09/Gottesdienst-img-e1630923533347.jpg
END:VEVENT
BEGIN:VEVENT
DTSTART;TZID=Europe/Berlin:20231224T173000
DTEND;TZID=Europe/Berlin:20231224T183000
DTSTAMP:20260423T203852
CREATED:20231211T153342Z
LAST-MODIFIED:20231211T153342Z
UID:10001358-1703439000-1703442600@kirche-putbus.de
SUMMARY:Christvesper mit Krippenspiel in Kasnevitz: Heiligabend
DESCRIPTION:24. Dezember\, 4. Advent / Heiliger Abend \n14.30 Uhr Putbus\, Christvesper mit Krippenspiel \n16.00 Uhr Vilmnitz\, Christvesper mit Krippenspiel \n17.30 Uhr Kasnevitz\, Christvesper mit Krippenspiel \n22.00 Uhr Putbus\, Christnacht
URL:https://kirche-putbus.de/veranstaltung/christvesper-mit-krippenspiel-in-kasnevitz-heiligabend/
LOCATION:St. Jakob Kasnevitz\, Dorfstrasse\, Putbus OT Kasnevitz\, M/V\, 18581\, Deutschland
CATEGORIES:Gottesdienste
ATTACH;FMTTYPE=image/jpeg:https://kirche-putbus.de/wp-content/uploads/2021/09/Gottesdienst-img-e1630923533347.jpg
END:VEVENT
BEGIN:VEVENT
DTSTART;TZID=Europe/Berlin:20231224T220000
DTEND;TZID=Europe/Berlin:20231224T223000
DTSTAMP:20260423T203852
CREATED:20231211T153433Z
LAST-MODIFIED:20231211T153433Z
UID:10001359-1703455200-1703457000@kirche-putbus.de
SUMMARY:Christnacht in Putbus: Heiligabend
DESCRIPTION:24. Dezember\, 4. Advent / Heiliger Abend \n14.30 Uhr Putbus\, Christvesper mit Krippenspiel \n16.00 Uhr Vilmnitz\, Christvesper mit Krippenspiel \n17.30 Uhr Kasnevitz\, Christvesper mit Krippenspiel \n22.00 Uhr Putbus\, Christnacht
URL:https://kirche-putbus.de/veranstaltung/christnacht-in-putbus-heiligabend/
LOCATION:Schlosskirche Putbus\, Alleestraße 34\, Putbus\, M/V\, 18581\, Deutschland
CATEGORIES:Gottesdienste
ATTACH;FMTTYPE=image/jpeg:https://kirche-putbus.de/wp-content/uploads/2021/09/Gottesdienst-img-e1630923533347.jpg
END:VEVENT
BEGIN:VEVENT
DTSTART;TZID=Europe/Berlin:20231226T090000
DTEND;TZID=Europe/Berlin:20231226T100000
DTSTAMP:20260423T203852
CREATED:20231211T153755Z
LAST-MODIFIED:20231211T153755Z
UID:10001361-1703581200-1703584800@kirche-putbus.de
SUMMARY:Gottesdienst in Vilmnitz: 2. Christfesttag
DESCRIPTION:26. Dezember\, 2. Christfesttag \n9.00 Uhr Vilmnitz\, Gottesdienst \n10.30 Uhr Kasnevitz\, Gottesdienst
URL:https://kirche-putbus.de/veranstaltung/gottesdienst-in-vilmnitz-2-christfesttag/
LOCATION:St. Maria Magdalena Vilmnitz\, Alte Bäderstraße 2\, Putbus OT Vilmnitz\, M/V\, 18581\, Deutschland
CATEGORIES:Gottesdienste
ATTACH;FMTTYPE=image/jpeg:https://kirche-putbus.de/wp-content/uploads/2021/09/Gottesdienst-img-e1630923533347.jpg
END:VEVENT
BEGIN:VEVENT
DTSTART;TZID=Europe/Berlin:20231226T103000
DTEND;TZID=Europe/Berlin:20231226T113000
DTSTAMP:20260423T203852
CREATED:20231211T153834Z
LAST-MODIFIED:20231211T153834Z
UID:10001362-1703586600-1703590200@kirche-putbus.de
SUMMARY:Gottesdienst in Kasnevitz: 2. Christfesttag
DESCRIPTION:26. Dezember\, 2. Christfesttag \n9.00 Uhr Vilmnitz\, Gottesdienst \n10.30 Uhr Kasnevitz\, Gottesdienst
URL:https://kirche-putbus.de/veranstaltung/gottesdienst-in-kasnevitz-2-christfesttag/
LOCATION:St. Jakob Kasnevitz\, Dorfstrasse\, Putbus OT Kasnevitz\, M/V\, 18581\, Deutschland
CATEGORIES:Gottesdienste
ATTACH;FMTTYPE=image/jpeg:https://kirche-putbus.de/wp-content/uploads/2021/09/Gottesdienst-img-e1630923533347.jpg
END:VEVENT
BEGIN:VEVENT
DTSTART;TZID=Europe/Berlin:20231231T143000
DTEND;TZID=Europe/Berlin:20231231T153000
DTSTAMP:20260423T203852
CREATED:20231211T154018Z
LAST-MODIFIED:20231211T154047Z
UID:10001363-1704033000-1704036600@kirche-putbus.de
SUMMARY:Andacht mit Abendmahl in Putbus: Altjahrsabend
DESCRIPTION:31. Dezember\, Altjahrsabend \n14.30 Uhr Putbus\, Andacht mit Abendmahl \n16.00 Uhr Kasnevitz\, Andacht mit Abendmahl \n17.30 Uhr Vilmnitz\, Andacht mit Abendmahl
URL:https://kirche-putbus.de/veranstaltung/andacht-mit-abendmahl-in-putbus-altjahrsabend/
LOCATION:Schlosskirche Putbus\, Alleestraße 34\, Putbus\, M/V\, 18581\, Deutschland
CATEGORIES:Gottesdienste
ATTACH;FMTTYPE=image/jpeg:https://kirche-putbus.de/wp-content/uploads/2021/09/Gottesdienst-img-e1630923533347.jpg
END:VEVENT
BEGIN:VEVENT
DTSTART;TZID=Europe/Berlin:20231231T160000
DTEND;TZID=Europe/Berlin:20231231T170000
DTSTAMP:20260423T203852
CREATED:20231211T154307Z
LAST-MODIFIED:20231211T154307Z
UID:10001365-1704038400-1704042000@kirche-putbus.de
SUMMARY:Andacht mit Abendmahl in Kasnevitz: Altjahrsabend
DESCRIPTION:31. Dezember\, Altjahrsabend \n14.30 Uhr Putbus\, Andacht mit Abendmahl \n16.00 Uhr Kasnevitz\, Andacht mit Abendmahl \n17.30 Uhr Vilmnitz\, Andacht mit Abendmahl
URL:https://kirche-putbus.de/veranstaltung/andacht-mit-abendmahl-in-kasnevitz-altjahrsabend-2/
LOCATION:St. Jakob Kasnevitz\, Dorfstrasse\, Putbus OT Kasnevitz\, M/V\, 18581\, Deutschland
CATEGORIES:Gottesdienste
ATTACH;FMTTYPE=image/jpeg:https://kirche-putbus.de/wp-content/uploads/2021/09/Gottesdienst-img-e1630923533347.jpg
END:VEVENT
BEGIN:VEVENT
DTSTART;TZID=Europe/Berlin:20231231T173000
DTEND;TZID=Europe/Berlin:20231231T183000
DTSTAMP:20260423T203852
CREATED:20231211T154114Z
LAST-MODIFIED:20231211T154142Z
UID:10001364-1704043800-1704047400@kirche-putbus.de
SUMMARY:Andacht mit Abendmahl in Vilmnitz: Altjahrsabend
DESCRIPTION:31. Dezember\, Altjahrsabend \n14.30 Uhr Putbus\, Andacht mit Abendmahl \n16.00 Uhr Kasnevitz\, Andacht mit Abendmahl \n17.30 Uhr Vilmnitz\, Andacht mit Abendmahl
URL:https://kirche-putbus.de/veranstaltung/andacht-mit-abendmahl-in-kasnevitz-altjahrsabend/
LOCATION:St. Maria Magdalena Vilmnitz\, Alte Bäderstraße 2\, Putbus OT Vilmnitz\, M/V\, 18581\, Deutschland
CATEGORIES:Gottesdienste
ATTACH;FMTTYPE=image/jpeg:https://kirche-putbus.de/wp-content/uploads/2021/09/Gottesdienst-img-e1630923533347.jpg
END:VEVENT
BEGIN:VEVENT
DTSTART;TZID=Europe/Berlin:20240121T103000
DTEND;TZID=Europe/Berlin:20240121T113000
DTSTAMP:20260423T203852
CREATED:20240121T091902Z
LAST-MODIFIED:20240121T091902Z
UID:10001366-1705833000-1705836600@kirche-putbus.de
SUMMARY:Gottesdienst in Vilmnitz: 3. Sonntag nach Epiphanias
DESCRIPTION:21.01. 3. Sonntag nach Epiphanias \n10.30 Uhr Vilmnitz
URL:https://kirche-putbus.de/veranstaltung/gottesdienst-in-vilmnitz-3-sonntag-nach-epiphanias/
LOCATION:St. Maria Magdalena Vilmnitz\, Alte Bäderstraße 2\, Putbus OT Vilmnitz\, M/V\, 18581\, Deutschland
CATEGORIES:Gottesdienste
ATTACH;FMTTYPE=image/jpeg:https://kirche-putbus.de/wp-content/uploads/2021/09/Gottesdienst-img-e1630923533347.jpg
END:VEVENT
BEGIN:VEVENT
DTSTART;TZID=Europe/Berlin:20240126T173000
DTEND;TZID=Europe/Berlin:20240126T203000
DTSTAMP:20260423T203852
CREATED:20240121T094853Z
LAST-MODIFIED:20240121T094853Z
UID:10001370-1706290200-1706301000@kirche-putbus.de
SUMMARY:Kinderkirchenkino in Kasnevitz
DESCRIPTION:Kinderkirchenkino ab 6 Jahren: \nFreitag\, 26.01. von 17.30-20.30 Uhr\, Dorfhaus Kasnevitz
URL:https://kirche-putbus.de/veranstaltung/kinderkirchenkino-in-kasnevitz/
LOCATION:Dorfgemeinschaftshaus Kasnevitz\, Dorfstrasse\, Putbus OT Kasnevitz\, 18581\, Deutschland
CATEGORIES:Sonstige Veranstaltungen
ATTACH;FMTTYPE=image/png:https://kirche-putbus.de/wp-content/uploads/2024/01/film-162029_1280-e1705830454516.png
END:VEVENT
BEGIN:VEVENT
DTSTART;TZID=Europe/Berlin:20240128T103000
DTEND;TZID=Europe/Berlin:20240128T113000
DTSTAMP:20260423T203852
CREATED:20240121T092005Z
LAST-MODIFIED:20240121T092005Z
UID:10001367-1706437800-1706441400@kirche-putbus.de
SUMMARY:Gottesdienst in Putbus: letzter Sonntag nach Epiphanias
DESCRIPTION:28.01. Letzter Sonntag nach Epiphanias \n10.30 Uhr Putbus
URL:https://kirche-putbus.de/veranstaltung/gottesdienst-in-putbus-letzter-sonntag-nach-epiphanias/
LOCATION:Schlosskirche Putbus\, Alleestraße 34\, Putbus\, M/V\, 18581\, Deutschland
CATEGORIES:Gottesdienste
ATTACH;FMTTYPE=image/jpeg:https://kirche-putbus.de/wp-content/uploads/2021/09/Gottesdienst-img-e1630923533347.jpg
END:VEVENT
BEGIN:VEVENT
DTSTART;TZID=Europe/Berlin:20240131T150000
DTEND;TZID=Europe/Berlin:20240131T163000
DTSTAMP:20260423T203852
CREATED:20240121T093652Z
LAST-MODIFIED:20240121T093652Z
UID:10001369-1706713200-1706718600@kirche-putbus.de
SUMMARY:Eltern-Kind-Singen in Kasnevitz
DESCRIPTION:Eltern-Kind-Singen: \n17. 01. und 31.01. von 15.00-16.30 Uhr\, \nDorfhaus Kasnevitz
URL:https://kirche-putbus.de/veranstaltung/eltern-kind-singen-in-kasnevitz-2/
LOCATION:Dorfgemeinschaftshaus Kasnevitz\, Dorfstrasse\, Putbus OT Kasnevitz\, 18581\, Deutschland
CATEGORIES:Gruppen und Kreise,Sonstige Veranstaltungen
ATTACH;FMTTYPE=image/jpeg:https://kirche-putbus.de/wp-content/uploads/2024/01/singing-18438_1920-e1705829783603.jpg
END:VEVENT
BEGIN:VEVENT
DTSTART;TZID=Europe/Berlin:20240202T190000
DTEND;TZID=Europe/Berlin:20240202T193000
DTSTAMP:20260423T203852
CREATED:20240121T092301Z
LAST-MODIFIED:20240121T092301Z
UID:10001368-1706900400-1706902200@kirche-putbus.de
SUMMARY:Taizé-Andacht in Putbus: Maria Lichtmess
DESCRIPTION:Taizé-Andacht zu Maria Lichtmess\, \n02.02. um 19.00 Uhr\, \nMichaelskapelle Putbus
URL:https://kirche-putbus.de/veranstaltung/taize-andacht-in-putbus-maria-lichtmess/
LOCATION:Schlosskirche Putbus\, Alleestraße 34\, Putbus\, M/V\, 18581\, Deutschland
CATEGORIES:Gottesdienste,Sonstige Veranstaltungen
ATTACH;FMTTYPE=image/jpeg:https://kirche-putbus.de/wp-content/uploads/2021/09/candlelight-3612508_1280-e1631177117760.jpg
END:VEVENT
BEGIN:VEVENT
DTSTART;TZID=Europe/Berlin:20240204T103000
DTEND;TZID=Europe/Berlin:20240204T113000
DTSTAMP:20260423T203852
CREATED:20240130T144746Z
LAST-MODIFIED:20240130T144746Z
UID:10001371-1707042600-1707046200@kirche-putbus.de
SUMMARY:Gottesdienst in Kasnevitz: Sexagesimae
DESCRIPTION:04.02. Sexagesimae Gottesdienst\n10.30 Uhr\nDorfhaus Kasnevitz
URL:https://kirche-putbus.de/veranstaltung/gottesdienst-in-kasnevitz-sexagesimae/
LOCATION:Dorfgemeinschaftshaus Kasnevitz\, Dorfstrasse\, Putbus OT Kasnevitz\, 18581\, Deutschland
CATEGORIES:Gottesdienste
ATTACH;FMTTYPE=image/jpeg:https://kirche-putbus.de/wp-content/uploads/2021/09/Gottesdienst-img-e1630923533347.jpg
END:VEVENT
BEGIN:VEVENT
DTSTART;TZID=Europe/Berlin:20240211T103000
DTEND;TZID=Europe/Berlin:20240211T113000
DTSTAMP:20260423T203852
CREATED:20240130T144835Z
LAST-MODIFIED:20240130T144835Z
UID:10001372-1707647400-1707651000@kirche-putbus.de
SUMMARY:Gottesdienst in Vilmnitz: Estomihi
DESCRIPTION:11.02. Estomihi\nGottesdienst 10.30 Uhr\nPfarrhaus Vilmnitz
URL:https://kirche-putbus.de/veranstaltung/gottesdienst-in-vilmnitz-estomihi/
LOCATION:Pfarrhaus Vilmnitz\, Alte Bäderstraße 1\, Putbus OT Vilmnitz\, 18581\, Deutschland
CATEGORIES:Gottesdienste
ATTACH;FMTTYPE=image/jpeg:https://kirche-putbus.de/wp-content/uploads/2021/09/Gottesdienst-img-e1630923533347.jpg
END:VEVENT
BEGIN:VEVENT
DTSTART;TZID=Europe/Berlin:20240214T190000
DTEND;TZID=Europe/Berlin:20240214T200000
DTSTAMP:20260423T203852
CREATED:20240130T145027Z
LAST-MODIFIED:20240130T145046Z
UID:10001373-1707937200-1707940800@kirche-putbus.de
SUMMARY:Taizé-Andacht in Putbus: Aschermittwoch
DESCRIPTION:14.02. Aschermittwoch\nTaizé-Andacht 19.00 Uhr\nMichaelskapelle Putbus
URL:https://kirche-putbus.de/veranstaltung/taize-andacht-in-putbus-aschermittwoch/
LOCATION:Schlosskirche Putbus\, Alleestraße 34\, Putbus\, M/V\, 18581\, Deutschland
CATEGORIES:Gottesdienste,Sonstige Veranstaltungen
ATTACH;FMTTYPE=image/jpeg:https://kirche-putbus.de/wp-content/uploads/2021/09/candlelight-3612508_1280-e1631177117760.jpg
END:VEVENT
BEGIN:VEVENT
DTSTART;TZID=Europe/Berlin:20240218T103000
DTEND;TZID=Europe/Berlin:20240218T113000
DTSTAMP:20260423T203852
CREATED:20240130T145202Z
LAST-MODIFIED:20240130T145202Z
UID:10001374-1708252200-1708255800@kirche-putbus.de
SUMMARY:Gottesdienst in Putbus: Invokavit
DESCRIPTION:18.02. Invokavit\nGottesdienst 10.30 Uhr\nMichaelskapelle Putbus
URL:https://kirche-putbus.de/veranstaltung/gottesdienst-in-putbus-invokavit/
LOCATION:Schlosskirche Putbus\, Alleestraße 34\, Putbus\, M/V\, 18581\, Deutschland
CATEGORIES:Gottesdienste
ATTACH;FMTTYPE=image/jpeg:https://kirche-putbus.de/wp-content/uploads/2021/09/Gottesdienst-img-e1630923533347.jpg
END:VEVENT
BEGIN:VEVENT
DTSTART;TZID=Europe/Berlin:20240225T103000
DTEND;TZID=Europe/Berlin:20240225T113000
DTSTAMP:20260423T203852
CREATED:20240130T145304Z
LAST-MODIFIED:20240130T145304Z
UID:10001375-1708857000-1708860600@kirche-putbus.de
SUMMARY:Abendmahlgottesdienst in Kasnevitz: Reminiszere
DESCRIPTION:25.02. Reminiszere\nGottesdienst 10.30 Uhr mit Abendmahl\nDorfhaus Kasnevitz
URL:https://kirche-putbus.de/veranstaltung/abendmahlgottesdienst-in-kasnevitz-reminiszere/
LOCATION:Dorfgemeinschaftshaus Kasnevitz\, Dorfstrasse\, Putbus OT Kasnevitz\, 18581\, Deutschland
CATEGORIES:Gottesdienste
ATTACH;FMTTYPE=image/jpeg:https://kirche-putbus.de/wp-content/uploads/2021/09/Gottesdienst-img-e1630923533347.jpg
END:VEVENT
BEGIN:VEVENT
DTSTART;TZID=Europe/Berlin:20240317T103000
DTEND;TZID=Europe/Berlin:20240317T113000
DTSTAMP:20260423T203852
CREATED:20240316T205144Z
LAST-MODIFIED:20240316T205144Z
UID:10001376-1710671400-1710675000@kirche-putbus.de
SUMMARY:Gottesdienst in Vilmnitz: Judika
DESCRIPTION:17.03. Judika\nGottesdienst\n10.30 Uhr Vilmnitz 
URL:https://kirche-putbus.de/veranstaltung/gottesdienst-in-vilmnitz-judika/
LOCATION:Pfarrhaus Vilmnitz\, Alte Bäderstraße 1\, Putbus OT Vilmnitz\, 18581\, Deutschland
CATEGORIES:Gottesdienste
ATTACH;FMTTYPE=image/jpeg:https://kirche-putbus.de/wp-content/uploads/2021/09/Gottesdienst-img-e1630923533347.jpg
END:VEVENT
BEGIN:VEVENT
DTSTART;TZID=Europe/Berlin:20240324T103000
DTEND;TZID=Europe/Berlin:20240324T113000
DTSTAMP:20260423T203852
CREATED:20240316T205306Z
LAST-MODIFIED:20240316T205306Z
UID:10001377-1711276200-1711279800@kirche-putbus.de
SUMMARY:Gottesdienst in Kasnevitz: Palmsonntag
DESCRIPTION: 24.03. Palmsonntag\nGottesdienst\n10.30 Uhr Kasnevitz 
URL:https://kirche-putbus.de/veranstaltung/gottesdienst-in-kasnevitz-palmsonntag/
LOCATION:Dorfgemeinschaftshaus Kasnevitz\, Dorfstrasse\, Putbus OT Kasnevitz\, 18581\, Deutschland
CATEGORIES:Gottesdienste
ATTACH;FMTTYPE=image/jpeg:https://kirche-putbus.de/wp-content/uploads/2021/09/Gottesdienst-img-e1630923533347.jpg
END:VEVENT
BEGIN:VEVENT
DTSTART;TZID=Europe/Berlin:20240328T190000
DTEND;TZID=Europe/Berlin:20240328T200000
DTSTAMP:20260423T203852
CREATED:20240316T205433Z
LAST-MODIFIED:20240327T091158Z
UID:10001378-1711652400-1711656000@kirche-putbus.de
SUMMARY:Gottesdienst mit Tischabendmahl in Putbus: Gründonnerstag
DESCRIPTION: 28.03. Gründonnerstag\nTischabendmahl\n19.00 Uhr Putbus 
URL:https://kirche-putbus.de/veranstaltung/gottesdienst-mit-tischabendmahl-in-putbus-gruendonnerstag/
LOCATION:Schlosskirche Putbus\, Alleestraße 34\, Putbus\, M/V\, 18581\, Deutschland
CATEGORIES:Gottesdienste
ATTACH;FMTTYPE=image/jpeg:https://kirche-putbus.de/wp-content/uploads/2021/09/Gottesdienst-img-e1630923533347.jpg
END:VEVENT
BEGIN:VEVENT
DTSTART;TZID=Europe/Berlin:20240329T150000
DTEND;TZID=Europe/Berlin:20240329T160000
DTSTAMP:20260423T203852
CREATED:20240316T205631Z
LAST-MODIFIED:20240316T205631Z
UID:10001379-1711724400-1711728000@kirche-putbus.de
SUMMARY:Andacht zur Sterbestunde in Vilmnitz: Karfreitag
DESCRIPTION: 29.03. Karfreitag\nAndacht zur Sterbestunde\n15.00 Uhr Vilmnitz 
URL:https://kirche-putbus.de/veranstaltung/andacht-zur-sterbestunde-in-vilmnitz-karfreitag/
LOCATION:St. Maria Magdalena Vilmnitz\, Alte Bäderstraße 2\, Putbus OT Vilmnitz\, M/V\, 18581\, Deutschland
CATEGORIES:Gottesdienste
ATTACH;FMTTYPE=image/jpeg:https://kirche-putbus.de/wp-content/uploads/2021/09/Gottesdienst-img-e1630923533347.jpg
END:VEVENT
BEGIN:VEVENT
DTSTART;TZID=Europe/Berlin:20240329T180000
DTEND;TZID=Europe/Berlin:20240329T190000
DTSTAMP:20260423T203852
CREATED:20240319T201703Z
LAST-MODIFIED:20240321T161922Z
UID:10001388-1711735200-1711738800@kirche-putbus.de
SUMMARY:Passionsmusik in Kasnevitz
DESCRIPTION:
URL:https://kirche-putbus.de/veranstaltung/passionsmusik-in-kasnevitz/
LOCATION:St. Jakob Kasnevitz\, Dorfstrasse\, Putbus OT Kasnevitz\, M/V\, 18581\, Deutschland
CATEGORIES:Konzerte
ATTACH;FMTTYPE=image/jpeg:https://kirche-putbus.de/wp-content/uploads/2021/09/Kirche-Vilmnitz-2019-2500px-Foto-Burwitz-Pocha-68-e1630918624158.jpg
END:VEVENT
END:VCALENDAR